BEGIN:VCALENDAR
VERSION:2.0
PRODID:-//Beth Torah Congregation - ECPv6.15.20//NONSGML v1.0//EN
CALSCALE:GREGORIAN
METHOD:PUBLISH
X-ORIGINAL-URL:https://bethtorah.ca
X-WR-CALDESC:Events for Beth Torah Congregation
REFRESH-INTERVAL;VALUE=DURATION:PT1H
X-Robots-Tag:noindex
X-PUBLISHED-TTL:PT1H
BEGIN:VTIMEZONE
TZID:America/Toronto
BEGIN:DAYLIGHT
TZOFFSETFROM:-0500
TZOFFSETTO:-0400
TZNAME:EDT
DTSTART:20230312T070000
END:DAYLIGHT
BEGIN:STANDARD
TZOFFSETFROM:-0400
TZOFFSETTO:-0500
TZNAME:EST
DTSTART:20231105T060000
END:STANDARD
BEGIN:DAYLIGHT
TZOFFSETFROM:-0500
TZOFFSETTO:-0400
TZNAME:EDT
DTSTART:20240310T070000
END:DAYLIGHT
BEGIN:STANDARD
TZOFFSETFROM:-0400
TZOFFSETTO:-0500
TZNAME:EST
DTSTART:20241103T060000
END:STANDARD
BEGIN:DAYLIGHT
TZOFFSETFROM:-0500
TZOFFSETTO:-0400
TZNAME:EDT
DTSTART:20250309T070000
END:DAYLIGHT
BEGIN:STANDARD
TZOFFSETFROM:-0400
TZOFFSETTO:-0500
TZNAME:EST
DTSTART:20251102T060000
END:STANDARD
END:VTIMEZONE
BEGIN:VEVENT
DTSTART;TZID=America/Toronto:20241215T110000
DTEND;TZID=America/Toronto:20241215T140000
DTSTAMP:20260423T182937
CREATED:20241126T171553Z
LAST-MODIFIED:20241202T141037Z
UID:52711-1734260400-1734271200@bethtorah.ca
SUMMARY:Hanukkah Bash 2024!
DESCRIPTION:Join us at Beth Torah Congregation on Sunday\, December 15th\, 2024 at 11:00 a.m. for our annual Hanukkah bash!\nThe bash will be from 11:00 a.m. – 2:00 p.m. with lunch available to purchase. Magic show at 11:30 a.m. with Aaron Matthews Magic. Inflatables\, cookie decorating & fun to follow! We are going to have a LATKE fun and can’t wait to see you there!Registration required: https://www.bethtorahto.ca/form/hb2024.htmlREGISTER BY DECEMBER 8TH FOR 18% OFF WITH CODE: ETJBTPopcorn and cotton candy included with each ticket.Questions? Email jess@bethtorah.ca or call 416-782-4495. 
URL:https://bethtorah.ca/event/hanukkah-bash-2024/
ATTACH;FMTTYPE=image/jpeg:https://bethtorah.ca/wp-content/uploads/Banner-for-Hanukkah-Form-2024.jpg
END:VEVENT
END:VCALENDAR