BEGIN:VCALENDAR
VERSION:2.0
PRODID:-//Beth Torah Congregation - ECPv6.15.20//NONSGML v1.0//EN
CALSCALE:GREGORIAN
METHOD:PUBLISH
X-WR-CALNAME:Beth Torah Congregation
X-ORIGINAL-URL:https://bethtorah.ca
X-WR-CALDESC:Events for Beth Torah Congregation
REFRESH-INTERVAL;VALUE=DURATION:PT1H
X-Robots-Tag:noindex
X-PUBLISHED-TTL:PT1H
BEGIN:VTIMEZONE
TZID:America/Toronto
BEGIN:DAYLIGHT
TZOFFSETFROM:-0500
TZOFFSETTO:-0400
TZNAME:EDT
DTSTART:20230312T070000
END:DAYLIGHT
BEGIN:STANDARD
TZOFFSETFROM:-0400
TZOFFSETTO:-0500
TZNAME:EST
DTSTART:20231105T060000
END:STANDARD
BEGIN:DAYLIGHT
TZOFFSETFROM:-0500
TZOFFSETTO:-0400
TZNAME:EDT
DTSTART:20240310T070000
END:DAYLIGHT
BEGIN:STANDARD
TZOFFSETFROM:-0400
TZOFFSETTO:-0500
TZNAME:EST
DTSTART:20241103T060000
END:STANDARD
BEGIN:DAYLIGHT
TZOFFSETFROM:-0500
TZOFFSETTO:-0400
TZNAME:EDT
DTSTART:20250309T070000
END:DAYLIGHT
BEGIN:STANDARD
TZOFFSETFROM:-0400
TZOFFSETTO:-0500
TZNAME:EST
DTSTART:20251102T060000
END:STANDARD
END:VTIMEZONE
BEGIN:VEVENT
DTSTART;TZID=America/Toronto:20240820T190000
DTEND;TZID=America/Toronto:20240820T210000
DTSTAMP:20260424T004221
CREATED:20240815T153118Z
LAST-MODIFIED:20240815T160932Z
UID:52410-1724180400-1724187600@bethtorah.ca
SUMMARY:IVOW Party & Dinner
DESCRIPTION:Calling all Beth Torah members between the ages of 12 to14\, on August 20th\, 2024 @ 7:00 pm at Beth Torah Synagogue; \nPlease join us and the Magen Group to celebrate Fun & Togetherness with IVOW\, a great party and dinner. We are celebrating the B’nai Mitzvah for 130 Israeli youth ages 13 and 14 years old who have been affected by war and terrorism. These Israeli youth had the unique opportunity to attend a three-week Montreal area camp and an exciting and meaningful week of activities in Montreal\, Ottawa\, and Toronto\, ending with our big Am Yisrael Chai B’nai Mitzvah party before returning home to Israel. \nRSVP IS MANDATORY FOR ENTRY\, PLEASE EMAIL ELANA@BETHTORAH.CA TO RVSP.
URL:https://bethtorah.ca/event/ivow-party-dinner/
LOCATION:47 Glenbrook Avenue\, 47 Glenbrook Avenue\, Toronto\, Ontario\, M6B 2L7\, Canada
ATTACH;FMTTYPE=image/jpeg:https://bethtorah.ca/wp-content/uploads/IVOW-FLYER-3-1.jpg
END:VEVENT
END:VCALENDAR