BEGIN:VCALENDAR
VERSION:2.0
PRODID:-//Beth Torah Congregation - ECPv6.15.20//NONSGML v1.0//EN
CALSCALE:GREGORIAN
METHOD:PUBLISH
X-WR-CALNAME:Beth Torah Congregation
X-ORIGINAL-URL:https://bethtorah.ca
X-WR-CALDESC:Events for Beth Torah Congregation
REFRESH-INTERVAL;VALUE=DURATION:PT1H
X-Robots-Tag:noindex
X-PUBLISHED-TTL:PT1H
BEGIN:VTIMEZONE
TZID:America/Toronto
BEGIN:DAYLIGHT
TZOFFSETFROM:-0500
TZOFFSETTO:-0400
TZNAME:EDT
DTSTART:20230312T070000
END:DAYLIGHT
BEGIN:STANDARD
TZOFFSETFROM:-0400
TZOFFSETTO:-0500
TZNAME:EST
DTSTART:20231105T060000
END:STANDARD
BEGIN:DAYLIGHT
TZOFFSETFROM:-0500
TZOFFSETTO:-0400
TZNAME:EDT
DTSTART:20240310T070000
END:DAYLIGHT
BEGIN:STANDARD
TZOFFSETFROM:-0400
TZOFFSETTO:-0500
TZNAME:EST
DTSTART:20241103T060000
END:STANDARD
BEGIN:DAYLIGHT
TZOFFSETFROM:-0500
TZOFFSETTO:-0400
TZNAME:EDT
DTSTART:20250309T070000
END:DAYLIGHT
BEGIN:STANDARD
TZOFFSETFROM:-0400
TZOFFSETTO:-0500
TZNAME:EST
DTSTART:20251102T060000
END:STANDARD
END:VTIMEZONE
BEGIN:VEVENT
DTSTART;TZID=America/Toronto:20240505T130000
DTEND;TZID=America/Toronto:20240505T143000
DTSTAMP:20260424T051204
CREATED:20240501T175328Z
LAST-MODIFIED:20240501T182039Z
UID:52186-1714914000-1714919400@bethtorah.ca
SUMMARY:Rally to Stand with Students
DESCRIPTION:On May 5\, Canadian Women Against Antisemitism (CWAA) will host a rally in support of students across Canada. No doubt\, looking around the world today\, you have noticed that university campuses are hotspots for flaring tensions around Israel and Gaza and eruptions of antisemitism. \nAs temperatures rise\, and campus occupations in support of Gaza\, it has become increasingly important for the Jewish community to support students who feel pressured\, attacked\, and targeted by their faculty and fellow students. \nIt is important to show up and support the next generation of our Jewish community\, especially those courageous young people who will put themselves at risk by telling us about their lived experiences on university campuses\, here in Canada\, today. \nOur allies at Hillel of Ontario are working with CWAA to make sure that this rally is safe\, productive\, and reflects the breadth of experiences across Canadian campuses. \nThe location of the rally will be announced closer to the date. \nRegistration is required to receive further information. \nRegister
URL:https://bethtorah.ca/event/rally-to-stand-with-students/
ATTACH;FMTTYPE=image/jpeg:https://bethtorah.ca/wp-content/uploads/438254495_122137360730205622_2823838028774529864_n-copy.jpg
END:VEVENT
BEGIN:VEVENT
DTSTART;TZID=America/Toronto:20240521T180000
DTEND;TZID=America/Toronto:20240521T193000
DTSTAMP:20260424T051204
CREATED:20240506T133750Z
LAST-MODIFIED:20240506T133750Z
UID:52192-1716314400-1716319800@bethtorah.ca
SUMMARY:Art for Healing: Creating Collage
DESCRIPTION:Art for Healing: Creating Collage\nTuesday\, May 21st @ 6:00 p.m. \nBeth Torah is excited to continue our programming with Art Therapist in Training Sara Flicht for adults. \nIn a challenging time for the Jewish Community in Toronto and abroad\, Sara will be leading a series of monthly art for healing workshops. This group will be a way to connect with others while creating art in a safe and comforting setting\, grappling with contemporary issues an exploring their Judaism. No prior art experience is required. \nWear comfortable clothes you don’t mind getting a bit messy! \nRegister Here
URL:https://bethtorah.ca/event/art-for-healing-creating-collage/
ATTACH;FMTTYPE=image/jpeg:https://bethtorah.ca/wp-content/uploads/Art-For-Healing-Poster-for-Bulletin-16-x-9-in-8.5-x-5.5-in-1.jpg
END:VEVENT
BEGIN:VEVENT
DTSTART;TZID=America/Toronto:20240525T093000
DTEND;TZID=America/Toronto:20240525T123000
DTSTAMP:20260424T051204
CREATED:20240516T222121Z
LAST-MODIFIED:20240516T222302Z
UID:52207-1716629400-1716640200@bethtorah.ca
SUMMARY:Broadway Shabbat
DESCRIPTION:Broadway Shabbat\nSaturday\, May 25 | 9:30 a.m. – At Beth Torah \nBeth Torah and the Song Shul are coming together for a one-of-a-kind musical and memorable Shabbat service! \nFeaturing Rabbi Louis Sachs\, World-renowned Cantor Simon Spiro\, The Toronto Festival Singers\, Aliza Spiro and Cantor Steve Zeidenberg \nThis is an event you don’t want to miss! \nDavening Schedule:\n9:30 a.m: Psukei D’Zimrah/Shacharit\, led by Cantor Steve Zeidenberg\n10:00 a.m: Torah Service\, led by Cantor Simon Spiro and the Toronto Festival Singers\n10:45 a.m: Choral Misheberach for the State of Israel\n11:00 a.m: Musaf\, featuring iconic Broadway melodies with stunning a cappella arrangements for you to sing along\, led by Cantor Simon Spiro and the TFS\n11:25 p.m: Stacatto Sermonette – Aliza Spiro\n11:45 p.m: Buffet Kiddush Luncheon
URL:https://bethtorah.ca/event/broadway-shabbat/
LOCATION:47 Glenbrook Avenue\, 47 Glenbrook Avenue\, Toronto\, Ontario\, M6B 2L7\, Canada
ATTACH;FMTTYPE=image/jpeg:https://bethtorah.ca/wp-content/uploads/SongShul_ShabbatService_v1_Banner-Large.jpeg
END:VEVENT
END:VCALENDAR