BEGIN:VCALENDAR
VERSION:2.0
PRODID:-//Beth Torah Congregation - ECPv6.15.20//NONSGML v1.0//EN
CALSCALE:GREGORIAN
METHOD:PUBLISH
X-ORIGINAL-URL:https://bethtorah.ca
X-WR-CALDESC:Events for Beth Torah Congregation
REFRESH-INTERVAL;VALUE=DURATION:PT1H
X-Robots-Tag:noindex
X-PUBLISHED-TTL:PT1H
BEGIN:VTIMEZONE
TZID:America/Toronto
BEGIN:DAYLIGHT
TZOFFSETFROM:-0500
TZOFFSETTO:-0400
TZNAME:EDT
DTSTART:20230312T070000
END:DAYLIGHT
BEGIN:STANDARD
TZOFFSETFROM:-0400
TZOFFSETTO:-0500
TZNAME:EST
DTSTART:20231105T060000
END:STANDARD
BEGIN:DAYLIGHT
TZOFFSETFROM:-0500
TZOFFSETTO:-0400
TZNAME:EDT
DTSTART:20240310T070000
END:DAYLIGHT
BEGIN:STANDARD
TZOFFSETFROM:-0400
TZOFFSETTO:-0500
TZNAME:EST
DTSTART:20241103T060000
END:STANDARD
BEGIN:DAYLIGHT
TZOFFSETFROM:-0500
TZOFFSETTO:-0400
TZNAME:EDT
DTSTART:20250309T070000
END:DAYLIGHT
BEGIN:STANDARD
TZOFFSETFROM:-0400
TZOFFSETTO:-0500
TZNAME:EST
DTSTART:20251102T060000
END:STANDARD
END:VTIMEZONE
BEGIN:VEVENT
DTSTART;TZID=America/Toronto:20240414T100000
DTEND;TZID=America/Toronto:20240414T120000
DTSTAMP:20260424T064231
CREATED:20240405T142358Z
LAST-MODIFIED:20240410T145414Z
UID:52156-1713088800-1713096000@bethtorah.ca
SUMMARY:Pickleball at Beth Torah
DESCRIPTION:Pickleball at Beth Torah\nSunday\, April 14th @ 10:00 a.m. \nWHERE: La Liga Toronto Sports Complex \nADDRESS: 1107 Finch Ave W\, North York\, ON M3J 2P7 \nARE YOU LOOKING FOR A FUN SPORT TO PLAY?\nPickleball is the fastest-growing sport in Ontario. It is a combination of tennis\, badminton and table tennis. The game is played on a badminton-size court with a whiffle ball\, about the size of a tennis ball\, a solid smooth surface\, and a short-handled paddle larger than a ping pong paddle. The game is easy to learn. Pickleball is a great way to get active\, keep active\, and have fun at the same time. It has great aerobics value. \n If you have never played the game\, the Beth Torah Pickleball Program can get you started with lessons. For more experienced people\, Beth Torah welcomes you to meet other pickleball enthusiasts to play with. \n1) Bring your energy\, enthusiasm\, and a paddle if you are intermediate or advanced. Beginners will be supplied with a learning paddle during games and instruction. Balls will be supplied for all levels. \n2) Committed signup\, meaning a non-refundable fee of $20. If you can not come\, you may substitute a player of an equal playing level to maintain an adequate number of players per court. Non-members are welcome at $25 for the 2 hours. \n  \nRegister Here
URL:https://bethtorah.ca/event/pickleball-at-beth-torah-2/
ATTACH;FMTTYPE=image/jpeg:https://bethtorah.ca/wp-content/uploads/Pickleball-at-Beth-Torah-16-x-9-in-2.jpg
END:VEVENT
BEGIN:VEVENT
DTSTART;TZID=America/Toronto:20240416T180000
DTEND;TZID=America/Toronto:20240416T193000
DTSTAMP:20260424T064231
CREATED:20240409T145539Z
LAST-MODIFIED:20240409T145539Z
UID:52164-1713290400-1713295800@bethtorah.ca
SUMMARY:Art for Healing (April 16th)
DESCRIPTION:Tuesday\, March 19th @ 6:00 p.m \nArt for Healing – Working with Watercolours. \nBeth Torah is excited to continue our programming with Art Therapist in Training Sara Flicht for adults. \nIn a challenging time for the Jewish Community in Toronto and abroad\, Sara will be leading a series of monthly art for healing workshops. This group will be a way to connect with others while creating art in a safe and comforting setting\, grappling with contemporary issues an exploring their Judaism. No prior art experience is required. \nWear comfortable clothes you don’t mind getting a bit messy! \nRegister Here
URL:https://bethtorah.ca/event/art-for-healing-april-16th/
ATTACH;FMTTYPE=image/jpeg:https://bethtorah.ca/wp-content/uploads/Art-For-Healing-Poster-for-Bulletin-16-x-9-in-1.jpg
END:VEVENT
END:VCALENDAR