BEGIN:VCALENDAR
VERSION:2.0
PRODID:-//Beth Torah Congregation - ECPv6.15.20//NONSGML v1.0//EN
CALSCALE:GREGORIAN
METHOD:PUBLISH
X-WR-CALNAME:Beth Torah Congregation
X-ORIGINAL-URL:https://bethtorah.ca
X-WR-CALDESC:Events for Beth Torah Congregation
REFRESH-INTERVAL;VALUE=DURATION:PT1H
X-Robots-Tag:noindex
X-PUBLISHED-TTL:PT1H
BEGIN:VTIMEZONE
TZID:America/Toronto
BEGIN:DAYLIGHT
TZOFFSETFROM:-0500
TZOFFSETTO:-0400
TZNAME:EDT
DTSTART:20230312T070000
END:DAYLIGHT
BEGIN:STANDARD
TZOFFSETFROM:-0400
TZOFFSETTO:-0500
TZNAME:EST
DTSTART:20231105T060000
END:STANDARD
BEGIN:DAYLIGHT
TZOFFSETFROM:-0500
TZOFFSETTO:-0400
TZNAME:EDT
DTSTART:20240310T070000
END:DAYLIGHT
BEGIN:STANDARD
TZOFFSETFROM:-0400
TZOFFSETTO:-0500
TZNAME:EST
DTSTART:20241103T060000
END:STANDARD
BEGIN:DAYLIGHT
TZOFFSETFROM:-0500
TZOFFSETTO:-0400
TZNAME:EDT
DTSTART:20250309T070000
END:DAYLIGHT
BEGIN:STANDARD
TZOFFSETFROM:-0400
TZOFFSETTO:-0500
TZNAME:EST
DTSTART:20251102T060000
END:STANDARD
END:VTIMEZONE
BEGIN:VEVENT
DTSTART;TZID=America/Toronto:20240310T110000
DTEND;TZID=America/Toronto:20240310T150000
DTSTAMP:20260424T081957
CREATED:20240227T154610Z
LAST-MODIFIED:20240227T154610Z
UID:52121-1710068400-1710082800@bethtorah.ca
SUMMARY:Community Event: Shuk to the Core
DESCRIPTION:Shuk to the Core: Israeli Vendor Fair\nSunday\, March 10th @ 11:00 a.m. \nBeth Torah is happy to partner with Shaarei Shomayim on this event. Come together to support artists and vendors from across Israel! \nTickets: 5 dollar suggested fee
URL:https://bethtorah.ca/event/community-event-shuk-to-the-core/
LOCATION:Shaarei Shomayim
ATTACH;FMTTYPE=image/jpeg:https://bethtorah.ca/wp-content/uploads/Shuk-to-the-Core-1.jpg
END:VEVENT
BEGIN:VEVENT
DTSTART;TZID=America/Toronto:20240319T180000
DTEND;TZID=America/Toronto:20240319T193000
DTSTAMP:20260424T081957
CREATED:20240311T181837Z
LAST-MODIFIED:20240311T181837Z
UID:52138-1710871200-1710876600@bethtorah.ca
SUMMARY:Art for Healing Session #3
DESCRIPTION:Tuesday\, March 19th @ 6:00 p.m \nArt for Healing – Working with Watercolours. \nBeth Torah is excited to continue our programming with Art Therapist in Training Sara Flicht for adults. \nIn a challenging time for the Jewish Community in Toronto and abroad\, Sara will be leading a series of monthly art for healing workshops. This group will be a way to connect with others while creating art in a safe and comforting setting\, grappling with contemporary issues an exploring their Judaism. No prior art experience is required. \nWear comfortable clothes you don’t mind getting a bit messy! \nRegister Here
URL:https://bethtorah.ca/event/art-for-healing-session-3/
ATTACH;FMTTYPE=image/jpeg:https://bethtorah.ca/wp-content/uploads/Art-For-Healing-Poster-for-Bulletin-16-x-9-in.jpg
END:VEVENT
BEGIN:VEVENT
DTSTART;TZID=America/Toronto:20240323T193000
DTEND;TZID=America/Toronto:20240323T210000
DTSTAMP:20260424T081957
CREATED:20240220T184917Z
LAST-MODIFIED:20240220T184917Z
UID:52110-1711222200-1711227600@bethtorah.ca
SUMMARY:Erev Purim Megillah Reading & Havdalah
DESCRIPTION:Saturday\, March 23rd @ 7:30 p.m. \nErev Purim Megillah Reading & Havdalah  \nFollowing Shabbat on Saturday\, March 23rd\, join Beth Torah as we kick off Purim with a Megillah reading / Havdalah service\, followed by some lights snacks and drinks. \nThere is no registration required to join us for this evening. We look forward to seeing you there!
URL:https://bethtorah.ca/event/erev-purim-megillah-reading-havdalah/
LOCATION:47 Glenbrook Avenue\, 47 Glenbrook Avenue\, Toronto\, Ontario\, M6B 2L7\, Canada
ATTACH;FMTTYPE=image/jpeg:https://bethtorah.ca/wp-content/uploads/Beth-Torahs-Purim.jpg
END:VEVENT
BEGIN:VEVENT
DTSTART;TZID=America/Toronto:20240324T093000
DTEND;TZID=America/Toronto:20240324T150000
DTSTAMP:20260424T081957
CREATED:20240220T184158Z
LAST-MODIFIED:20240228T200506Z
UID:52107-1711272600-1711292400@bethtorah.ca
SUMMARY:Purim @ Beth Torah - Megillah & Carnival
DESCRIPTION:Sunday\, March 24th @ 9:30 a.m.  \nBeth Torah’s Purim Carnival 2024 – SAVE THE DATE \nJoin us for a family friendly morning Megillah reading and another exciting Purim Carnival complete with a Tots Zone\, live entertainment\, tasty treats\, games with cool prizes\, and giant inflatables! \nRegister Here
URL:https://bethtorah.ca/event/purim-beth-torah-megillah-carnival/
LOCATION:47 Glenbrook Avenue\, 47 Glenbrook Avenue\, Toronto\, Ontario\, M6B 2L7\, Canada
ATTACH;FMTTYPE=image/jpeg:https://bethtorah.ca/wp-content/uploads/Beth-Torahs-Purim-7.jpg
END:VEVENT
END:VCALENDAR