BEGIN:VCALENDAR
VERSION:2.0
PRODID:-//Beth Torah Congregation - ECPv6.15.20//NONSGML v1.0//EN
CALSCALE:GREGORIAN
METHOD:PUBLISH
X-ORIGINAL-URL:https://bethtorah.ca
X-WR-CALDESC:Events for Beth Torah Congregation
REFRESH-INTERVAL;VALUE=DURATION:PT1H
X-Robots-Tag:noindex
X-PUBLISHED-TTL:PT1H
BEGIN:VTIMEZONE
TZID:America/Toronto
BEGIN:DAYLIGHT
TZOFFSETFROM:-0500
TZOFFSETTO:-0400
TZNAME:EDT
DTSTART:20220313T070000
END:DAYLIGHT
BEGIN:STANDARD
TZOFFSETFROM:-0400
TZOFFSETTO:-0500
TZNAME:EST
DTSTART:20221106T060000
END:STANDARD
BEGIN:DAYLIGHT
TZOFFSETFROM:-0500
TZOFFSETTO:-0400
TZNAME:EDT
DTSTART:20230312T070000
END:DAYLIGHT
BEGIN:STANDARD
TZOFFSETFROM:-0400
TZOFFSETTO:-0500
TZNAME:EST
DTSTART:20231105T060000
END:STANDARD
BEGIN:DAYLIGHT
TZOFFSETFROM:-0500
TZOFFSETTO:-0400
TZNAME:EDT
DTSTART:20240310T070000
END:DAYLIGHT
BEGIN:STANDARD
TZOFFSETFROM:-0400
TZOFFSETTO:-0500
TZNAME:EST
DTSTART:20241103T060000
END:STANDARD
END:VTIMEZONE
BEGIN:VEVENT
DTSTART;TZID=America/Toronto:20230808T193000
DTEND;TZID=America/Toronto:20230808T220000
DTSTAMP:20260424T181636
CREATED:20230711T150648Z
LAST-MODIFIED:20230714T034522Z
UID:51669-1691523000-1691532000@bethtorah.ca
SUMMARY:Young Adult's Jewish Trivia Pub Night
DESCRIPTION:We’re back in our new location at the Madison Avenue Pub at 14 Madison Ave! August 8th at 7:30 pm! \nCome on down to the pub with Beth Torah\, grab yourself a pint\, and get ready for some fun Jewish trivia with lots of prizes! \nGroup sizes must be between 3-6 individuals! Participants do not need to be Jewish (but it might help for the trivia!). Participants also do not need to be members of Beth Torah. If you register as an individual\, you will be placed randomly in a group. \n  \nRegister Here
URL:https://bethtorah.ca/event/young-adults-jewish-trivia-pub-night/
LOCATION:Madison Avenue Pub\, 14 Madison Ave\, Toronto\, Ontario\, Canada
ATTACH;FMTTYPE=image/jpeg:https://bethtorah.ca/wp-content/uploads/Jewish-Trivia-Pub-Night-16-×-9-in.jpg
END:VEVENT
BEGIN:VEVENT
DTSTART;TZID=America/Toronto:20230817T193000
DTEND;TZID=America/Toronto:20230817T210000
DTSTAMP:20260424T181636
CREATED:20230803T190747Z
LAST-MODIFIED:20230803T190747Z
UID:51706-1692300600-1692306000@bethtorah.ca
SUMMARY:How Arab Orchestrated Antisemitism Affects Life in Judea and Samaria
DESCRIPTION:Natalie Sopinksy\, a Delaware native\, was raised in an all-American Conservative Jewish family. Today she is a pistol-wearing hitch-hiking settler living in the Hebron Hills. A lawyer and lifeguard\, Natalie represents the 150 communities in Judea and Samaria as Director of Development for Hatzalah Yehuda and Shomron. Natalie hosts the weekly radio program “Returning Home” on Israel NewsTalk Radio. https://israelnewstalkradio.com/returning-home \nYekirei Hatzalah Yehuda and Shomron\, Recuers without Borders\, is the main US registered charity for emergency medical needs in the Jewish heartland. Established in 2000 during the 2nd intifada\, it provides a medical response to hundreds of calls daily. It is entirely a volunteer organization with a network in Israel of over 1600 medics\, paramedics\, and doctors who are committed to saving lives. Hatzalah works in cooperation with IDF\, Magen David Adom\, and the Israeli police. \nToday\, this organization is spread across the globe and provides medical responses in countries that are hit by natural disasters. Globally\, it has trained over 6000 volunteers and has medical teams in 14 countries. Visit http://www.hatzalah.org.il to learn more. \n\n\n\n\n\n\nRegister Here
URL:https://bethtorah.ca/event/how-arab-orchestrated-antisemitism-affects-life-in-judea-and-samaria/
LOCATION:47 Glenbrook Avenue\, 47 Glenbrook Avenue\, Toronto\, Ontario\, M6B 2L7\, Canada
ATTACH;FMTTYPE=image/jpeg:https://bethtorah.ca/wp-content/uploads/https___cdn.evbuc_.com_images_565028129_102123238415_1_original.jpeg
END:VEVENT
BEGIN:VEVENT
DTSTART;TZID=America/Toronto:20230822T190000
DTEND;TZID=America/Toronto:20230822T220000
DTSTAMP:20260424T181636
CREATED:20230726T174336Z
LAST-MODIFIED:20230726T174336Z
UID:51694-1692730800-1692741600@bethtorah.ca
SUMMARY:IVOW Dinner 2023
DESCRIPTION:Tuesday\, August 22nd\, 7:00 p.m.\n\nThe 2023 IVOW Dinner \nBeth Torah is so excited to announce that we will once again be hosting the wonderful IVOW Organization for an end-of-the-summer dinner. Last year’s event was a fantastic time for everyone involved\, and we cannot wait to do it again! \nThis year’s dinner will be catered by Levy’s and feature Magen Boys as entertainment. \nIVOW Association was founded in 1984 to support Bar and Bat Mitzvah age children of families in Israel who have been affected by war\, military service or terrorism. \nPlease let Raquel know (director@bethtorah.ca) if you have any Bnei Mitzvah Swag as prizes to donate. \nPlease fill out the form below to confirm your attendance. Dinner is free but we are encouraging donations to help subsidize the costs. There are limited tickets. \nPlease reach out to Raquel at director@bethtorah.ca if you are interested in volunteering for the evening.\n\nRegister Here
URL:https://bethtorah.ca/event/ivow-dinner-2023/
LOCATION:47 Glenbrook Avenue\, 47 Glenbrook Avenue\, Toronto\, Ontario\, M6B 2L7\, Canada
ATTACH;FMTTYPE=image/jpeg:https://bethtorah.ca/wp-content/uploads/IVOW-Dinner-Flyer-16-×-9-in-2.jpg
END:VEVENT
BEGIN:VEVENT
DTSTART;TZID=America/Toronto:20230829T190000
DTEND;TZID=America/Toronto:20230829T210000
DTSTAMP:20260424T181636
CREATED:20230823T140842Z
LAST-MODIFIED:20230823T181206Z
UID:51744-1693335600-1693342800@bethtorah.ca
SUMMARY:High Holiday Concert / Teaching Series
DESCRIPTION:High Holiday Concert / Teaching Session \nTuesday\, August 29th @ 7:00 p.m. \nYou are invited to join us at Beth Torah for a concert / teaching session featuring beautiful High Holiday Tunes\, performed and taught by Cantor Edwards and Reuven Grajner\, for an immersive experience\, preparing you for elevated High Holiday Services. \nLight refreshments (coffee\, tea\, cookies\, etc.) will be served. Mahzorim will be provided. \nAdmission is free\, donations are appreciated. \nRegister Here
URL:https://bethtorah.ca/event/high-holiday-concert-teaching-series/
LOCATION:47 Glenbrook Avenue\, 47 Glenbrook Avenue\, Toronto\, Ontario\, M6B 2L7\, Canada
ATTACH;FMTTYPE=image/jpeg:https://bethtorah.ca/wp-content/uploads/High-Holiday-Concert-Teaching-Session-Instagram-Post-Square-16-×-9-in-1.jpg
END:VEVENT
END:VCALENDAR