BEGIN:VCALENDAR
VERSION:2.0
PRODID:-//Beth Torah Congregation - ECPv6.15.20//NONSGML v1.0//EN
CALSCALE:GREGORIAN
METHOD:PUBLISH
X-WR-CALNAME:Beth Torah Congregation
X-ORIGINAL-URL:https://bethtorah.ca
X-WR-CALDESC:Events for Beth Torah Congregation
REFRESH-INTERVAL;VALUE=DURATION:PT1H
X-Robots-Tag:noindex
X-PUBLISHED-TTL:PT1H
BEGIN:VTIMEZONE
TZID:America/Toronto
BEGIN:DAYLIGHT
TZOFFSETFROM:-0500
TZOFFSETTO:-0400
TZNAME:EDT
DTSTART:20220313T070000
END:DAYLIGHT
BEGIN:STANDARD
TZOFFSETFROM:-0400
TZOFFSETTO:-0500
TZNAME:EST
DTSTART:20221106T060000
END:STANDARD
BEGIN:DAYLIGHT
TZOFFSETFROM:-0500
TZOFFSETTO:-0400
TZNAME:EDT
DTSTART:20230312T070000
END:DAYLIGHT
BEGIN:STANDARD
TZOFFSETFROM:-0400
TZOFFSETTO:-0500
TZNAME:EST
DTSTART:20231105T060000
END:STANDARD
BEGIN:DAYLIGHT
TZOFFSETFROM:-0500
TZOFFSETTO:-0400
TZNAME:EDT
DTSTART:20240310T070000
END:DAYLIGHT
BEGIN:STANDARD
TZOFFSETFROM:-0400
TZOFFSETTO:-0500
TZNAME:EST
DTSTART:20241103T060000
END:STANDARD
END:VTIMEZONE
BEGIN:VEVENT
DTSTART;TZID=America/Toronto:20230404T140000
DTEND;TZID=America/Toronto:20230404T160000
DTSTAMP:20260424T235022
CREATED:20230331T151854Z
LAST-MODIFIED:20230331T151854Z
UID:51394-1680616800-1680624000@bethtorah.ca
SUMMARY:Baycrest at Home: Peach Concert
DESCRIPTION:Join Cantor David Edwards and Reuven Grajner this Tuesday on Zoom for a fun way to get ready for Passover! \nNo registration required. Click the Zoom link below to join. \nJoin ZOOM
URL:https://bethtorah.ca/event/baycrest-at-home-peach-concert/
LOCATION:On Zoom\, Canada
ATTACH;FMTTYPE=image/jpeg:https://bethtorah.ca/wp-content/uploads/Copy-of-Baycrest-at-Home-Chanukah-Concert-16-×-9-in.jpg
END:VEVENT
BEGIN:VEVENT
DTSTART;TZID=America/Toronto:20230408T100000
DTEND;TZID=America/Toronto:20230408T233000
DTSTAMP:20260424T235022
CREATED:20230321T140441Z
LAST-MODIFIED:20230321T140441Z
UID:51377-1680948000-1680996600@bethtorah.ca
SUMMARY:Beth Torah's Family Chocolate Seder
DESCRIPTION:Saturday\, April 8th at 10:00 a.m.\nBeth Torah’s Family Chocolate Seder \nKids! Families! Looking for for some sweet and chocolatey fun this Passover? Look no further! \nOn Saturday\, April 8th at 10:00 a.m. Beth Torah will be hosting a Family Chocolate Seder for kids ages 5-10 and their parents / grandparents / siblings! \nThe event will run for approximately 90 minutes and feature a fun and educational interactive chocolate themed seder\, as well as other Passover themed activities! \nTickets for kids are $8.00 for members and for non-members\, $13.00. Adults are welcome to join their kids for no charge. \nWe look forward to seeing you there for a sweet time! \nRegister your spot today! \nRegister Here
URL:https://bethtorah.ca/event/beth-torahs-family-chocolate-seder/
LOCATION:47 Glenbrook Avenue\, 47 Glenbrook Avenue\, Toronto\, Ontario\, M6B 2L7\, Canada
ATTACH;FMTTYPE=image/jpeg:https://bethtorah.ca/wp-content/uploads/Chocolate-Seder-Flyer-16-×-9-in-2.jpg
END:VEVENT
BEGIN:VEVENT
DTSTART;TZID=America/Toronto:20230427T190000
DTEND;TZID=America/Toronto:20230427T200000
DTSTAMP:20260424T235022
CREATED:20230414T152610Z
LAST-MODIFIED:20230417T031737Z
UID:51415-1682622000-1682625600@bethtorah.ca
SUMMARY:Aging with Grace: A Three Part Series
DESCRIPTION:Aging with Grace – A Three Part Series \nApr 27\, 2023 @ 7pm Community services and outreach with HCCSS (formerly LHIN) and Chartwell Retirement Home \nMay 4\, 2023 @ 7pm Wellness including nutrition & movement with Shana Daniel (Wellnessity) and Angela Sajeba (RMT) \nMay 11\, 2023 @ 7pm Making Difficult Choices A Little Less Painful: A Jewish Approach to Advance Care Planning\, MAID\, and Other End of Life Decisions with Rabbi Louis J. Sachs \nIn person at Beth Torah \nIf you have any questions\, please email Raquel at director@bethtorah.ca or Joanne at admin@bethtorah.ca \nRegister for Series
URL:https://bethtorah.ca/event/aging-with-grace-2/
LOCATION:47 Glenbrook Avenue\, 47 Glenbrook Avenue\, Toronto\, Ontario\, M6B 2L7\, Canada
ATTACH;FMTTYPE=image/jpeg:https://bethtorah.ca/wp-content/uploads/Aging-with-Grace-Series-1.jpg
END:VEVENT
END:VCALENDAR