BEGIN:VCALENDAR
VERSION:2.0
PRODID:-//Beth Torah Congregation - ECPv6.15.20//NONSGML v1.0//EN
CALSCALE:GREGORIAN
METHOD:PUBLISH
X-WR-CALNAME:Beth Torah Congregation
X-ORIGINAL-URL:https://bethtorah.ca
X-WR-CALDESC:Events for Beth Torah Congregation
REFRESH-INTERVAL;VALUE=DURATION:PT1H
X-Robots-Tag:noindex
X-PUBLISHED-TTL:PT1H
BEGIN:VTIMEZONE
TZID:America/Toronto
BEGIN:DAYLIGHT
TZOFFSETFROM:-0500
TZOFFSETTO:-0400
TZNAME:EDT
DTSTART:20210314T070000
END:DAYLIGHT
BEGIN:STANDARD
TZOFFSETFROM:-0400
TZOFFSETTO:-0500
TZNAME:EST
DTSTART:20211107T060000
END:STANDARD
BEGIN:DAYLIGHT
TZOFFSETFROM:-0500
TZOFFSETTO:-0400
TZNAME:EDT
DTSTART:20220313T070000
END:DAYLIGHT
BEGIN:STANDARD
TZOFFSETFROM:-0400
TZOFFSETTO:-0500
TZNAME:EST
DTSTART:20221106T060000
END:STANDARD
BEGIN:DAYLIGHT
TZOFFSETFROM:-0500
TZOFFSETTO:-0400
TZNAME:EDT
DTSTART:20230312T070000
END:DAYLIGHT
BEGIN:STANDARD
TZOFFSETFROM:-0400
TZOFFSETTO:-0500
TZNAME:EST
DTSTART:20231105T060000
END:STANDARD
END:VTIMEZONE
BEGIN:VEVENT
DTSTART;TZID=America/Toronto:20221103T140000
DTEND;TZID=America/Toronto:20221103T150000
DTSTAMP:20260425T062923
CREATED:20221021T012522Z
LAST-MODIFIED:20221027T170321Z
UID:50907-1667484000-1667487600@bethtorah.ca
SUMMARY:Make Beth Torah Your Living Room!
DESCRIPTION:Make Beth Torah Your Living Room!\nEvery Thursday from 2:00-3:30 p.m. \nAre you looking for a space to get together with some friends\, meet new people\, have some refreshments and play some games? We have just what you are looking for! Make Beth Torah your living room! \n\nBridge\nMaj\nCanasta\nEuchre\nOr Anything\nElse!\n\nPlease confirm your attendance by contacting Joanne at Admin@BethTorah.ca or by calling (416) 782-4495 x 27
URL:https://bethtorah.ca/event/make-beth-torah-your-living-room/
LOCATION:47 Glenbrook Avenue\, 47 Glenbrook Avenue\, Toronto\, Ontario\, M6B 2L7\, Canada
ATTACH;FMTTYPE=image/jpeg:https://bethtorah.ca/wp-content/uploads/edf47596-ca04-6954-9d1b-02860ccc4d78-copy.jpg
END:VEVENT
BEGIN:VEVENT
DTSTART;TZID=America/Toronto:20221103T193000
DTEND;TZID=America/Toronto:20221103T210000
DTSTAMP:20260425T062923
CREATED:20221031T135817Z
LAST-MODIFIED:20221031T140201Z
UID:51035-1667503800-1667509200@bethtorah.ca
SUMMARY:She Also Served: Jewish Woman in the Canadian Armed Forces
DESCRIPTION:She Also Served: Jewish Women in the Canadian Armed Forces\n\nThursday\, November 3 | 7:30 p.m. on Zoom \nJoin us for the Jack Cahan Memorial Lecture with guest speaker Saundra Lipton\, Librarian Emerita of the University of Calgary. \nMore than 250 Jewish women served in the Canadian military during the Second World War. She Also Served is an art exhibition that brings their stories to life. Join us to hear about the exhibition and learn about the remarkable women who stepped forward to serve our country. \n\n\n\n\n\nRegister
URL:https://bethtorah.ca/event/she-also-served-jewish-woman-in-the-canadian-armed-forces/
LOCATION:On Zoom\, Canada
ATTACH;FMTTYPE=image/png:https://bethtorah.ca/wp-content/uploads/c64c2355-b3d3-2f92-2c5f-13e6ee11ca9e.png
END:VEVENT
BEGIN:VEVENT
DTSTART;TZID=America/Toronto:20221106T130000
DTEND;TZID=America/Toronto:20221106T160000
DTSTAMP:20260425T062923
CREATED:20221027T160514Z
LAST-MODIFIED:20221027T191202Z
UID:51007-1667739600-1667750400@bethtorah.ca
SUMMARY:B'Mitzvah Program: Mitzvah Day
DESCRIPTION:B’Mitzvah Program: Mitzvah Day\nDo a Mitzvah\, and join us for a day of Tikkun Olam at Beth David. \nBeth Torah’s 2022-2023 B’Mitzvah Program\nAre you celebrating a Bar / Bat Mitzvah in 2022/2023? \nJoin Beth Torah in partnership with Beth David and Beth Tikvah for an amazing experience with teens from throughout the Toronto Jewish community! \nThis is the program for you if… \n\nYou’re celebrating a B-Mitzvah this upcoming year… or this past year!\nYou enjoy making new friends (and seeing old ones)…\nYou’re tired of being told what being Jewish should mean to you\, and want to explore for yourself.\n\nOur team is looking forward to joining you on this journey to Jewish adulthood! Together we will learn about Judaism\, undertake Mitzvah projects\, play games\, go on exciting trips\, and much more. \nRegister for the B’Mitzvah program. For more information\, please contact Program@bethtorah.ca or call the Beth Torah office at (416) 782-4495.
URL:https://bethtorah.ca/event/beth-torahs-2022-2023-bmitzvah-program-4/
LOCATION:Beth David\, 55 Yeomans Rd\, North York\,\, Ontario\, M3H 3J7North York\,\, Canada
ATTACH;FMTTYPE=image/jpeg:https://bethtorah.ca/wp-content/uploads/48c3731d-9c7c-1561-f7c5-42791e0b101a.jpg
END:VEVENT
BEGIN:VEVENT
DTSTART;TZID=America/Toronto:20221109T083000
DTEND;TZID=America/Toronto:20221109T120000
DTSTAMP:20260425T062923
CREATED:20221019T230902Z
LAST-MODIFIED:20221019T230957Z
UID:50904-1667982600-1667995200@bethtorah.ca
SUMMARY:Bi-Valent (Omicron) Vaccine Pop-Up Clinic
DESCRIPTION:Bi-Valent (Omicron) Vaccine Pop-Up Clinic \nWednesday\, November 9 | 8:30 a.m. – 12:00 p.m. \nBeth Torah is happy to announce that we will be hosting a BiValent (Omicron) vaccine pop-up clinic on Wednesday\, November 9 from 8:30 a.m. to 12:30 p.m. \n\nAges18 & up\nNo Appointment required\nBring Your Health Card & Photo ID
URL:https://bethtorah.ca/event/bi-valent-omicron-vaccine-pop-up-clinic/
LOCATION:47 Glenbrook Avenue\, 47 Glenbrook Avenue\, Toronto\, Ontario\, M6B 2L7\, Canada
ATTACH;FMTTYPE=image/jpeg:https://bethtorah.ca/wp-content/uploads/33f276a1-43f3-cced-506c-3e42a08c2b19-copy.jpg
END:VEVENT
BEGIN:VEVENT
DTSTART;TZID=America/Toronto:20221103T140000
DTEND;TZID=America/Toronto:20221103T150000
DTSTAMP:20260425T062923
CREATED:20221021T012522Z
LAST-MODIFIED:20221027T170321Z
UID:50907-1667484000-1667487600@bethtorah.ca
SUMMARY:Make Beth Torah Your Living Room!
DESCRIPTION:Make Beth Torah Your Living Room!\nEvery Thursday from 2:00-3:30 p.m. \nAre you looking for a space to get together with some friends\, meet new people\, have some refreshments and play some games? We have just what you are looking for! Make Beth Torah your living room! \n\nBridge\nMaj\nCanasta\nEuchre\nOr Anything\nElse!\n\nPlease confirm your attendance by contacting Joanne at Admin@BethTorah.ca or by calling (416) 782-4495 x 27
URL:https://bethtorah.ca/event/make-beth-torah-your-living-room/
LOCATION:47 Glenbrook Avenue\, 47 Glenbrook Avenue\, Toronto\, Ontario\, M6B 2L7\, Canada
ATTACH;FMTTYPE=image/jpeg:https://bethtorah.ca/wp-content/uploads/edf47596-ca04-6954-9d1b-02860ccc4d78-copy.jpg
END:VEVENT
BEGIN:VEVENT
DTSTART;TZID=America/Toronto:20221110T193000
DTEND;TZID=America/Toronto:20221110T210000
DTSTAMP:20260425T062923
CREATED:20221026T183207Z
LAST-MODIFIED:20221026T185227Z
UID:50939-1668108600-1668114000@bethtorah.ca
SUMMARY:Genealogy in the Digital Age with Jerry Scherer
DESCRIPTION:Genealogy in the Digital Age with Jerry Scherer\nThursday\, November 10 | 7:30 p.m. on Zoom \n“Remember the days of old\, consider the years of many generations”. (Deuteronomy 32:7). Discovering the stories of one’s ancestors is what Jewish genealogy is all about. By preserving your past\, you will be honouring your parents. (Exodus 20:12) \nLearn the basics of Jewish genealogical research\, how to discover your ancestors and connect with new relatives. Learn how DNA testing can generate interesting facts about your ancestors and the ethnicity of Jewish people. This talk\, presented by Hersz (Jerry) Scherer of the Jewish Genealogical Society of Toronto will inspire you to trace your roots and leave a legacy for future generations. \nRegister
URL:https://bethtorah.ca/event/genealogy-in-the-digital-age-with-jerry-scherer/
LOCATION:On Zoom\, Canada
ATTACH;FMTTYPE=image/jpeg:https://bethtorah.ca/wp-content/uploads/1dcc2a1c-92d0-31a5-9877-187cf80fdc75.jpg
END:VEVENT
BEGIN:VEVENT
DTSTART;TZID=America/Toronto:20221114T130000
DTEND;TZID=America/Toronto:20221114T150000
DTSTAMP:20260425T062923
CREATED:20221026T193229Z
LAST-MODIFIED:20221026T193548Z
UID:50954-1668430800-1668438000@bethtorah.ca
SUMMARY:Spice of Life Group
DESCRIPTION:Spice of Life Group Presents: Becoming Woke in your 50’s and Beyond\nStarting Monday\, November 14 | 1:00-3:00 p.m. \nThe world is changing quickly and with that change comes a new language and acceptable practices. Keeping up is hard if not impossible. But is it worth it to stay relevant? This conversation will discuss how learning about the “Woke” society will make us better members of our community and more empathetic to the people we are in contact with. \nJoin Risa Epstein\, National Executive Director of Canadian Young Judaea as she explores the meaning of a *woke society and how it\nimpacts how we view the world. \nDo you want to join the “Over 55” committee? Contact Joanne at admin@BethTorah.ca
URL:https://bethtorah.ca/event/over-55-spice-of-life-group-2/
LOCATION:47 Glenbrook Avenue\, 47 Glenbrook Avenue\, Toronto\, Ontario\, M6B 2L7\, Canada
ATTACH;FMTTYPE=image/jpeg:https://bethtorah.ca/wp-content/uploads/9ad7d8a6-43aa-ad21-4281-b22d68ac2531.jpg
END:VEVENT
BEGIN:VEVENT
DTSTART;TZID=America/Toronto:20221119T174500
DTEND;TZID=America/Toronto:20221119T204500
DTSTAMP:20260425T062923
CREATED:20221107T135648Z
LAST-MODIFIED:20221107T135648Z
UID:51049-1668879900-1668890700@bethtorah.ca
SUMMARY:ECRUSY Night at the Aquarium
DESCRIPTION:ECRUSY Night at the Aquarium\nSaturday\, November 19\, 5:45-8:45 p.m. \nThose in Grades 3-8 (USY Gesher Chaverim) are invited to join Ecrusy for a night at Ripley’s Aquarium. We will begin with Havdalah and dinner at Beth Torah and then will bus down to Ripley’s Aquarium where there will be a Scavenger Hunt/Exploration. We will end the evening back at Beth Torah for Scavenger Hunt Photo Sharing. \nRegister
URL:https://bethtorah.ca/event/ecrusy-night-at-the-aquarium/
LOCATION:47 Glenbrook Avenue\, Toronto\, Ontario\, M6B 2L7\, Canada
ATTACH;FMTTYPE=image/jpeg:https://bethtorah.ca/wp-content/uploads/USY-Aquarium_.jpg
END:VEVENT
BEGIN:VEVENT
DTSTART;TZID=America/Toronto:20221120T110000
DTEND;TZID=America/Toronto:20221120T123000
DTSTAMP:20260425T062923
CREATED:20221027T160054Z
LAST-MODIFIED:20221027T160346Z
UID:51003-1668942000-1668947400@bethtorah.ca
SUMMARY:B'Mitzvah Program: Shoresh
DESCRIPTION:B’Mitzvah Program: Shoresh\nSpend the day outside as we partner with Shoresh to learn about our Jewish responsibility to nature. We will be meeting at Earl Bales Park from 11 a.m.-12:30 p.m. \nBeth Torah’s 2022-2023 B’Mitzvah Program\nAre you celebrating a Bar / Bat Mitzvah in 2022/2023? \nJoin Beth Torah in partnership with Beth David and Beth Tikvah for an amazing experience with teens from throughout the Toronto Jewish community! \nThis is the program for you if… \n\nYou’re celebrating a B-Mitzvah this upcoming year… or this past year!\nYou enjoy making new friends (and seeing old ones)…\nYou’re tired of being told what being Jewish should mean to you\, and want to explore for yourself.\n\nOur team is looking forward to joining you on this journey to Jewish adulthood! Together we will learn about Judaism\, undertake Mitzvah projects\, play games\, go on exciting trips\, and much more. \nRegister for the B’Mitzvah program. For more information\, please contact Program@bethtorah.ca or call the Beth Torah office at (416) 782-4495. \n 
URL:https://bethtorah.ca/event/beth-torahs-2022-2023-bmitzvah-program-3/
LOCATION:Earl Bales Park\, 4169 Bathurst St\, North York\, Ontario\, M3H 3P7\, Canada
ATTACH;FMTTYPE=image/jpeg:https://bethtorah.ca/wp-content/uploads/48c3731d-9c7c-1561-f7c5-42791e0b101a.jpg
END:VEVENT
BEGIN:VEVENT
DTSTART;TZID=America/Toronto:20221127T143000
DTEND;TZID=America/Toronto:20221127T163000
DTSTAMP:20260425T062923
CREATED:20221117T194407Z
LAST-MODIFIED:20221118T174000Z
UID:51082-1669559400-1669566600@bethtorah.ca
SUMMARY:Beth Torah Family Pleasure Skate
DESCRIPTION:Beth Torah Family Pleasure Skate\nSunday\, November 27 | 2:00 to 4:00 p.m. – Forest Hill Skating Arena \nJoin Beth Torah on Sunday\, November 27 from 2:30 to 4:30 p.m. for a fun filled pleasure skate at the Forest Hill Skating Arena! \nAnd join Garrett from 4:00-4:30 p.m. for some warm drinks\, snacks\, and a chat at the concession area! \nAdmission is $3.25 for adults\, $2.00 for children 14 and under. Skates are available for rent for $6.00. \nEveryone is welcome! If you are planning to attend\, send Garrett a message at program@bethtorah.ca.
URL:https://bethtorah.ca/event/beth-torah-family-pleasure-skate/
LOCATION:Forest Hill Skating Arena\, 340 Chaplin Crescent\, Toronto\, Ontario\, M5N 2N3\, Canada
ATTACH;FMTTYPE=image/jpeg:https://bethtorah.ca/wp-content/uploads/Pleasure-Skating-at-Beth-Torah-WEBSITE-SIZE.jpg
END:VEVENT
BEGIN:VEVENT
DTSTART;TZID=America/Toronto:20221130T180000
DTEND;TZID=America/Toronto:20221130T220000
DTSTAMP:20260425T062923
CREATED:20221117T193015Z
LAST-MODIFIED:20221118T174106Z
UID:51075-1669831200-1669845600@bethtorah.ca
SUMMARY:Beth Torah Young Adults: Jewish Trivia Pub Night
DESCRIPTION:Beth Torah Young Adults: Jewish Trivia Pub Night\nWednesday\, November 30 | 6:00 p.m. – Duke of Kent Pub (2315 Yonge St) \nHey Beth Torah Young Adults! Cold weather got you down? Caught in the slump between Chagim and Chanukah? We’ve got just the event for you! \nCome on down to the Duke of Kent Pub downtown Toronto on Wednesday\, November 30 at 6:00 p.m. for some drinks\, chats and fun Jewish trivia! \nRegistration is required but totally free! And there’s plenty of prizes to be won! What have you got to lose?
URL:https://bethtorah.ca/event/beth-torah-young-adults-jewish-trivia-pub-night/
LOCATION:Duke of Kent Pub\, 2315 Yonge St\, Toronto\, Ontario\, M4P 2C6\, Canada
ATTACH;FMTTYPE=image/jpeg:https://bethtorah.ca/wp-content/uploads/Jewish-Trivia-Pub-Night-Instagram-Post-Square-Facebook-Cover2.jpg
END:VEVENT
END:VCALENDAR