BEGIN:VCALENDAR
VERSION:2.0
PRODID:-//Beth Torah Congregation - ECPv6.15.20//NONSGML v1.0//EN
CALSCALE:GREGORIAN
METHOD:PUBLISH
X-WR-CALNAME:Beth Torah Congregation
X-ORIGINAL-URL:https://bethtorah.ca
X-WR-CALDESC:Events for Beth Torah Congregation
REFRESH-INTERVAL;VALUE=DURATION:PT1H
X-Robots-Tag:noindex
X-PUBLISHED-TTL:PT1H
BEGIN:VTIMEZONE
TZID:America/Toronto
BEGIN:DAYLIGHT
TZOFFSETFROM:-0500
TZOFFSETTO:-0400
TZNAME:EDT
DTSTART:20210314T070000
END:DAYLIGHT
BEGIN:STANDARD
TZOFFSETFROM:-0400
TZOFFSETTO:-0500
TZNAME:EST
DTSTART:20211107T060000
END:STANDARD
BEGIN:DAYLIGHT
TZOFFSETFROM:-0500
TZOFFSETTO:-0400
TZNAME:EDT
DTSTART:20220313T070000
END:DAYLIGHT
BEGIN:STANDARD
TZOFFSETFROM:-0400
TZOFFSETTO:-0500
TZNAME:EST
DTSTART:20221106T060000
END:STANDARD
BEGIN:DAYLIGHT
TZOFFSETFROM:-0500
TZOFFSETTO:-0400
TZNAME:EDT
DTSTART:20230312T070000
END:DAYLIGHT
BEGIN:STANDARD
TZOFFSETFROM:-0400
TZOFFSETTO:-0500
TZNAME:EST
DTSTART:20231105T060000
END:STANDARD
END:VTIMEZONE
BEGIN:VEVENT
DTSTART;VALUE=DATE:20220925
DTEND;VALUE=DATE:20220926
DTSTAMP:20260425T074841
CREATED:20220719T175917Z
LAST-MODIFIED:20220830T141535Z
UID:39446-1664064000-1664150399@bethtorah.ca
SUMMARY:High Holidays
DESCRIPTION:High Holidays at Beth Torah\nJoin us for 2022/5783 High Holiday services at Beth Torah. We will be hosting in-person and livestream services. Get ahead of the rush and get your tickets now by clicking here or emailing admin@bethtorah.ca. \nErev Rosh Hashanah – Sunday\, September 25Rosh Hashanah Day 1 – Monday\, September 26Rosh Hashanah Day 2 – Tuesday\, September 27Erev Yom Kippur- Kol Nidre – Tuesday\, October 4Yom Kippur/Yizkor – Wednesday\, October 5 \nMore details will be posted when they become available  \n			\n				Buy Tickets
URL:https://bethtorah.ca/event/high-holidays/
LOCATION:47 Glenbrook Avenue\, 47 Glenbrook Avenue\, Toronto\, Ontario\, M6B 2L7\, Canada
CATEGORIES:High Holidays
ATTACH;FMTTYPE=image/jpeg:https://bethtorah.ca/wp-content/uploads/High_Holidays_190722.jpg
END:VEVENT
BEGIN:VEVENT
DTSTART;VALUE=DATE:20220925
DTEND;VALUE=DATE:20220926
DTSTAMP:20260425T074841
CREATED:20220719T175917Z
LAST-MODIFIED:20220830T141535Z
UID:39446-1664064000-1664150399@bethtorah.ca
SUMMARY:High Holidays
DESCRIPTION:High Holidays at Beth Torah\nJoin us for 2022/5783 High Holiday services at Beth Torah. We will be hosting in-person and livestream services. Get ahead of the rush and get your tickets now by clicking here or emailing admin@bethtorah.ca. \nErev Rosh Hashanah – Sunday\, September 25Rosh Hashanah Day 1 – Monday\, September 26Rosh Hashanah Day 2 – Tuesday\, September 27Erev Yom Kippur- Kol Nidre – Tuesday\, October 4Yom Kippur/Yizkor – Wednesday\, October 5 \nMore details will be posted when they become available  \n			\n				Buy Tickets
URL:https://bethtorah.ca/event/high-holidays/
LOCATION:47 Glenbrook Avenue\, 47 Glenbrook Avenue\, Toronto\, Ontario\, M6B 2L7\, Canada
CATEGORIES:High Holidays
ATTACH;FMTTYPE=image/jpeg:https://bethtorah.ca/wp-content/uploads/High_Holidays_190722.jpg
END:VEVENT
BEGIN:VEVENT
DTSTART;TZID=America/Toronto:20221009T170000
DTEND;TZID=America/Toronto:20221009T190000
DTSTAMP:20260425T074842
CREATED:20220916T140934Z
LAST-MODIFIED:20221007T011941Z
UID:50387-1665334800-1665342000@bethtorah.ca
SUMMARY:Family Sukkot Dinner and Celebration
DESCRIPTION:Family Sukkot Dinner and Celebration\nSunday\, October 9 | 5:00 p.m. \nJoin us for a kid-focused\, parent-friendly\, Sukkah Celebration!!! There will be crafts\, games\, stories\, dinner\, music and more! \nRegistration is now full. Chag Sameach! \nQuestions? Contact Garrett at Program@BethTorah.ca!
URL:https://bethtorah.ca/event/50387/
LOCATION:47 Glenbrook Avenue\, 47 Glenbrook Avenue\, Toronto\, Ontario\, M6B 2L7\, Canada
ATTACH;FMTTYPE=image/jpeg:https://bethtorah.ca/wp-content/uploads/sukkot2.jpg
END:VEVENT
BEGIN:VEVENT
DTSTART;TZID=America/Toronto:20221009T191500
DTEND;TZID=America/Toronto:20221009T213000
DTSTAMP:20260425T074842
CREATED:20220916T141959Z
LAST-MODIFIED:20221007T011951Z
UID:50398-1665342900-1665351000@bethtorah.ca
SUMMARY:Community Sukkot Dinner
DESCRIPTION:Community Sukkot Dinner\nSunday\, October 9 | 7:15 p.m. \nSukkot service followed by a Mediterranean Feast. \nRegistration is now full. Chag Sameach! \nQuestions? Contact Garrett at Program@BethTorah.ca!
URL:https://bethtorah.ca/event/community-sukkot-dinner/
LOCATION:47 Glenbrook Avenue\, 47 Glenbrook Avenue\, Toronto\, Ontario\, M6B 2L7\, Canada
ATTACH;FMTTYPE=image/jpeg:https://bethtorah.ca/wp-content/uploads/sukkot.jpg
END:VEVENT
BEGIN:VEVENT
DTSTART;TZID=America/Toronto:20221010T084500
DTEND;TZID=America/Toronto:20221010T110000
DTSTAMP:20260425T074842
CREATED:20221007T005417Z
LAST-MODIFIED:20221007T005417Z
UID:50819-1665391500-1665399600@bethtorah.ca
SUMMARY:Sukkot Services
DESCRIPTION:Sukkot Services\nMonday\, October 10 & Tuesday\, October 11\n8:45 a.m. Pre-shul kiddush\n9:00 a.m. Services \nJoin us for Sukkot services as we gather together as a community to celebrate Zman Simchateinu in proper style!
URL:https://bethtorah.ca/event/sukkot-services/
LOCATION:47 Glenbrook Avenue\, 47 Glenbrook Avenue\, Toronto\, Ontario\, M6B 2L7\, Canada
ATTACH;FMTTYPE=image/png:https://bethtorah.ca/wp-content/uploads/Sukkot_061022.png
END:VEVENT
BEGIN:VEVENT
DTSTART;TZID=America/Toronto:20221010T084500
DTEND;TZID=America/Toronto:20221010T110000
DTSTAMP:20260425T074842
CREATED:20221007T005417Z
LAST-MODIFIED:20221007T005417Z
UID:50819-1665391500-1665399600@bethtorah.ca
SUMMARY:Sukkot Services
DESCRIPTION:Sukkot Services\nMonday\, October 10 & Tuesday\, October 11\n8:45 a.m. Pre-shul kiddush\n9:00 a.m. Services \nJoin us for Sukkot services as we gather together as a community to celebrate Zman Simchateinu in proper style!
URL:https://bethtorah.ca/event/sukkot-services/
LOCATION:47 Glenbrook Avenue\, 47 Glenbrook Avenue\, Toronto\, Ontario\, M6B 2L7\, Canada
ATTACH;FMTTYPE=image/png:https://bethtorah.ca/wp-content/uploads/Sukkot_061022.png
END:VEVENT
END:VCALENDAR