BEGIN:VCALENDAR
VERSION:2.0
PRODID:-//Beth Torah Congregation - ECPv6.15.20//NONSGML v1.0//EN
CALSCALE:GREGORIAN
METHOD:PUBLISH
X-ORIGINAL-URL:https://bethtorah.ca
X-WR-CALDESC:Events for Beth Torah Congregation
REFRESH-INTERVAL;VALUE=DURATION:PT1H
X-Robots-Tag:noindex
X-PUBLISHED-TTL:PT1H
BEGIN:VTIMEZONE
TZID:America/Toronto
BEGIN:DAYLIGHT
TZOFFSETFROM:-0500
TZOFFSETTO:-0400
TZNAME:EDT
DTSTART:20210314T070000
END:DAYLIGHT
BEGIN:STANDARD
TZOFFSETFROM:-0400
TZOFFSETTO:-0500
TZNAME:EST
DTSTART:20211107T060000
END:STANDARD
BEGIN:DAYLIGHT
TZOFFSETFROM:-0500
TZOFFSETTO:-0400
TZNAME:EDT
DTSTART:20220313T070000
END:DAYLIGHT
BEGIN:STANDARD
TZOFFSETFROM:-0400
TZOFFSETTO:-0500
TZNAME:EST
DTSTART:20221106T060000
END:STANDARD
BEGIN:DAYLIGHT
TZOFFSETFROM:-0500
TZOFFSETTO:-0400
TZNAME:EDT
DTSTART:20230312T070000
END:DAYLIGHT
BEGIN:STANDARD
TZOFFSETFROM:-0400
TZOFFSETTO:-0500
TZNAME:EST
DTSTART:20231105T060000
END:STANDARD
END:VTIMEZONE
BEGIN:VEVENT
DTSTART;TZID=America/Toronto:20220823T190000
DTEND;TZID=America/Toronto:20220823T210000
DTSTAMP:20260425T104003
CREATED:20220715T164134Z
LAST-MODIFIED:20220722T041821Z
UID:37654-1661281200-1661288400@bethtorah.ca
SUMMARY:IVOW Dinner
DESCRIPTION:IVOW Dinner\nTuesday\, August 23 | 7:00 p.m. at Beth Torah \nIVOW Association was founded in 1984 to support Bar and Bat Mitzvah age children of families in Israel who have been affected by war\, military service or terrorism. \nIVOW offers these children the unique opportunity of spending a month in Canada during the summer where they attend a Jewish community camp and visit Montreal\, Ottawa and Toronto before returning home to Israel. \n\nAugust 23 will be the children’s final night in Canada\, so please join us in making this an extra special night.\n\nTickets for IVOW and Beth Torah Members are free. There are a limited number of tickets and they must be reserved in advance. Please email admin@bethtorah.ca
URL:https://bethtorah.ca/event/ivow-dinner/
LOCATION:47 Glenbrook Avenue\, 47 Glenbrook Avenue\, Toronto\, Ontario\, M6B 2L7\, Canada
ATTACH;FMTTYPE=image/jpeg:https://bethtorah.ca/wp-content/uploads/Ivow-1.jpg
END:VEVENT
END:VCALENDAR