BEGIN:VCALENDAR
VERSION:2.0
PRODID:-//Beth Torah Congregation - ECPv6.15.20//NONSGML v1.0//EN
CALSCALE:GREGORIAN
METHOD:PUBLISH
X-ORIGINAL-URL:https://bethtorah.ca
X-WR-CALDESC:Events for Beth Torah Congregation
REFRESH-INTERVAL;VALUE=DURATION:PT1H
X-Robots-Tag:noindex
X-PUBLISHED-TTL:PT1H
BEGIN:VTIMEZONE
TZID:America/Toronto
BEGIN:DAYLIGHT
TZOFFSETFROM:-0500
TZOFFSETTO:-0400
TZNAME:EDT
DTSTART:20210314T070000
END:DAYLIGHT
BEGIN:STANDARD
TZOFFSETFROM:-0400
TZOFFSETTO:-0500
TZNAME:EST
DTSTART:20211107T060000
END:STANDARD
BEGIN:DAYLIGHT
TZOFFSETFROM:-0500
TZOFFSETTO:-0400
TZNAME:EDT
DTSTART:20220313T070000
END:DAYLIGHT
BEGIN:STANDARD
TZOFFSETFROM:-0400
TZOFFSETTO:-0500
TZNAME:EST
DTSTART:20221106T060000
END:STANDARD
BEGIN:DAYLIGHT
TZOFFSETFROM:-0500
TZOFFSETTO:-0400
TZNAME:EDT
DTSTART:20230312T070000
END:DAYLIGHT
BEGIN:STANDARD
TZOFFSETFROM:-0400
TZOFFSETTO:-0500
TZNAME:EST
DTSTART:20231105T060000
END:STANDARD
END:VTIMEZONE
BEGIN:VEVENT
DTSTART;TZID=America/Toronto:20220420T130000
DTEND;TZID=America/Toronto:20220420T143000
DTSTAMP:20260425T161946
CREATED:20220411T163136Z
LAST-MODIFIED:20220411T163302Z
UID:19057-1650459600-1650465000@bethtorah.ca
SUMMARY:Jewish Music with Cantor Edwards & Reuven Granjer
DESCRIPTION:Jewish Music with Cantor Edwards & Reuven Granjer\nWednesday\, April 20 | 1:00 p.m. \nJoin Baycrest@Home for a musical concert with our Cantor David Edwards & Reuven Granger\, all Beth Torah Congregation members will have access to join Baycrest@Home. \n \n			\n				Join on Zoom
URL:https://bethtorah.ca/event/jewish-music-with-cantor-edwards-reuven-granjer/
LOCATION:On Zoom\, Canada
ATTACH;FMTTYPE=image/png:https://bethtorah.ca/wp-content/uploads/cantordavid-01-1.png
END:VEVENT
BEGIN:VEVENT
DTSTART;TZID=America/Toronto:20220428T190000
DTEND;TZID=America/Toronto:20220428T203000
DTSTAMP:20260425T161946
CREATED:20220331T194804Z
LAST-MODIFIED:20220420T160257Z
UID:18109-1651172400-1651177800@bethtorah.ca
SUMMARY:Holocaust Speaker
DESCRIPTION:Holocaust Speaker: A Survivor’s Story\nApril\, 28 | 7:00 p.m. \nCome and listen to\, Holocaust Survivor\, Denise Hans as she shares her trials and tribulations during the Holocaust. Though she was only 4 years old at the time\, she remembers vividly the day the Nazis knocked on her parent’s door and took away her father\, uncle\, aunt and cousin. \nDonations can be made to The International March of the Living here. \nJoin us as she shares her story. \nRegistration
URL:https://bethtorah.ca/event/holocaust-speaker/
LOCATION:47 Glenbrook Avenue\, 47 Glenbrook Avenue\, Toronto\, Ontario\, M6B 2L7\, Canada
ATTACH;FMTTYPE=image/png:https://bethtorah.ca/wp-content/uploads/Holocaust-Survivor-speaker-5-01.png
END:VEVENT
END:VCALENDAR