BEGIN:VCALENDAR
VERSION:2.0
PRODID:-//Beth Torah Congregation - ECPv6.15.20//NONSGML v1.0//EN
CALSCALE:GREGORIAN
METHOD:PUBLISH
X-ORIGINAL-URL:https://bethtorah.ca
X-WR-CALDESC:Events for Beth Torah Congregation
REFRESH-INTERVAL;VALUE=DURATION:PT1H
X-Robots-Tag:noindex
X-PUBLISHED-TTL:PT1H
BEGIN:VTIMEZONE
TZID:America/Toronto
BEGIN:DAYLIGHT
TZOFFSETFROM:-0500
TZOFFSETTO:-0400
TZNAME:EDT
DTSTART:20200308T070000
END:DAYLIGHT
BEGIN:STANDARD
TZOFFSETFROM:-0400
TZOFFSETTO:-0500
TZNAME:EST
DTSTART:20201101T060000
END:STANDARD
BEGIN:DAYLIGHT
TZOFFSETFROM:-0500
TZOFFSETTO:-0400
TZNAME:EDT
DTSTART:20210314T070000
END:DAYLIGHT
BEGIN:STANDARD
TZOFFSETFROM:-0400
TZOFFSETTO:-0500
TZNAME:EST
DTSTART:20211107T060000
END:STANDARD
BEGIN:DAYLIGHT
TZOFFSETFROM:-0500
TZOFFSETTO:-0400
TZNAME:EDT
DTSTART:20220313T070000
END:DAYLIGHT
BEGIN:STANDARD
TZOFFSETFROM:-0400
TZOFFSETTO:-0500
TZNAME:EST
DTSTART:20221106T060000
END:STANDARD
END:VTIMEZONE
BEGIN:VEVENT
DTSTART;TZID=America/Toronto:20211104T190000
DTEND;TZID=America/Toronto:20211104T203000
DTSTAMP:20260426T000655
CREATED:20211008T154314Z
LAST-MODIFIED:20211008T155406Z
UID:6306-1636052400-1636057800@bethtorah.ca
SUMMARY:Essential Jewish Food: An Online Culinary Series
DESCRIPTION:Essential Jewish Food: An Online Culinary Series\nWorkshop #1: Rugelach and Hummus\nThursday\, November 4\, 7:00 PM Via Zoom \nQuit buying your Jewish essentials from the store and learn how to make them in your very own kitchen. Each workshop in our series will feature traditional Jewish food and provide detailed guidance on making each one at home. \nIn workshop #1\, we’ll be making chocolate tahini rugelach and classic Israeli hummus with Carolyn Tanner Cohen of Delicious Dish Cooking School. \nWorkshops are free to join and will be virtual. Registration is mandatory to receive grocery lists and login information.\n			\n				Register
URL:https://bethtorah.ca/event/essential-jewish-food-an-online-culinary-series/
LOCATION:47 Glenbrook Avenue\, Toronto\, Ontario\, M6B 2L7\, Canada
ATTACH;FMTTYPE=image/jpeg:https://bethtorah.ca/wp-content/uploads/15jewish1-superJumbo.jpg
END:VEVENT
BEGIN:VEVENT
DTSTART;TZID=America/Toronto:20211023T114500
DTEND;TZID=America/Toronto:20211023T123000
DTSTAMP:20260426T000656
CREATED:20211008T153549Z
LAST-MODIFIED:20211008T155712Z
UID:6298-1634989500-1634992200@bethtorah.ca
SUMMARY:Beth Torah Children's Shabbat Program
DESCRIPTION:Beth Torah is excited to announce a new Children’s Shabbat Program!\nA Four Week Program from October 23 – November 13\, 2021 \nCalling all families with young children: You are invited to join Rabbanit Rachael & Nomi Barancik in a four-week\, interactive\, weekly\, Shabbat program. Let’s share songs\, storytelling\, and activities\, as we create a meaningful and playful Shabbat morning together. \nFor kids up to 5 years old\, come\, join us\, and make sure to bring one grown-up with you! If you’re between 5-6 years old\, come and be our helpers! \nWe’ll start everything with a mini-lunch together\, at 11:45 a.m.\, in our spacious chapel.  The program is inside our building so we’ll be cozy and warm\, and also physically distanced the whole time. \nDate:               Every Shabbat from October 23 – November 13\, 2021\nTime:               Starting at 11:45 am\nHow Long:      We will spend about 40 minutes together \nThe program is free and open to everyone – members and non-members alike Registration is mandatory. \n \n			\n				Register
URL:https://bethtorah.ca/event/beth-torah-childrens-shabbat-program/
LOCATION:47 Glenbrook Avenue\, 47 Glenbrook Avenue\, Toronto\, Ontario\, M6B 2L7\, Canada
ATTACH;FMTTYPE=image/jpeg:https://bethtorah.ca/wp-content/uploads/5d3ead6cf50cb229157579460eca77d8b6ecff45.jpg
END:VEVENT
BEGIN:VEVENT
DTSTART;TZID=America/Toronto:20211023T114500
DTEND;TZID=America/Toronto:20211023T123000
DTSTAMP:20260426T000656
CREATED:20211008T153549Z
LAST-MODIFIED:20211008T155712Z
UID:6298-1634989500-1634992200@bethtorah.ca
SUMMARY:Beth Torah Children's Shabbat Program
DESCRIPTION:Beth Torah is excited to announce a new Children’s Shabbat Program!\nA Four Week Program from October 23 – November 13\, 2021 \nCalling all families with young children: You are invited to join Rabbanit Rachael & Nomi Barancik in a four-week\, interactive\, weekly\, Shabbat program. Let’s share songs\, storytelling\, and activities\, as we create a meaningful and playful Shabbat morning together. \nFor kids up to 5 years old\, come\, join us\, and make sure to bring one grown-up with you! If you’re between 5-6 years old\, come and be our helpers! \nWe’ll start everything with a mini-lunch together\, at 11:45 a.m.\, in our spacious chapel.  The program is inside our building so we’ll be cozy and warm\, and also physically distanced the whole time. \nDate:               Every Shabbat from October 23 – November 13\, 2021\nTime:               Starting at 11:45 am\nHow Long:      We will spend about 40 minutes together \nThe program is free and open to everyone – members and non-members alike Registration is mandatory. \n \n			\n				Register
URL:https://bethtorah.ca/event/beth-torah-childrens-shabbat-program/
LOCATION:47 Glenbrook Avenue\, 47 Glenbrook Avenue\, Toronto\, Ontario\, M6B 2L7\, Canada
ATTACH;FMTTYPE=image/jpeg:https://bethtorah.ca/wp-content/uploads/5d3ead6cf50cb229157579460eca77d8b6ecff45.jpg
END:VEVENT
END:VCALENDAR