BEGIN:VCALENDAR
VERSION:2.0
PRODID:-//Beth Torah Congregation - ECPv6.15.20//NONSGML v1.0//EN
CALSCALE:GREGORIAN
METHOD:PUBLISH
X-WR-CALNAME:Beth Torah Congregation
X-ORIGINAL-URL:https://bethtorah.ca
X-WR-CALDESC:Events for Beth Torah Congregation
REFRESH-INTERVAL;VALUE=DURATION:PT1H
X-Robots-Tag:noindex
X-PUBLISHED-TTL:PT1H
BEGIN:VTIMEZONE
TZID:America/Toronto
BEGIN:DAYLIGHT
TZOFFSETFROM:-0500
TZOFFSETTO:-0400
TZNAME:EDT
DTSTART:20240310T070000
END:DAYLIGHT
BEGIN:STANDARD
TZOFFSETFROM:-0400
TZOFFSETTO:-0500
TZNAME:EST
DTSTART:20241103T060000
END:STANDARD
BEGIN:DAYLIGHT
TZOFFSETFROM:-0500
TZOFFSETTO:-0400
TZNAME:EDT
DTSTART:20250309T070000
END:DAYLIGHT
BEGIN:STANDARD
TZOFFSETFROM:-0400
TZOFFSETTO:-0500
TZNAME:EST
DTSTART:20251102T060000
END:STANDARD
BEGIN:DAYLIGHT
TZOFFSETFROM:-0500
TZOFFSETTO:-0400
TZNAME:EDT
DTSTART:20260308T070000
END:DAYLIGHT
BEGIN:STANDARD
TZOFFSETFROM:-0400
TZOFFSETTO:-0500
TZNAME:EST
DTSTART:20261101T060000
END:STANDARD
END:VTIMEZONE
BEGIN:VEVENT
DTSTART;TZID=America/Toronto:20250319T130000
DTEND;TZID=America/Toronto:20250319T140000
DTSTAMP:20260425T110937
CREATED:20250221T173029Z
LAST-MODIFIED:20250409T194350Z
UID:52872-1742389200-1742392800@bethtorah.ca
SUMMARY:Torah & Tangents
DESCRIPTION:Join Rav Jen on Wednesday’s from 1 p.m. – 2 p.m. for torah tangents. Examine the p’shat of the parasha and let it take you on an informative journey. Join the session either in person or online. \nREGISTRATION IS REQUIRED. \nTo register please click here.
URL:https://bethtorah.ca/event/torah-tangents/
CATEGORIES:Featured
ATTACH;FMTTYPE=image/png:https://bethtorah.ca/wp-content/uploads/Lunch-Learn-3.png
END:VEVENT
BEGIN:VEVENT
DTSTART;TZID=America/Toronto:20250409T183000
DTEND;TZID=America/Toronto:20250409T200000
DTSTAMP:20260425T110937
CREATED:20250326T174348Z
LAST-MODIFIED:20250421T155941Z
UID:53017-1744223400-1744228800@bethtorah.ca
SUMMARY:Davening Team Rehearsal
DESCRIPTION:We’re excited to relaunch the Beth Torah Davening Team to bring joyful music and prayer to our Shabbat and Yom Tov services. Whether you’re an experienced singer or someone with no formal singing background who simply enjoys singing in community and creating your own harmonies\, we’d love for you to join us. Together\, we’ll explore both traditional and contemporary Jewish melodies that will inspire our community to participate in joyful song and prayer. \nThe Beth Torah Davening Team will help lead services once a month. Rehearsals will be held on most Wednesdays from 6:30 to 8:00 PM\, starting Wednesday\, April 2. \nCome sing\, connect\, and explore the beauty of Jewish music together in community! \nIf you’re interested or have any questions\, please email Cantor Steve at Cantor@bethtorah.ca.
URL:https://bethtorah.ca/event/davening-team-rehearsal-2/
CATEGORIES:Featured
ATTACH;FMTTYPE=image/jpeg:https://bethtorah.ca/wp-content/uploads/Beth-Torah-Singers-2.jpg
END:VEVENT
BEGIN:VEVENT
DTSTART;TZID=America/Toronto:20250410T110000
DTEND;TZID=America/Toronto:20250410T120000
DTSTAMP:20260425T110937
CREATED:20250320T164202Z
LAST-MODIFIED:20250421T160051Z
UID:52977-1744282800-1744286400@bethtorah.ca
SUMMARY:Prayerbook Hebrew Class
DESCRIPTION:Cantor Steve is excited to announce a new Prayerbook Hebrew class starting Thursday mornings from 11:00 am – 12:00 pm beginning on April 10. The class will be offered both in-person at Beth Torah and online. \nThis class is designed for participants who have a basic ability to decode Hebrew (letters and vowels). If you’re interested\, but do not have basic Hebrew knowledge please contact Cantor Steve. \nPlease email Cantor Steve at cantor@bethtorah.ca to register or for more information.  \nDates for Prayerbook Hebrew Class: \nApril 10\, 2025 \nApril 17\, 2025 \nApril 24\, 2025 \nMay 1\, 2025 \nMay 8\, 2025 \nMay 15\, 2025 \nMay 22\, 2025 \nMay 29\, 2025
URL:https://bethtorah.ca/event/prayerbook-hebrew-class/
CATEGORIES:Featured
ATTACH;FMTTYPE=image/png:https://bethtorah.ca/wp-content/uploads/Prayerbook-Hebrew-Class-2.png
END:VEVENT
BEGIN:VEVENT
DTSTART;VALUE=DATE:20250516
DTEND;VALUE=DATE:20250517
DTSTAMP:20260425T110937
CREATED:20250326T193001Z
LAST-MODIFIED:20250326T193001Z
UID:53053-1747353600-1747439999@bethtorah.ca
SUMMARY:Lag BaOmer
DESCRIPTION:
URL:https://bethtorah.ca/event/lag-baomer/
END:VEVENT
BEGIN:VEVENT
DTSTART;TZID=America/Toronto:20250315T093000
DTEND;TZID=America/Toronto:20250315T113000
DTSTAMP:20260425T110937
CREATED:20250312T193613Z
LAST-MODIFIED:20250326T191506Z
UID:52917-1742031000-1742038200@bethtorah.ca
SUMMARY:Shabbat Services
DESCRIPTION:
URL:https://bethtorah.ca/event/shabbat-services/
END:VEVENT
BEGIN:VEVENT
DTSTART;VALUE=DATE:20250519
DTEND;VALUE=DATE:20250520
DTSTAMP:20260425T110937
CREATED:20250506T125500Z
LAST-MODIFIED:20250506T125500Z
UID:53221-1747612800-1747699199@bethtorah.ca
SUMMARY:Victoria Day
DESCRIPTION:Office is closed.
URL:https://bethtorah.ca/event/victoria-day/
END:VEVENT
BEGIN:VEVENT
DTSTART;TZID=America/Toronto:20250319T130000
DTEND;TZID=America/Toronto:20250319T140000
DTSTAMP:20260425T110937
CREATED:20250221T173029Z
LAST-MODIFIED:20250409T194350Z
UID:52872-1742389200-1742392800@bethtorah.ca
SUMMARY:Torah & Tangents
DESCRIPTION:Join Rav Jen on Wednesday’s from 1 p.m. – 2 p.m. for torah tangents. Examine the p’shat of the parasha and let it take you on an informative journey. Join the session either in person or online. \nREGISTRATION IS REQUIRED. \nTo register please click here.
URL:https://bethtorah.ca/event/torah-tangents/
CATEGORIES:Featured
ATTACH;FMTTYPE=image/png:https://bethtorah.ca/wp-content/uploads/Lunch-Learn-3.png
END:VEVENT
BEGIN:VEVENT
DTSTART;TZID=America/Toronto:20250409T183000
DTEND;TZID=America/Toronto:20250409T200000
DTSTAMP:20260425T110937
CREATED:20250326T174348Z
LAST-MODIFIED:20250421T155941Z
UID:53017-1744223400-1744228800@bethtorah.ca
SUMMARY:Davening Team Rehearsal
DESCRIPTION:We’re excited to relaunch the Beth Torah Davening Team to bring joyful music and prayer to our Shabbat and Yom Tov services. Whether you’re an experienced singer or someone with no formal singing background who simply enjoys singing in community and creating your own harmonies\, we’d love for you to join us. Together\, we’ll explore both traditional and contemporary Jewish melodies that will inspire our community to participate in joyful song and prayer. \nThe Beth Torah Davening Team will help lead services once a month. Rehearsals will be held on most Wednesdays from 6:30 to 8:00 PM\, starting Wednesday\, April 2. \nCome sing\, connect\, and explore the beauty of Jewish music together in community! \nIf you’re interested or have any questions\, please email Cantor Steve at Cantor@bethtorah.ca.
URL:https://bethtorah.ca/event/davening-team-rehearsal-2/
CATEGORIES:Featured
ATTACH;FMTTYPE=image/jpeg:https://bethtorah.ca/wp-content/uploads/Beth-Torah-Singers-2.jpg
END:VEVENT
BEGIN:VEVENT
DTSTART;TZID=America/Toronto:20250410T110000
DTEND;TZID=America/Toronto:20250410T120000
DTSTAMP:20260425T110937
CREATED:20250320T164202Z
LAST-MODIFIED:20250421T160051Z
UID:52977-1744282800-1744286400@bethtorah.ca
SUMMARY:Prayerbook Hebrew Class
DESCRIPTION:Cantor Steve is excited to announce a new Prayerbook Hebrew class starting Thursday mornings from 11:00 am – 12:00 pm beginning on April 10. The class will be offered both in-person at Beth Torah and online. \nThis class is designed for participants who have a basic ability to decode Hebrew (letters and vowels). If you’re interested\, but do not have basic Hebrew knowledge please contact Cantor Steve. \nPlease email Cantor Steve at cantor@bethtorah.ca to register or for more information.  \nDates for Prayerbook Hebrew Class: \nApril 10\, 2025 \nApril 17\, 2025 \nApril 24\, 2025 \nMay 1\, 2025 \nMay 8\, 2025 \nMay 15\, 2025 \nMay 22\, 2025 \nMay 29\, 2025
URL:https://bethtorah.ca/event/prayerbook-hebrew-class/
CATEGORIES:Featured
ATTACH;FMTTYPE=image/png:https://bethtorah.ca/wp-content/uploads/Prayerbook-Hebrew-Class-2.png
END:VEVENT
BEGIN:VEVENT
DTSTART;TZID=America/Toronto:20250522T180000
DTEND;TZID=America/Toronto:20250522T210000
DTSTAMP:20260425T110937
CREATED:20250502T153914Z
LAST-MODIFIED:20250502T161733Z
UID:53200-1747936800-1747947600@bethtorah.ca
SUMMARY:Hayden's Garden Planting Party
DESCRIPTION:Join Beth Torah to honour and celebrate Hayden Solomons at the 4th annual planting party in Hayden’s Garden on May 22 at 6pm! \nIf you’d like to make a donation\, please call the office at 416-782-4495.
URL:https://bethtorah.ca/event/haydens-garden-planting-party-2/
CATEGORIES:Featured
ATTACH;FMTTYPE=image/jpeg:https://bethtorah.ca/wp-content/uploads/Haydens-Garden-Planting-Party-May-22.jpg
END:VEVENT
BEGIN:VEVENT
DTSTART;TZID=America/Toronto:20250315T093000
DTEND;TZID=America/Toronto:20250315T113000
DTSTAMP:20260425T110937
CREATED:20250312T193613Z
LAST-MODIFIED:20250326T191506Z
UID:52917-1742031000-1742038200@bethtorah.ca
SUMMARY:Shabbat Services
DESCRIPTION:
URL:https://bethtorah.ca/event/shabbat-services/
END:VEVENT
BEGIN:VEVENT
DTSTART;TZID=America/Toronto:20250331T193000
DTEND;TZID=America/Toronto:20250331T210000
DTSTAMP:20260425T110937
CREATED:20250320T145342Z
LAST-MODIFIED:20250327T183237Z
UID:52958-1743449400-1743454800@bethtorah.ca
SUMMARY:Jewish Foodways & Traditions
DESCRIPTION:Join Rabbi Jen once a month on Monday evenings (7:30 p.m. – 9:00 p.m.) virtually for a journey to different communities through the lens of Jewish food and community traditions. Depending on where you’re from\, Jewish food may conger up mouthwatering scents of cholent\, dorot wat\, or mujedra. We’ll talk and prepare (virtually) some special dishes as we learn. Register here. \n3/31 – Why are these foods different from all other foods (How not to be hungry at the seder) \n4/28 – Rome’s Jewish Community – Pizza Ebraica \n5/26 – From Spain to Solonika – Pan De Siete Cielos – Shavuot Seven Heavens Bread \n6/23 – Israel’s Favourite Foods – Summer Watermelon Salad
URL:https://bethtorah.ca/event/jewish-foodways-traditions/
CATEGORIES:Featured
ATTACH;FMTTYPE=image/png:https://bethtorah.ca/wp-content/uploads/Jewish-Foodways-Traditions-1.png
END:VEVENT
BEGIN:VEVENT
DTSTART;VALUE=DATE:20250528
DTEND;VALUE=DATE:20250529
DTSTAMP:20260425T110937
CREATED:20250313T175827Z
LAST-MODIFIED:20250327T164630Z
UID:52935-1748390400-1748476799@bethtorah.ca
SUMMARY:Rosh Chodesh Sivan
DESCRIPTION:
URL:https://bethtorah.ca/event/rosh-chodesh-4/
END:VEVENT
BEGIN:VEVENT
DTSTART;TZID=America/Toronto:20250319T130000
DTEND;TZID=America/Toronto:20250319T140000
DTSTAMP:20260425T110937
CREATED:20250221T173029Z
LAST-MODIFIED:20250409T194350Z
UID:52872-1742389200-1742392800@bethtorah.ca
SUMMARY:Torah & Tangents
DESCRIPTION:Join Rav Jen on Wednesday’s from 1 p.m. – 2 p.m. for torah tangents. Examine the p’shat of the parasha and let it take you on an informative journey. Join the session either in person or online. \nREGISTRATION IS REQUIRED. \nTo register please click here.
URL:https://bethtorah.ca/event/torah-tangents/
CATEGORIES:Featured
ATTACH;FMTTYPE=image/png:https://bethtorah.ca/wp-content/uploads/Lunch-Learn-3.png
END:VEVENT
BEGIN:VEVENT
DTSTART;TZID=America/Toronto:20250409T183000
DTEND;TZID=America/Toronto:20250409T200000
DTSTAMP:20260425T110937
CREATED:20250326T174348Z
LAST-MODIFIED:20250421T155941Z
UID:53017-1744223400-1744228800@bethtorah.ca
SUMMARY:Davening Team Rehearsal
DESCRIPTION:We’re excited to relaunch the Beth Torah Davening Team to bring joyful music and prayer to our Shabbat and Yom Tov services. Whether you’re an experienced singer or someone with no formal singing background who simply enjoys singing in community and creating your own harmonies\, we’d love for you to join us. Together\, we’ll explore both traditional and contemporary Jewish melodies that will inspire our community to participate in joyful song and prayer. \nThe Beth Torah Davening Team will help lead services once a month. Rehearsals will be held on most Wednesdays from 6:30 to 8:00 PM\, starting Wednesday\, April 2. \nCome sing\, connect\, and explore the beauty of Jewish music together in community! \nIf you’re interested or have any questions\, please email Cantor Steve at Cantor@bethtorah.ca.
URL:https://bethtorah.ca/event/davening-team-rehearsal-2/
CATEGORIES:Featured
ATTACH;FMTTYPE=image/jpeg:https://bethtorah.ca/wp-content/uploads/Beth-Torah-Singers-2.jpg
END:VEVENT
BEGIN:VEVENT
DTSTART;TZID=America/Toronto:20250410T110000
DTEND;TZID=America/Toronto:20250410T120000
DTSTAMP:20260425T110937
CREATED:20250320T164202Z
LAST-MODIFIED:20250421T160051Z
UID:52977-1744282800-1744286400@bethtorah.ca
SUMMARY:Prayerbook Hebrew Class
DESCRIPTION:Cantor Steve is excited to announce a new Prayerbook Hebrew class starting Thursday mornings from 11:00 am – 12:00 pm beginning on April 10. The class will be offered both in-person at Beth Torah and online. \nThis class is designed for participants who have a basic ability to decode Hebrew (letters and vowels). If you’re interested\, but do not have basic Hebrew knowledge please contact Cantor Steve. \nPlease email Cantor Steve at cantor@bethtorah.ca to register or for more information.  \nDates for Prayerbook Hebrew Class: \nApril 10\, 2025 \nApril 17\, 2025 \nApril 24\, 2025 \nMay 1\, 2025 \nMay 8\, 2025 \nMay 15\, 2025 \nMay 22\, 2025 \nMay 29\, 2025
URL:https://bethtorah.ca/event/prayerbook-hebrew-class/
CATEGORIES:Featured
ATTACH;FMTTYPE=image/png:https://bethtorah.ca/wp-content/uploads/Prayerbook-Hebrew-Class-2.png
END:VEVENT
BEGIN:VEVENT
DTSTART;TZID=America/Toronto:20250315T093000
DTEND;TZID=America/Toronto:20250315T113000
DTSTAMP:20260425T110937
CREATED:20250312T193613Z
LAST-MODIFIED:20250326T191506Z
UID:52917-1742031000-1742038200@bethtorah.ca
SUMMARY:Shabbat Services
DESCRIPTION:
URL:https://bethtorah.ca/event/shabbat-services/
END:VEVENT
BEGIN:VEVENT
DTSTART;VALUE=DATE:20250601
DTEND;VALUE=DATE:20250602
DTSTAMP:20260425T110937
CREATED:20250326T193036Z
LAST-MODIFIED:20250326T193036Z
UID:53055-1748736000-1748822399@bethtorah.ca
SUMMARY:Erev Shavuot
DESCRIPTION:
URL:https://bethtorah.ca/event/erev-shavuot/
END:VEVENT
BEGIN:VEVENT
DTSTART;TZID=America/Toronto:20250601T193000
DTEND;TZID=America/Toronto:20250601T210000
DTSTAMP:20260425T110937
CREATED:20250515T185547Z
LAST-MODIFIED:20250516T124945Z
UID:53242-1748806200-1748811600@bethtorah.ca
SUMMARY:Tikkun Liel Shavuot
DESCRIPTION:Register here.
URL:https://bethtorah.ca/event/tikkun-liel-shavuot/
CATEGORIES:Featured
ATTACH;FMTTYPE=image/jpeg:https://bethtorah.ca/wp-content/uploads/Tikkun-Leil-Shavuot.jpg
END:VEVENT
BEGIN:VEVENT
DTSTART;VALUE=DATE:20250602
DTEND;VALUE=DATE:20250603
DTSTAMP:20260425T110937
CREATED:20250326T193112Z
LAST-MODIFIED:20250506T125544Z
UID:53057-1748822400-1748908799@bethtorah.ca
SUMMARY:Shavuot I
DESCRIPTION:Office is closed.
URL:https://bethtorah.ca/event/shavuot-i/
END:VEVENT
BEGIN:VEVENT
DTSTART;VALUE=DATE:20250603
DTEND;VALUE=DATE:20250604
DTSTAMP:20260425T110937
CREATED:20250326T193138Z
LAST-MODIFIED:20250506T125611Z
UID:53059-1748908800-1748995199@bethtorah.ca
SUMMARY:Shavuot II
DESCRIPTION:Office is closed.
URL:https://bethtorah.ca/event/shavuot-ii/
END:VEVENT
BEGIN:VEVENT
DTSTART;TZID=America/Toronto:20250319T130000
DTEND;TZID=America/Toronto:20250319T140000
DTSTAMP:20260425T110937
CREATED:20250221T173029Z
LAST-MODIFIED:20250409T194350Z
UID:52872-1742389200-1742392800@bethtorah.ca
SUMMARY:Torah & Tangents
DESCRIPTION:Join Rav Jen on Wednesday’s from 1 p.m. – 2 p.m. for torah tangents. Examine the p’shat of the parasha and let it take you on an informative journey. Join the session either in person or online. \nREGISTRATION IS REQUIRED. \nTo register please click here.
URL:https://bethtorah.ca/event/torah-tangents/
CATEGORIES:Featured
ATTACH;FMTTYPE=image/png:https://bethtorah.ca/wp-content/uploads/Lunch-Learn-3.png
END:VEVENT
BEGIN:VEVENT
DTSTART;TZID=America/Toronto:20250605T090000
DTEND;TZID=America/Toronto:20250605T170000
DTSTAMP:20260425T110937
CREATED:20250131T173458Z
LAST-MODIFIED:20250421T155746Z
UID:52836-1749114000-1749142800@bethtorah.ca
SUMMARY:Golf Tournament
DESCRIPTION:REGISTER NOW to join us at the Lebovic Golf Club on Thursday\, June 5\, 2025\, for the inaugural Beth Torah golf tournament! \nYour ticket includes breakfast\, a light lunch\, snacks and refreshments\, dinner and a swag bag! \nEARLY BIRD SPECIAL! A great mother’s or father’s day gift! REGISTER BY APRIL 18 \nSECURE YOUR SPOT TODAY! \nRegistration is now open!
URL:https://bethtorah.ca/event/golf-tournament/
CATEGORIES:Featured
ATTACH;FMTTYPE=image/jpeg:https://bethtorah.ca/wp-content/uploads/Beth-Torah-Golf-Tournament-v2.jpg
END:VEVENT
BEGIN:VEVENT
DTSTART;TZID=America/Toronto:20250605T193000
DTEND;TZID=America/Toronto:20250605T220000
DTSTAMP:20260425T110937
CREATED:20250515T185410Z
LAST-MODIFIED:20250515T185410Z
UID:53239-1749151800-1749160800@bethtorah.ca
SUMMARY:A Story of Love\, Survival and Hope
DESCRIPTION:Join us at Beth Torah on June 5 at 7:30 p.m. for an intimate evening with Eliya Cohen\, who was held hostage by Hamas for 505 days\, and Nova festival survivor\, Ziv Abud. Register now.
URL:https://bethtorah.ca/event/a-story-of-love-survival-and-hope/
CATEGORIES:Featured
ATTACH;FMTTYPE=image/jpeg:https://bethtorah.ca/wp-content/uploads/Toronto-Nova-Speaking-Engagement-June-5-2025-2.jpg
END:VEVENT
BEGIN:VEVENT
DTSTART;TZID=America/Toronto:20250607T090000
DTEND;TZID=America/Toronto:20250607T123000
DTSTAMP:20260425T110937
CREATED:20250506T123616Z
LAST-MODIFIED:20250506T123653Z
UID:53217-1749286800-1749299400@bethtorah.ca
SUMMARY:Intergenerational Shabbat
DESCRIPTION:The next Intergenerational Shabbat is on June 7\, 2025. A Shabbat experience for every generation – celebrating ALL ages! \nTo make a donation and honour a loved one’s birthday in June\, call the office at 416-782-4495.
URL:https://bethtorah.ca/event/intergenerational-shabbat-4/
ATTACH;FMTTYPE=image/jpeg:https://bethtorah.ca/wp-content/uploads/June-2025.jpg
END:VEVENT
BEGIN:VEVENT
DTSTART;TZID=America/Toronto:20250315T093000
DTEND;TZID=America/Toronto:20250315T113000
DTSTAMP:20260425T110937
CREATED:20250312T193613Z
LAST-MODIFIED:20250326T191506Z
UID:52917-1742031000-1742038200@bethtorah.ca
SUMMARY:Shabbat Services
DESCRIPTION:
URL:https://bethtorah.ca/event/shabbat-services/
END:VEVENT
BEGIN:VEVENT
DTSTART;TZID=America/Toronto:20250315T093000
DTEND;TZID=America/Toronto:20250315T113000
DTSTAMP:20260425T110937
CREATED:20250312T193613Z
LAST-MODIFIED:20250326T191506Z
UID:52917-1742031000-1742038200@bethtorah.ca
SUMMARY:Shabbat Services
DESCRIPTION:
URL:https://bethtorah.ca/event/shabbat-services/
END:VEVENT
BEGIN:VEVENT
DTSTART;TZID=America/Toronto:20250315T093000
DTEND;TZID=America/Toronto:20250315T113000
DTSTAMP:20260425T110937
CREATED:20250312T193613Z
LAST-MODIFIED:20250326T191506Z
UID:52917-1742031000-1742038200@bethtorah.ca
SUMMARY:Shabbat Services
DESCRIPTION:
URL:https://bethtorah.ca/event/shabbat-services/
END:VEVENT
BEGIN:VEVENT
DTSTART;TZID=America/Toronto:20250331T193000
DTEND;TZID=America/Toronto:20250331T210000
DTSTAMP:20260425T110937
CREATED:20250320T145342Z
LAST-MODIFIED:20250327T183237Z
UID:52958-1743449400-1743454800@bethtorah.ca
SUMMARY:Jewish Foodways & Traditions
DESCRIPTION:Join Rabbi Jen once a month on Monday evenings (7:30 p.m. – 9:00 p.m.) virtually for a journey to different communities through the lens of Jewish food and community traditions. Depending on where you’re from\, Jewish food may conger up mouthwatering scents of cholent\, dorot wat\, or mujedra. We’ll talk and prepare (virtually) some special dishes as we learn. Register here. \n3/31 – Why are these foods different from all other foods (How not to be hungry at the seder) \n4/28 – Rome’s Jewish Community – Pizza Ebraica \n5/26 – From Spain to Solonika – Pan De Siete Cielos – Shavuot Seven Heavens Bread \n6/23 – Israel’s Favourite Foods – Summer Watermelon Salad
URL:https://bethtorah.ca/event/jewish-foodways-traditions/
CATEGORIES:Featured
ATTACH;FMTTYPE=image/png:https://bethtorah.ca/wp-content/uploads/Jewish-Foodways-Traditions-1.png
END:VEVENT
BEGIN:VEVENT
DTSTART;TZID=America/Toronto:20250625T130000
DTEND;TZID=America/Toronto:20250625T140000
DTSTAMP:20260425T110937
CREATED:20250617T132950Z
LAST-MODIFIED:20250617T132951Z
UID:53277-1750856400-1750860000@bethtorah.ca
SUMMARY:Torah & Tangents
DESCRIPTION:Join Rav Jen on Wednesday’s from 1 p.m. – 2 p.m. for torah tangents. Examine the p’shat of the parasha and let it take you on an informative journey. Join the session either in person or online. \nREGISTRATION IS REQUIRED. \nTo register please click here.
URL:https://bethtorah.ca/event/torah-tangents-2/
CATEGORIES:Featured
ATTACH;FMTTYPE=image/png:https://bethtorah.ca/wp-content/uploads/Lunch-Learn-3.png
END:VEVENT
END:VCALENDAR