BEGIN:VCALENDAR
VERSION:2.0
PRODID:-//Beth Torah Congregation - ECPv6.15.20//NONSGML v1.0//EN
CALSCALE:GREGORIAN
METHOD:PUBLISH
X-WR-CALNAME:Beth Torah Congregation
X-ORIGINAL-URL:https://bethtorah.ca
X-WR-CALDESC:Events for Beth Torah Congregation
REFRESH-INTERVAL;VALUE=DURATION:PT1H
X-Robots-Tag:noindex
X-PUBLISHED-TTL:PT1H
BEGIN:VTIMEZONE
TZID:America/Toronto
BEGIN:DAYLIGHT
TZOFFSETFROM:-0500
TZOFFSETTO:-0400
TZNAME:EDT
DTSTART:20240310T070000
END:DAYLIGHT
BEGIN:STANDARD
TZOFFSETFROM:-0400
TZOFFSETTO:-0500
TZNAME:EST
DTSTART:20241103T060000
END:STANDARD
BEGIN:DAYLIGHT
TZOFFSETFROM:-0500
TZOFFSETTO:-0400
TZNAME:EDT
DTSTART:20250309T070000
END:DAYLIGHT
BEGIN:STANDARD
TZOFFSETFROM:-0400
TZOFFSETTO:-0500
TZNAME:EST
DTSTART:20251102T060000
END:STANDARD
BEGIN:DAYLIGHT
TZOFFSETFROM:-0500
TZOFFSETTO:-0400
TZNAME:EDT
DTSTART:20260308T070000
END:DAYLIGHT
BEGIN:STANDARD
TZOFFSETFROM:-0400
TZOFFSETTO:-0500
TZNAME:EST
DTSTART:20261101T060000
END:STANDARD
END:VTIMEZONE
BEGIN:VEVENT
DTSTART;TZID=America/Toronto:20250315T093000
DTEND;TZID=America/Toronto:20250315T113000
DTSTAMP:20260424T093647
CREATED:20250312T193613Z
LAST-MODIFIED:20250326T191506Z
UID:52917-1742031000-1742038200@bethtorah.ca
SUMMARY:Shabbat Services
DESCRIPTION:
URL:https://bethtorah.ca/event/shabbat-services/
END:VEVENT
BEGIN:VEVENT
DTSTART;TZID=America/Toronto:20250315T093000
DTEND;TZID=America/Toronto:20250315T113000
DTSTAMP:20260424T093647
CREATED:20250312T193613Z
LAST-MODIFIED:20250326T191506Z
UID:52917-1742031000-1742038200@bethtorah.ca
SUMMARY:Shabbat Services
DESCRIPTION:
URL:https://bethtorah.ca/event/shabbat-services/
END:VEVENT
BEGIN:VEVENT
DTSTART;TZID=America/Toronto:20250331T193000
DTEND;TZID=America/Toronto:20250331T210000
DTSTAMP:20260424T093647
CREATED:20250320T145342Z
LAST-MODIFIED:20250327T183237Z
UID:52958-1743449400-1743454800@bethtorah.ca
SUMMARY:Jewish Foodways & Traditions
DESCRIPTION:Join Rabbi Jen once a month on Monday evenings (7:30 p.m. – 9:00 p.m.) virtually for a journey to different communities through the lens of Jewish food and community traditions. Depending on where you’re from\, Jewish food may conger up mouthwatering scents of cholent\, dorot wat\, or mujedra. We’ll talk and prepare (virtually) some special dishes as we learn. Register here. \n3/31 – Why are these foods different from all other foods (How not to be hungry at the seder) \n4/28 – Rome’s Jewish Community – Pizza Ebraica \n5/26 – From Spain to Solonika – Pan De Siete Cielos – Shavuot Seven Heavens Bread \n6/23 – Israel’s Favourite Foods – Summer Watermelon Salad
URL:https://bethtorah.ca/event/jewish-foodways-traditions/
CATEGORIES:Featured
ATTACH;FMTTYPE=image/png:https://bethtorah.ca/wp-content/uploads/Jewish-Foodways-Traditions-1.png
END:VEVENT
BEGIN:VEVENT
DTSTART;TZID=America/Toronto:20250625T130000
DTEND;TZID=America/Toronto:20250625T140000
DTSTAMP:20260424T093648
CREATED:20250617T132950Z
LAST-MODIFIED:20250617T132951Z
UID:53277-1750856400-1750860000@bethtorah.ca
SUMMARY:Torah & Tangents
DESCRIPTION:Join Rav Jen on Wednesday’s from 1 p.m. – 2 p.m. for torah tangents. Examine the p’shat of the parasha and let it take you on an informative journey. Join the session either in person or online. \nREGISTRATION IS REQUIRED. \nTo register please click here.
URL:https://bethtorah.ca/event/torah-tangents-2/
CATEGORIES:Featured
ATTACH;FMTTYPE=image/png:https://bethtorah.ca/wp-content/uploads/Lunch-Learn-3.png
END:VEVENT
BEGIN:VEVENT
DTSTART;VALUE=DATE:20250626
DTEND;VALUE=DATE:20250628
DTSTAMP:20260424T093648
CREATED:20250327T164204Z
LAST-MODIFIED:20250327T164204Z
UID:53073-1750896000-1751068799@bethtorah.ca
SUMMARY:Rosh Chodesh Tamuz
DESCRIPTION:
URL:https://bethtorah.ca/event/rosh-chodesh-tamuz/
END:VEVENT
BEGIN:VEVENT
DTSTART;TZID=America/Toronto:20250315T093000
DTEND;TZID=America/Toronto:20250315T113000
DTSTAMP:20260424T093648
CREATED:20250312T193613Z
LAST-MODIFIED:20250326T191506Z
UID:52917-1742031000-1742038200@bethtorah.ca
SUMMARY:Shabbat Services
DESCRIPTION:
URL:https://bethtorah.ca/event/shabbat-services/
END:VEVENT
BEGIN:VEVENT
DTSTART;TZID=America/Toronto:20250315T093000
DTEND;TZID=America/Toronto:20250315T113000
DTSTAMP:20260424T093648
CREATED:20250312T193613Z
LAST-MODIFIED:20250326T191506Z
UID:52917-1742031000-1742038200@bethtorah.ca
SUMMARY:Shabbat Services
DESCRIPTION:
URL:https://bethtorah.ca/event/shabbat-services/
END:VEVENT
BEGIN:VEVENT
DTSTART;TZID=America/Toronto:20250705T120000
DTEND;TZID=America/Toronto:20250705T130000
DTSTAMP:20260424T093648
CREATED:20250617T133555Z
LAST-MODIFIED:20250723T192745Z
UID:53279-1751716800-1751720400@bethtorah.ca
SUMMARY:Torah & Tangents
DESCRIPTION:Join Rav Jen on an exploration of the Kabbalistic Tree of Life each Shabbat after services. We’ll examine the Sephirot through which God is revealed and interacts with the world. \n  \n 
URL:https://bethtorah.ca/event/torah-tangents-3/
CATEGORIES:Featured
ATTACH;FMTTYPE=image/jpeg:https://bethtorah.ca/wp-content/uploads/Torah-and-Tangents.jpg
END:VEVENT
BEGIN:VEVENT
DTSTART;TZID=America/Toronto:20250706T090000
DTEND;TZID=America/Toronto:20250706T100000
DTSTAMP:20260424T093648
CREATED:20250617T135242Z
LAST-MODIFIED:20250617T135242Z
UID:53285-1751792400-1751796000@bethtorah.ca
SUMMARY:No Morning Minyan
DESCRIPTION:
URL:https://bethtorah.ca/event/no-morning-minyan/
END:VEVENT
BEGIN:VEVENT
DTSTART;TZID=America/Toronto:20250710T100000
DTEND;TZID=America/Toronto:20250710T120000
DTSTAMP:20260424T093648
CREATED:20250709T132337Z
LAST-MODIFIED:20250709T132337Z
UID:53310-1752141600-1752148800@bethtorah.ca
SUMMARY:Coffee with Cantor Steve @ United Bakers
DESCRIPTION:
URL:https://bethtorah.ca/event/coffee-with-cantor-steve-united-bakers/
END:VEVENT
BEGIN:VEVENT
DTSTART;TZID=America/Toronto:20250315T093000
DTEND;TZID=America/Toronto:20250315T113000
DTSTAMP:20260424T093648
CREATED:20250312T193613Z
LAST-MODIFIED:20250326T191506Z
UID:52917-1742031000-1742038200@bethtorah.ca
SUMMARY:Shabbat Services
DESCRIPTION:
URL:https://bethtorah.ca/event/shabbat-services/
END:VEVENT
BEGIN:VEVENT
DTSTART;TZID=America/Toronto:20250712T120000
DTEND;TZID=America/Toronto:20250712T130000
DTSTAMP:20260424T093648
CREATED:20250723T193224Z
LAST-MODIFIED:20250723T193225Z
UID:53346-1752321600-1752325200@bethtorah.ca
SUMMARY:Torah & Tangents
DESCRIPTION:Join Rav Jen on an exploration of the Kabbalistic Tree of Life each Shabbat after services. We’ll examine the Sephirot through which God is revealed and interacts with the world. \n  \n 
URL:https://bethtorah.ca/event/torah-tangents-3-3/
CATEGORIES:Featured
ATTACH;FMTTYPE=image/jpeg:https://bethtorah.ca/wp-content/uploads/Torah-and-Tangents.jpg
END:VEVENT
BEGIN:VEVENT
DTSTART;TZID=America/Toronto:20250706T090000
DTEND;TZID=America/Toronto:20250706T100000
DTSTAMP:20260424T093648
CREATED:20250617T135242Z
LAST-MODIFIED:20250617T135242Z
UID:53285-1751792400-1751796000@bethtorah.ca
SUMMARY:No Morning Minyan
DESCRIPTION:
URL:https://bethtorah.ca/event/no-morning-minyan/
END:VEVENT
BEGIN:VEVENT
DTSTART;TZID=America/Toronto:20250717T153000
DTEND;TZID=America/Toronto:20250717T170000
DTSTAMP:20260424T093648
CREATED:20250709T132607Z
LAST-MODIFIED:20250716T192129Z
UID:53314-1752766200-1752771600@bethtorah.ca
SUMMARY:Coffee with Rav Jen @ The Inside Scoop
DESCRIPTION:
URL:https://bethtorah.ca/event/coffee-with-rav-jen-the-inside-scoop/
CATEGORIES:Featured
ATTACH;FMTTYPE=image/jpeg:https://bethtorah.ca/wp-content/uploads/Coffee-With-The-Clergy.jpg
END:VEVENT
BEGIN:VEVENT
DTSTART;TZID=America/Toronto:20250315T093000
DTEND;TZID=America/Toronto:20250315T113000
DTSTAMP:20260424T093648
CREATED:20250312T193613Z
LAST-MODIFIED:20250326T191506Z
UID:52917-1742031000-1742038200@bethtorah.ca
SUMMARY:Shabbat Services
DESCRIPTION:
URL:https://bethtorah.ca/event/shabbat-services/
END:VEVENT
BEGIN:VEVENT
DTSTART;TZID=America/Toronto:20250712T120000
DTEND;TZID=America/Toronto:20250712T130000
DTSTAMP:20260424T093648
CREATED:20250723T193224Z
LAST-MODIFIED:20250723T193225Z
UID:53346-1752321600-1752325200@bethtorah.ca
SUMMARY:Torah & Tangents
DESCRIPTION:Join Rav Jen on an exploration of the Kabbalistic Tree of Life each Shabbat after services. We’ll examine the Sephirot through which God is revealed and interacts with the world. \n  \n 
URL:https://bethtorah.ca/event/torah-tangents-3-3/
CATEGORIES:Featured
ATTACH;FMTTYPE=image/jpeg:https://bethtorah.ca/wp-content/uploads/Torah-and-Tangents.jpg
END:VEVENT
BEGIN:VEVENT
DTSTART;TZID=America/Toronto:20250706T090000
DTEND;TZID=America/Toronto:20250706T100000
DTSTAMP:20260424T093648
CREATED:20250617T135242Z
LAST-MODIFIED:20250617T135242Z
UID:53285-1751792400-1751796000@bethtorah.ca
SUMMARY:No Morning Minyan
DESCRIPTION:
URL:https://bethtorah.ca/event/no-morning-minyan/
END:VEVENT
BEGIN:VEVENT
DTSTART;TZID=America/Toronto:20250725T180000
DTEND;TZID=America/Toronto:20250725T210000
DTSTAMP:20260424T093648
CREATED:20250709T132815Z
LAST-MODIFIED:20250716T193712Z
UID:53318-1753466400-1753477200@bethtorah.ca
SUMMARY:Musical Kabbalat Shabbat & BBQ in Hayden's Garden
DESCRIPTION:Please join us for Kabbalat Shabbat. Register HERE for BBQ dinner!
URL:https://bethtorah.ca/event/musical-kabbalat-shabbat-bbq-in-haydens-garden/
CATEGORIES:Featured
ATTACH;FMTTYPE=image/jpeg:https://bethtorah.ca/wp-content/uploads/Musical-Kabbalat-Shabbat-1.jpg
END:VEVENT
BEGIN:VEVENT
DTSTART;VALUE=DATE:20250726
DTEND;VALUE=DATE:20250727
DTSTAMP:20260424T093648
CREATED:20250327T164128Z
LAST-MODIFIED:20250327T164128Z
UID:53071-1753488000-1753574399@bethtorah.ca
SUMMARY:Rosh Chodesh Av
DESCRIPTION:
URL:https://bethtorah.ca/event/rosh-chodesh-av/
END:VEVENT
BEGIN:VEVENT
DTSTART;TZID=America/Toronto:20250315T093000
DTEND;TZID=America/Toronto:20250315T113000
DTSTAMP:20260424T093648
CREATED:20250312T193613Z
LAST-MODIFIED:20250326T191506Z
UID:52917-1742031000-1742038200@bethtorah.ca
SUMMARY:Shabbat Services
DESCRIPTION:
URL:https://bethtorah.ca/event/shabbat-services/
END:VEVENT
BEGIN:VEVENT
DTSTART;TZID=America/Toronto:20250706T090000
DTEND;TZID=America/Toronto:20250706T100000
DTSTAMP:20260424T093648
CREATED:20250617T135242Z
LAST-MODIFIED:20250617T135242Z
UID:53285-1751792400-1751796000@bethtorah.ca
SUMMARY:No Morning Minyan
DESCRIPTION:
URL:https://bethtorah.ca/event/no-morning-minyan/
END:VEVENT
BEGIN:VEVENT
DTSTART;TZID=America/Toronto:20250728T180000
DTEND;TZID=America/Toronto:20250728T200000
DTSTAMP:20260424T093648
CREATED:20250709T133007Z
LAST-MODIFIED:20250709T133007Z
UID:53321-1753725600-1753732800@bethtorah.ca
SUMMARY:Coffee with Rav Jen @ Mamila Cafe (Promenade Mall)
DESCRIPTION:
URL:https://bethtorah.ca/event/coffee-with-rav-jen-mamila-cafe-promenade-mall/
END:VEVENT
BEGIN:VEVENT
DTSTART;VALUE=DATE:20250802
DTEND;VALUE=DATE:20250803
DTSTAMP:20260424T093648
CREATED:20250327T163935Z
LAST-MODIFIED:20250327T163936Z
UID:53065-1754092800-1754179199@bethtorah.ca
SUMMARY:Erev Tish'a B'Av
DESCRIPTION:
URL:https://bethtorah.ca/event/erev-tisha-bav/
END:VEVENT
BEGIN:VEVENT
DTSTART;TZID=America/Toronto:20250315T093000
DTEND;TZID=America/Toronto:20250315T113000
DTSTAMP:20260424T093648
CREATED:20250312T193613Z
LAST-MODIFIED:20250326T191506Z
UID:52917-1742031000-1742038200@bethtorah.ca
SUMMARY:Shabbat Services
DESCRIPTION:
URL:https://bethtorah.ca/event/shabbat-services/
END:VEVENT
BEGIN:VEVENT
DTSTART;VALUE=DATE:20250803
DTEND;VALUE=DATE:20250804
DTSTAMP:20260424T093648
CREATED:20250327T163833Z
LAST-MODIFIED:20250327T163833Z
UID:53063-1754179200-1754265599@bethtorah.ca
SUMMARY:Tish'a B'Av
DESCRIPTION:
URL:https://bethtorah.ca/event/tisha-bav/
END:VEVENT
BEGIN:VEVENT
DTSTART;TZID=America/Toronto:20250706T090000
DTEND;TZID=America/Toronto:20250706T100000
DTSTAMP:20260424T093648
CREATED:20250617T135242Z
LAST-MODIFIED:20250617T135242Z
UID:53285-1751792400-1751796000@bethtorah.ca
SUMMARY:No Morning Minyan
DESCRIPTION:
URL:https://bethtorah.ca/event/no-morning-minyan/
END:VEVENT
BEGIN:VEVENT
DTSTART;VALUE=DATE:20250809
DTEND;VALUE=DATE:20250810
DTSTAMP:20260424T093648
CREATED:20250327T164022Z
LAST-MODIFIED:20250327T164022Z
UID:53067-1754697600-1754783999@bethtorah.ca
SUMMARY:Tu B'Av
DESCRIPTION:
URL:https://bethtorah.ca/event/tu-bav/
END:VEVENT
BEGIN:VEVENT
DTSTART;TZID=America/Toronto:20250315T093000
DTEND;TZID=America/Toronto:20250315T113000
DTSTAMP:20260424T093648
CREATED:20250312T193613Z
LAST-MODIFIED:20250326T191506Z
UID:52917-1742031000-1742038200@bethtorah.ca
SUMMARY:Shabbat Services
DESCRIPTION:
URL:https://bethtorah.ca/event/shabbat-services/
END:VEVENT
BEGIN:VEVENT
DTSTART;TZID=America/Toronto:20250706T090000
DTEND;TZID=America/Toronto:20250706T100000
DTSTAMP:20260424T093648
CREATED:20250617T135242Z
LAST-MODIFIED:20250617T135242Z
UID:53285-1751792400-1751796000@bethtorah.ca
SUMMARY:No Morning Minyan
DESCRIPTION:
URL:https://bethtorah.ca/event/no-morning-minyan/
END:VEVENT
BEGIN:VEVENT
DTSTART;TZID=America/Toronto:20250315T093000
DTEND;TZID=America/Toronto:20250315T113000
DTSTAMP:20260424T093648
CREATED:20250312T193613Z
LAST-MODIFIED:20250326T191506Z
UID:52917-1742031000-1742038200@bethtorah.ca
SUMMARY:Shabbat Services
DESCRIPTION:
URL:https://bethtorah.ca/event/shabbat-services/
END:VEVENT
END:VCALENDAR