BEGIN:VCALENDAR
VERSION:2.0
PRODID:-//Beth Torah Congregation - ECPv6.15.20//NONSGML v1.0//EN
CALSCALE:GREGORIAN
METHOD:PUBLISH
X-ORIGINAL-URL:https://bethtorah.ca
X-WR-CALDESC:Events for Beth Torah Congregation
REFRESH-INTERVAL;VALUE=DURATION:PT1H
X-Robots-Tag:noindex
X-PUBLISHED-TTL:PT1H
BEGIN:VTIMEZONE
TZID:America/Toronto
BEGIN:DAYLIGHT
TZOFFSETFROM:-0500
TZOFFSETTO:-0400
TZNAME:EDT
DTSTART:20240310T070000
END:DAYLIGHT
BEGIN:STANDARD
TZOFFSETFROM:-0400
TZOFFSETTO:-0500
TZNAME:EST
DTSTART:20241103T060000
END:STANDARD
BEGIN:DAYLIGHT
TZOFFSETFROM:-0500
TZOFFSETTO:-0400
TZNAME:EDT
DTSTART:20250309T070000
END:DAYLIGHT
BEGIN:STANDARD
TZOFFSETFROM:-0400
TZOFFSETTO:-0500
TZNAME:EST
DTSTART:20251102T060000
END:STANDARD
BEGIN:DAYLIGHT
TZOFFSETFROM:-0500
TZOFFSETTO:-0400
TZNAME:EDT
DTSTART:20260308T070000
END:DAYLIGHT
BEGIN:STANDARD
TZOFFSETFROM:-0400
TZOFFSETTO:-0500
TZNAME:EST
DTSTART:20261101T060000
END:STANDARD
END:VTIMEZONE
BEGIN:VEVENT
DTSTART;TZID=America/Toronto:20250319T130000
DTEND;TZID=America/Toronto:20250319T140000
DTSTAMP:20260424T033444
CREATED:20250221T173029Z
LAST-MODIFIED:20250409T194350Z
UID:52872-1742389200-1742392800@bethtorah.ca
SUMMARY:Torah & Tangents
DESCRIPTION:Join Rav Jen on Wednesday’s from 1 p.m. – 2 p.m. for torah tangents. Examine the p’shat of the parasha and let it take you on an informative journey. Join the session either in person or online. \nREGISTRATION IS REQUIRED. \nTo register please click here.
URL:https://bethtorah.ca/event/torah-tangents/
CATEGORIES:Featured
ATTACH;FMTTYPE=image/png:https://bethtorah.ca/wp-content/uploads/Lunch-Learn-3.png
END:VEVENT
BEGIN:VEVENT
DTSTART;TZID=America/Toronto:20250409T183000
DTEND;TZID=America/Toronto:20250409T200000
DTSTAMP:20260424T033444
CREATED:20250326T174348Z
LAST-MODIFIED:20250421T155941Z
UID:53017-1744223400-1744228800@bethtorah.ca
SUMMARY:Davening Team Rehearsal
DESCRIPTION:We’re excited to relaunch the Beth Torah Davening Team to bring joyful music and prayer to our Shabbat and Yom Tov services. Whether you’re an experienced singer or someone with no formal singing background who simply enjoys singing in community and creating your own harmonies\, we’d love for you to join us. Together\, we’ll explore both traditional and contemporary Jewish melodies that will inspire our community to participate in joyful song and prayer. \nThe Beth Torah Davening Team will help lead services once a month. Rehearsals will be held on most Wednesdays from 6:30 to 8:00 PM\, starting Wednesday\, April 2. \nCome sing\, connect\, and explore the beauty of Jewish music together in community! \nIf you’re interested or have any questions\, please email Cantor Steve at Cantor@bethtorah.ca.
URL:https://bethtorah.ca/event/davening-team-rehearsal-2/
CATEGORIES:Featured
ATTACH;FMTTYPE=image/jpeg:https://bethtorah.ca/wp-content/uploads/Beth-Torah-Singers-2.jpg
END:VEVENT
BEGIN:VEVENT
DTSTART;TZID=America/Toronto:20250410T110000
DTEND;TZID=America/Toronto:20250410T120000
DTSTAMP:20260424T033444
CREATED:20250320T164202Z
LAST-MODIFIED:20250421T160051Z
UID:52977-1744282800-1744286400@bethtorah.ca
SUMMARY:Prayerbook Hebrew Class
DESCRIPTION:Cantor Steve is excited to announce a new Prayerbook Hebrew class starting Thursday mornings from 11:00 am – 12:00 pm beginning on April 10. The class will be offered both in-person at Beth Torah and online. \nThis class is designed for participants who have a basic ability to decode Hebrew (letters and vowels). If you’re interested\, but do not have basic Hebrew knowledge please contact Cantor Steve. \nPlease email Cantor Steve at cantor@bethtorah.ca to register or for more information.  \nDates for Prayerbook Hebrew Class: \nApril 10\, 2025 \nApril 17\, 2025 \nApril 24\, 2025 \nMay 1\, 2025 \nMay 8\, 2025 \nMay 15\, 2025 \nMay 22\, 2025 \nMay 29\, 2025
URL:https://bethtorah.ca/event/prayerbook-hebrew-class/
CATEGORIES:Featured
ATTACH;FMTTYPE=image/png:https://bethtorah.ca/wp-content/uploads/Prayerbook-Hebrew-Class-2.png
END:VEVENT
BEGIN:VEVENT
DTSTART;VALUE=DATE:20250412
DTEND;VALUE=DATE:20250413
DTSTAMP:20260424T033444
CREATED:20250326T191655Z
LAST-MODIFIED:20250326T191655Z
UID:53029-1744416000-1744502399@bethtorah.ca
SUMMARY:Erev Pesach
DESCRIPTION:
URL:https://bethtorah.ca/event/erev-pesach/
END:VEVENT
BEGIN:VEVENT
DTSTART;TZID=America/Toronto:20250315T093000
DTEND;TZID=America/Toronto:20250315T113000
DTSTAMP:20260424T033444
CREATED:20250312T193613Z
LAST-MODIFIED:20250326T191506Z
UID:52917-1742031000-1742038200@bethtorah.ca
SUMMARY:Shabbat Services
DESCRIPTION:
URL:https://bethtorah.ca/event/shabbat-services/
END:VEVENT
BEGIN:VEVENT
DTSTART;VALUE=DATE:20250413
DTEND;VALUE=DATE:20250414
DTSTAMP:20260424T033444
CREATED:20250326T191300Z
LAST-MODIFIED:20250326T191719Z
UID:53026-1744502400-1744588799@bethtorah.ca
SUMMARY:Pesach I
DESCRIPTION:
URL:https://bethtorah.ca/event/passover-i/
END:VEVENT
BEGIN:VEVENT
DTSTART;VALUE=DATE:20250414
DTEND;VALUE=DATE:20250415
DTSTAMP:20260424T033444
CREATED:20250326T191853Z
LAST-MODIFIED:20250326T192102Z
UID:53032-1744588800-1744675199@bethtorah.ca
SUMMARY:Pesach II
DESCRIPTION:
URL:https://bethtorah.ca/event/pesach-ii/
END:VEVENT
BEGIN:VEVENT
DTSTART;VALUE=DATE:20250415
DTEND;VALUE=DATE:20250416
DTSTAMP:20260424T033444
CREATED:20250326T192203Z
LAST-MODIFIED:20250326T192203Z
UID:53034-1744675200-1744761599@bethtorah.ca
SUMMARY:Pesach III (CH''M)
DESCRIPTION:
URL:https://bethtorah.ca/event/pesach-iii-chm/
END:VEVENT
BEGIN:VEVENT
DTSTART;VALUE=DATE:20250416
DTEND;VALUE=DATE:20250417
DTSTAMP:20260424T033444
CREATED:20250326T192312Z
LAST-MODIFIED:20250326T192312Z
UID:53036-1744761600-1744847999@bethtorah.ca
SUMMARY:Pesach IV (CH''M)
DESCRIPTION:
URL:https://bethtorah.ca/event/pesach-iv-chm/
END:VEVENT
BEGIN:VEVENT
DTSTART;TZID=America/Toronto:20250409T183000
DTEND;TZID=America/Toronto:20250409T200000
DTSTAMP:20260424T033444
CREATED:20250326T174348Z
LAST-MODIFIED:20250421T155941Z
UID:53017-1744223400-1744228800@bethtorah.ca
SUMMARY:Davening Team Rehearsal
DESCRIPTION:We’re excited to relaunch the Beth Torah Davening Team to bring joyful music and prayer to our Shabbat and Yom Tov services. Whether you’re an experienced singer or someone with no formal singing background who simply enjoys singing in community and creating your own harmonies\, we’d love for you to join us. Together\, we’ll explore both traditional and contemporary Jewish melodies that will inspire our community to participate in joyful song and prayer. \nThe Beth Torah Davening Team will help lead services once a month. Rehearsals will be held on most Wednesdays from 6:30 to 8:00 PM\, starting Wednesday\, April 2. \nCome sing\, connect\, and explore the beauty of Jewish music together in community! \nIf you’re interested or have any questions\, please email Cantor Steve at Cantor@bethtorah.ca.
URL:https://bethtorah.ca/event/davening-team-rehearsal-2/
CATEGORIES:Featured
ATTACH;FMTTYPE=image/jpeg:https://bethtorah.ca/wp-content/uploads/Beth-Torah-Singers-2.jpg
END:VEVENT
BEGIN:VEVENT
DTSTART;VALUE=DATE:20250417
DTEND;VALUE=DATE:20250418
DTSTAMP:20260424T033444
CREATED:20250326T192343Z
LAST-MODIFIED:20250326T192343Z
UID:53038-1744848000-1744934399@bethtorah.ca
SUMMARY:Pesach V (CH''M)
DESCRIPTION:
URL:https://bethtorah.ca/event/pesach-v-chm/
END:VEVENT
BEGIN:VEVENT
DTSTART;TZID=America/Toronto:20250410T110000
DTEND;TZID=America/Toronto:20250410T120000
DTSTAMP:20260424T033444
CREATED:20250320T164202Z
LAST-MODIFIED:20250421T160051Z
UID:52977-1744282800-1744286400@bethtorah.ca
SUMMARY:Prayerbook Hebrew Class
DESCRIPTION:Cantor Steve is excited to announce a new Prayerbook Hebrew class starting Thursday mornings from 11:00 am – 12:00 pm beginning on April 10. The class will be offered both in-person at Beth Torah and online. \nThis class is designed for participants who have a basic ability to decode Hebrew (letters and vowels). If you’re interested\, but do not have basic Hebrew knowledge please contact Cantor Steve. \nPlease email Cantor Steve at cantor@bethtorah.ca to register or for more information.  \nDates for Prayerbook Hebrew Class: \nApril 10\, 2025 \nApril 17\, 2025 \nApril 24\, 2025 \nMay 1\, 2025 \nMay 8\, 2025 \nMay 15\, 2025 \nMay 22\, 2025 \nMay 29\, 2025
URL:https://bethtorah.ca/event/prayerbook-hebrew-class/
CATEGORIES:Featured
ATTACH;FMTTYPE=image/png:https://bethtorah.ca/wp-content/uploads/Prayerbook-Hebrew-Class-2.png
END:VEVENT
BEGIN:VEVENT
DTSTART;VALUE=DATE:20250418
DTEND;VALUE=DATE:20250419
DTSTAMP:20260424T033444
CREATED:20250326T192410Z
LAST-MODIFIED:20250326T192410Z
UID:53040-1744934400-1745020799@bethtorah.ca
SUMMARY:Pesach VI (CH''M)
DESCRIPTION:
URL:https://bethtorah.ca/event/pesach-vi-chm/
END:VEVENT
BEGIN:VEVENT
DTSTART;VALUE=DATE:20250419
DTEND;VALUE=DATE:20250420
DTSTAMP:20260424T033444
CREATED:20250326T192437Z
LAST-MODIFIED:20250326T192437Z
UID:53043-1745020800-1745107199@bethtorah.ca
SUMMARY:Pesach VII
DESCRIPTION:
URL:https://bethtorah.ca/event/pesach-vii/
END:VEVENT
BEGIN:VEVENT
DTSTART;TZID=America/Toronto:20250315T093000
DTEND;TZID=America/Toronto:20250315T113000
DTSTAMP:20260424T033444
CREATED:20250312T193613Z
LAST-MODIFIED:20250326T191506Z
UID:52917-1742031000-1742038200@bethtorah.ca
SUMMARY:Shabbat Services
DESCRIPTION:
URL:https://bethtorah.ca/event/shabbat-services/
END:VEVENT
BEGIN:VEVENT
DTSTART;VALUE=DATE:20250420
DTEND;VALUE=DATE:20250421
DTSTAMP:20260424T033444
CREATED:20250326T192553Z
LAST-MODIFIED:20250326T192553Z
UID:53045-1745107200-1745193599@bethtorah.ca
SUMMARY:Pesach VIII
DESCRIPTION:
URL:https://bethtorah.ca/event/pesach-viii/
END:VEVENT
BEGIN:VEVENT
DTSTART;TZID=America/Toronto:20250319T130000
DTEND;TZID=America/Toronto:20250319T140000
DTSTAMP:20260424T033444
CREATED:20250221T173029Z
LAST-MODIFIED:20250409T194350Z
UID:52872-1742389200-1742392800@bethtorah.ca
SUMMARY:Torah & Tangents
DESCRIPTION:Join Rav Jen on Wednesday’s from 1 p.m. – 2 p.m. for torah tangents. Examine the p’shat of the parasha and let it take you on an informative journey. Join the session either in person or online. \nREGISTRATION IS REQUIRED. \nTo register please click here.
URL:https://bethtorah.ca/event/torah-tangents/
CATEGORIES:Featured
ATTACH;FMTTYPE=image/png:https://bethtorah.ca/wp-content/uploads/Lunch-Learn-3.png
END:VEVENT
BEGIN:VEVENT
DTSTART;TZID=America/Toronto:20250409T183000
DTEND;TZID=America/Toronto:20250409T200000
DTSTAMP:20260424T033444
CREATED:20250326T174348Z
LAST-MODIFIED:20250421T155941Z
UID:53017-1744223400-1744228800@bethtorah.ca
SUMMARY:Davening Team Rehearsal
DESCRIPTION:We’re excited to relaunch the Beth Torah Davening Team to bring joyful music and prayer to our Shabbat and Yom Tov services. Whether you’re an experienced singer or someone with no formal singing background who simply enjoys singing in community and creating your own harmonies\, we’d love for you to join us. Together\, we’ll explore both traditional and contemporary Jewish melodies that will inspire our community to participate in joyful song and prayer. \nThe Beth Torah Davening Team will help lead services once a month. Rehearsals will be held on most Wednesdays from 6:30 to 8:00 PM\, starting Wednesday\, April 2. \nCome sing\, connect\, and explore the beauty of Jewish music together in community! \nIf you’re interested or have any questions\, please email Cantor Steve at Cantor@bethtorah.ca.
URL:https://bethtorah.ca/event/davening-team-rehearsal-2/
CATEGORIES:Featured
ATTACH;FMTTYPE=image/jpeg:https://bethtorah.ca/wp-content/uploads/Beth-Torah-Singers-2.jpg
END:VEVENT
BEGIN:VEVENT
DTSTART;VALUE=DATE:20250424
DTEND;VALUE=DATE:20250425
DTSTAMP:20260424T033444
CREATED:20250326T192644Z
LAST-MODIFIED:20250326T192644Z
UID:53047-1745452800-1745539199@bethtorah.ca
SUMMARY:Yom HaShoah
DESCRIPTION:
URL:https://bethtorah.ca/event/yom-hashoah/
END:VEVENT
BEGIN:VEVENT
DTSTART;TZID=America/Toronto:20250410T110000
DTEND;TZID=America/Toronto:20250410T120000
DTSTAMP:20260424T033444
CREATED:20250320T164202Z
LAST-MODIFIED:20250421T160051Z
UID:52977-1744282800-1744286400@bethtorah.ca
SUMMARY:Prayerbook Hebrew Class
DESCRIPTION:Cantor Steve is excited to announce a new Prayerbook Hebrew class starting Thursday mornings from 11:00 am – 12:00 pm beginning on April 10. The class will be offered both in-person at Beth Torah and online. \nThis class is designed for participants who have a basic ability to decode Hebrew (letters and vowels). If you’re interested\, but do not have basic Hebrew knowledge please contact Cantor Steve. \nPlease email Cantor Steve at cantor@bethtorah.ca to register or for more information.  \nDates for Prayerbook Hebrew Class: \nApril 10\, 2025 \nApril 17\, 2025 \nApril 24\, 2025 \nMay 1\, 2025 \nMay 8\, 2025 \nMay 15\, 2025 \nMay 22\, 2025 \nMay 29\, 2025
URL:https://bethtorah.ca/event/prayerbook-hebrew-class/
CATEGORIES:Featured
ATTACH;FMTTYPE=image/png:https://bethtorah.ca/wp-content/uploads/Prayerbook-Hebrew-Class-2.png
END:VEVENT
BEGIN:VEVENT
DTSTART;TZID=America/Toronto:20250315T093000
DTEND;TZID=America/Toronto:20250315T113000
DTSTAMP:20260424T033444
CREATED:20250312T193613Z
LAST-MODIFIED:20250326T191506Z
UID:52917-1742031000-1742038200@bethtorah.ca
SUMMARY:Shabbat Services
DESCRIPTION:
URL:https://bethtorah.ca/event/shabbat-services/
END:VEVENT
BEGIN:VEVENT
DTSTART;TZID=America/Toronto:20250427T153000
DTEND;TZID=America/Toronto:20250427T170000
DTSTAMP:20260424T033444
CREATED:20250409T192351Z
LAST-MODIFIED:20250421T161552Z
UID:53163-1745767800-1745773200@bethtorah.ca
SUMMARY:Yom Ha'atzmaut Concert
DESCRIPTION:Yom Ha’atzma’ut Concert: Israeli Songs of Hope and Healing \nSince the founding of the State of Israel\, Israeli artists have composed songs that offer comfort\, inspire hope\, and help heal a grieving nation. In honour of Israel’s 77th Independence Day\, we celebrate these powerful anthems with a special afternoon of music and reflection. Join Cantor Steve Zeidenberg and award-winning musician Aaron Lightstone (Jaffa Road) for an intimate and participatory concert featuring some of the most iconic songs of hope and healing from the past seven decades. Through the timeless melodies of Naomi Shemer to the soulful sounds of Ishay Ribo\, this concert with honour the resilience and spirit of the Israeli people. \nLight refreshments will be served. \nLocation: Beth Torah Congregation\n47 Glenbrook Avenue\, Toronto ON \nDate: Sunday\, April 27\, 2025 \nTime: 3:30 p.m.  \nFREE EVENT. Registration required.\nRegister here!
URL:https://bethtorah.ca/event/yom-haatzmaut-concert/
CATEGORIES:Featured
ATTACH;FMTTYPE=image/jpeg:https://bethtorah.ca/wp-content/uploads/Yom-Haatzmaut-Concert-5785.jpg
END:VEVENT
BEGIN:VEVENT
DTSTART;VALUE=DATE:20250428
DTEND;VALUE=DATE:20250430
DTSTAMP:20260424T033444
CREATED:20250313T175753Z
LAST-MODIFIED:20250327T164442Z
UID:52933-1745798400-1745971199@bethtorah.ca
SUMMARY:Rosh Chodesh Iyyar
DESCRIPTION:
URL:https://bethtorah.ca/event/rosh-chodesh-3/
END:VEVENT
BEGIN:VEVENT
DTSTART;TZID=America/Toronto:20250331T193000
DTEND;TZID=America/Toronto:20250331T210000
DTSTAMP:20260424T033444
CREATED:20250320T145342Z
LAST-MODIFIED:20250327T183237Z
UID:52958-1743449400-1743454800@bethtorah.ca
SUMMARY:Jewish Foodways & Traditions
DESCRIPTION:Join Rabbi Jen once a month on Monday evenings (7:30 p.m. – 9:00 p.m.) virtually for a journey to different communities through the lens of Jewish food and community traditions. Depending on where you’re from\, Jewish food may conger up mouthwatering scents of cholent\, dorot wat\, or mujedra. We’ll talk and prepare (virtually) some special dishes as we learn. Register here. \n3/31 – Why are these foods different from all other foods (How not to be hungry at the seder) \n4/28 – Rome’s Jewish Community – Pizza Ebraica \n5/26 – From Spain to Solonika – Pan De Siete Cielos – Shavuot Seven Heavens Bread \n6/23 – Israel’s Favourite Foods – Summer Watermelon Salad
URL:https://bethtorah.ca/event/jewish-foodways-traditions/
CATEGORIES:Featured
ATTACH;FMTTYPE=image/png:https://bethtorah.ca/wp-content/uploads/Jewish-Foodways-Traditions-1.png
END:VEVENT
BEGIN:VEVENT
DTSTART;VALUE=DATE:20250430
DTEND;VALUE=DATE:20250501
DTSTAMP:20260424T033444
CREATED:20250326T192716Z
LAST-MODIFIED:20250326T192716Z
UID:53049-1745971200-1746057599@bethtorah.ca
SUMMARY:Yom HaZikaron
DESCRIPTION:
URL:https://bethtorah.ca/event/yom-hazikaron/
END:VEVENT
BEGIN:VEVENT
DTSTART;TZID=America/Toronto:20250319T130000
DTEND;TZID=America/Toronto:20250319T140000
DTSTAMP:20260424T033444
CREATED:20250221T173029Z
LAST-MODIFIED:20250409T194350Z
UID:52872-1742389200-1742392800@bethtorah.ca
SUMMARY:Torah & Tangents
DESCRIPTION:Join Rav Jen on Wednesday’s from 1 p.m. – 2 p.m. for torah tangents. Examine the p’shat of the parasha and let it take you on an informative journey. Join the session either in person or online. \nREGISTRATION IS REQUIRED. \nTo register please click here.
URL:https://bethtorah.ca/event/torah-tangents/
CATEGORIES:Featured
ATTACH;FMTTYPE=image/png:https://bethtorah.ca/wp-content/uploads/Lunch-Learn-3.png
END:VEVENT
BEGIN:VEVENT
DTSTART;TZID=America/Toronto:20250409T183000
DTEND;TZID=America/Toronto:20250409T200000
DTSTAMP:20260424T033444
CREATED:20250326T174348Z
LAST-MODIFIED:20250421T155941Z
UID:53017-1744223400-1744228800@bethtorah.ca
SUMMARY:Davening Team Rehearsal
DESCRIPTION:We’re excited to relaunch the Beth Torah Davening Team to bring joyful music and prayer to our Shabbat and Yom Tov services. Whether you’re an experienced singer or someone with no formal singing background who simply enjoys singing in community and creating your own harmonies\, we’d love for you to join us. Together\, we’ll explore both traditional and contemporary Jewish melodies that will inspire our community to participate in joyful song and prayer. \nThe Beth Torah Davening Team will help lead services once a month. Rehearsals will be held on most Wednesdays from 6:30 to 8:00 PM\, starting Wednesday\, April 2. \nCome sing\, connect\, and explore the beauty of Jewish music together in community! \nIf you’re interested or have any questions\, please email Cantor Steve at Cantor@bethtorah.ca.
URL:https://bethtorah.ca/event/davening-team-rehearsal-2/
CATEGORIES:Featured
ATTACH;FMTTYPE=image/jpeg:https://bethtorah.ca/wp-content/uploads/Beth-Torah-Singers-2.jpg
END:VEVENT
BEGIN:VEVENT
DTSTART;TZID=America/Toronto:20250430T190000
DTEND;TZID=America/Toronto:20250430T210000
DTSTAMP:20260424T033444
CREATED:20250421T165423Z
LAST-MODIFIED:20250421T170607Z
UID:53182-1746039600-1746046800@bethtorah.ca
SUMMARY:Nova Festival Exhibit
DESCRIPTION:The Nova Exhibition is an in-depth remembrance of the brutal massacre at the Nova Music Festival on October 7th\, 2023. The installation sets out to recreate a festival dedicated to peace and love that was savagely cut short by a terrorist attack on that fateful day. The attack at the Nova Music Festival was the largest massacre in music history. This powerful installation invites visitors to immerse themselves and bear witness to the tragic events of October 7th and its aftermath. \nEach ticket includes a Nova ambassador testimony.  \nLimited tickets available! Register now. \nAddress: 1381 Castlefield Ave\, Toronto\, ON M6B 1G7
URL:https://bethtorah.ca/event/nova-festival-exhibit/
CATEGORIES:Featured
ATTACH;FMTTYPE=image/jpeg:https://bethtorah.ca/wp-content/uploads/Nova-Exhibition-Flyer-30April2025-1.jpg
END:VEVENT
BEGIN:VEVENT
DTSTART;VALUE=DATE:20250501
DTEND;VALUE=DATE:20250502
DTSTAMP:20260424T033444
CREATED:20250326T192912Z
LAST-MODIFIED:20250326T192912Z
UID:53051-1746057600-1746143999@bethtorah.ca
SUMMARY:Yom HaAtzma'ut
DESCRIPTION:
URL:https://bethtorah.ca/event/yom-haatzmaut/
END:VEVENT
BEGIN:VEVENT
DTSTART;TZID=America/Toronto:20250410T110000
DTEND;TZID=America/Toronto:20250410T120000
DTSTAMP:20260424T033444
CREATED:20250320T164202Z
LAST-MODIFIED:20250421T160051Z
UID:52977-1744282800-1744286400@bethtorah.ca
SUMMARY:Prayerbook Hebrew Class
DESCRIPTION:Cantor Steve is excited to announce a new Prayerbook Hebrew class starting Thursday mornings from 11:00 am – 12:00 pm beginning on April 10. The class will be offered both in-person at Beth Torah and online. \nThis class is designed for participants who have a basic ability to decode Hebrew (letters and vowels). If you’re interested\, but do not have basic Hebrew knowledge please contact Cantor Steve. \nPlease email Cantor Steve at cantor@bethtorah.ca to register or for more information.  \nDates for Prayerbook Hebrew Class: \nApril 10\, 2025 \nApril 17\, 2025 \nApril 24\, 2025 \nMay 1\, 2025 \nMay 8\, 2025 \nMay 15\, 2025 \nMay 22\, 2025 \nMay 29\, 2025
URL:https://bethtorah.ca/event/prayerbook-hebrew-class/
CATEGORIES:Featured
ATTACH;FMTTYPE=image/png:https://bethtorah.ca/wp-content/uploads/Prayerbook-Hebrew-Class-2.png
END:VEVENT
END:VCALENDAR