BEGIN:VCALENDAR
VERSION:2.0
PRODID:-//Beth Torah Congregation - ECPv6.15.20//NONSGML v1.0//EN
CALSCALE:GREGORIAN
METHOD:PUBLISH
X-ORIGINAL-URL:https://bethtorah.ca
X-WR-CALDESC:Events for Beth Torah Congregation
REFRESH-INTERVAL;VALUE=DURATION:PT1H
X-Robots-Tag:noindex
X-PUBLISHED-TTL:PT1H
BEGIN:VTIMEZONE
TZID:America/Toronto
BEGIN:DAYLIGHT
TZOFFSETFROM:-0500
TZOFFSETTO:-0400
TZNAME:EDT
DTSTART:20240310T070000
END:DAYLIGHT
BEGIN:STANDARD
TZOFFSETFROM:-0400
TZOFFSETTO:-0500
TZNAME:EST
DTSTART:20241103T060000
END:STANDARD
BEGIN:DAYLIGHT
TZOFFSETFROM:-0500
TZOFFSETTO:-0400
TZNAME:EDT
DTSTART:20250309T070000
END:DAYLIGHT
BEGIN:STANDARD
TZOFFSETFROM:-0400
TZOFFSETTO:-0500
TZNAME:EST
DTSTART:20251102T060000
END:STANDARD
BEGIN:DAYLIGHT
TZOFFSETFROM:-0500
TZOFFSETTO:-0400
TZNAME:EDT
DTSTART:20260308T070000
END:DAYLIGHT
BEGIN:STANDARD
TZOFFSETFROM:-0400
TZOFFSETTO:-0500
TZNAME:EST
DTSTART:20261101T060000
END:STANDARD
END:VTIMEZONE
BEGIN:VEVENT
DTSTART;TZID=America/Toronto:20250315T093000
DTEND;TZID=America/Toronto:20250315T113000
DTSTAMP:20260425T080033
CREATED:20250312T193613Z
LAST-MODIFIED:20250326T191506Z
UID:52917-1742031000-1742038200@bethtorah.ca
SUMMARY:Shabbat Services
DESCRIPTION:
URL:https://bethtorah.ca/event/shabbat-services/
END:VEVENT
BEGIN:VEVENT
DTSTART;TZID=America/Toronto:20250706T090000
DTEND;TZID=America/Toronto:20250706T100000
DTSTAMP:20260425T080033
CREATED:20250617T135242Z
LAST-MODIFIED:20250617T135242Z
UID:53285-1751792400-1751796000@bethtorah.ca
SUMMARY:No Morning Minyan
DESCRIPTION:
URL:https://bethtorah.ca/event/no-morning-minyan/
END:VEVENT
BEGIN:VEVENT
DTSTART;TZID=America/Toronto:20250907T090000
DTEND;TZID=America/Toronto:20250907T120000
DTSTAMP:20260425T080033
CREATED:20250828T132345Z
LAST-MODIFIED:20250828T132418Z
UID:53416-1757235600-1757246400@bethtorah.ca
SUMMARY:Sunday Minyan & Breakfast
DESCRIPTION:Join us every Sunday morning. Begin your week with prayer\, reflection\, and a sense of renewal\, then pull up a chair and enjoy a nourishing breakfast as a community.
URL:https://bethtorah.ca/event/sunday-minyan-breakfast/
CATEGORIES:Featured
ATTACH;FMTTYPE=image/jpeg:https://bethtorah.ca/wp-content/uploads/Sunday-Minyan-Breakfast-2.jpg
END:VEVENT
BEGIN:VEVENT
DTSTART;TZID=America/Toronto:20251119T190000
DTEND;TZID=America/Toronto:20251119T210000
DTSTAMP:20260425T080033
CREATED:20251030T154027Z
LAST-MODIFIED:20251030T154027Z
UID:53500-1763578800-1763586000@bethtorah.ca
SUMMARY:Town Hall Meeting
DESCRIPTION:Save The Date!\nBeth Torah will be holding a Congregational Town Hall Meeting on Wednesday\, November 19th at 7 p.m. \nAll members are encouraged to attend.
URL:https://bethtorah.ca/event/town-hall-meeting/
CATEGORIES:Featured
ATTACH;FMTTYPE=image/jpeg:https://bethtorah.ca/wp-content/uploads/Congregational-Town-Hall-Meeting-3.jpg
END:VEVENT
BEGIN:VEVENT
DTSTART;TZID=America/Toronto:20251120T163000
DTEND;TZID=America/Toronto:20251120T173000
DTSTAMP:20260425T080033
CREATED:20251028T170739Z
LAST-MODIFIED:20251028T170739Z
UID:53490-1763656200-1763659800@bethtorah.ca
SUMMARY:Children's Choir
DESCRIPTION:Do you know a child who loves to sing in the shower? In the car? Everywhere you go? Then come join the Beth Torah Children’s Choir and help spread the joy and light of Hanukkah through music! \nOpen to kids in Grades 1–6 — no experience needed\, just big smiles and big voices! You’ll learn favourite Hanukkah songs (and a few new ones too)\, make new friends\, and have tons of fun. \nOur choir will perform at Beth Torah’s Hanukkah Skating Party on December 14\, and we’ll also share our songs with the wonderful residents at Baycrest (date TBD). \nRehearsals start Thursday\, November 20\, in the late afternoon\, and run for four weeks. \nIf interested\, please reach out to the fabulous Cantor Steve for further details: Cantor@bethtorahto\nCome sing your heart out and help make this Hanukkah extra bright!
URL:https://bethtorah.ca/event/childrens-choir/
CATEGORIES:Featured
ATTACH;FMTTYPE=image/jpeg:https://bethtorah.ca/wp-content/uploads/🎶Calling-All-Young-Voices-for-Hanukkah🕎-1.jpg
END:VEVENT
BEGIN:VEVENT
DTSTART;VALUE=DATE:20251121
DTEND;VALUE=DATE:20251122
DTSTAMP:20260425T080033
CREATED:20250327T175121Z
LAST-MODIFIED:20250327T175121Z
UID:53110-1763683200-1763769599@bethtorah.ca
SUMMARY:Rosh Chodesh Kislev
DESCRIPTION:
URL:https://bethtorah.ca/event/rosh-chodesh-kislev/
END:VEVENT
BEGIN:VEVENT
DTSTART;TZID=America/Toronto:20250315T093000
DTEND;TZID=America/Toronto:20250315T113000
DTSTAMP:20260425T080033
CREATED:20250312T193613Z
LAST-MODIFIED:20250326T191506Z
UID:52917-1742031000-1742038200@bethtorah.ca
SUMMARY:Shabbat Services
DESCRIPTION:
URL:https://bethtorah.ca/event/shabbat-services/
END:VEVENT
BEGIN:VEVENT
DTSTART;TZID=America/Toronto:20250706T090000
DTEND;TZID=America/Toronto:20250706T100000
DTSTAMP:20260425T080033
CREATED:20250617T135242Z
LAST-MODIFIED:20250617T135242Z
UID:53285-1751792400-1751796000@bethtorah.ca
SUMMARY:No Morning Minyan
DESCRIPTION:
URL:https://bethtorah.ca/event/no-morning-minyan/
END:VEVENT
BEGIN:VEVENT
DTSTART;TZID=America/Toronto:20250907T090000
DTEND;TZID=America/Toronto:20250907T120000
DTSTAMP:20260425T080033
CREATED:20250828T132345Z
LAST-MODIFIED:20250828T132418Z
UID:53416-1757235600-1757246400@bethtorah.ca
SUMMARY:Sunday Minyan & Breakfast
DESCRIPTION:Join us every Sunday morning. Begin your week with prayer\, reflection\, and a sense of renewal\, then pull up a chair and enjoy a nourishing breakfast as a community.
URL:https://bethtorah.ca/event/sunday-minyan-breakfast/
CATEGORIES:Featured
ATTACH;FMTTYPE=image/jpeg:https://bethtorah.ca/wp-content/uploads/Sunday-Minyan-Breakfast-2.jpg
END:VEVENT
BEGIN:VEVENT
DTSTART;TZID=America/Toronto:20251123T140000
DTEND;TZID=America/Toronto:20251123T160000
DTSTAMP:20260425T080033
CREATED:20251020T163122Z
LAST-MODIFIED:20251022T140832Z
UID:53462-1763906400-1763913600@bethtorah.ca
SUMMARY:Babka Bake
DESCRIPTION:Please register at: https://www.bethtorahto.ca/form/babka \nCost: $36/per person
URL:https://bethtorah.ca/event/https-www-bethtorahto-ca-form-babka/
CATEGORIES:Featured
ATTACH;FMTTYPE=image/jpeg:https://bethtorah.ca/wp-content/uploads/Babka-Bake-3.jpg
END:VEVENT
BEGIN:VEVENT
DTSTART;TZID=America/Toronto:20251123T140000
DTEND;TZID=America/Toronto:20251123T160000
DTSTAMP:20260425T080033
CREATED:20251103T193952Z
LAST-MODIFIED:20251103T193952Z
UID:53510-1763906400-1763913600@bethtorah.ca
SUMMARY:Bowling and Bumper Cars
DESCRIPTION:Calling all Tweens!! \nBeth Torah Congregation is also excited to be teaming up with Adath Israel for a fun-filled afternoon of bowling & bumper cars for tweens\, ages 11 to 13 years old. \nSunday\, November 23rd\n2 to 4 p.m.\n@ Promenade Mall\n$33.00 \nTo register\, please contact Erica: erica@adathisrael.com
URL:https://bethtorah.ca/event/bowling-and-bumper-cars/
CATEGORIES:Featured
ATTACH;FMTTYPE=image/jpeg:https://bethtorah.ca/wp-content/uploads/BowlsandBlasters2025.jpg
END:VEVENT
BEGIN:VEVENT
DTSTART;TZID=America/Toronto:20250315T093000
DTEND;TZID=America/Toronto:20250315T113000
DTSTAMP:20260425T080033
CREATED:20250312T193613Z
LAST-MODIFIED:20250326T191506Z
UID:52917-1742031000-1742038200@bethtorah.ca
SUMMARY:Shabbat Services
DESCRIPTION:
URL:https://bethtorah.ca/event/shabbat-services/
END:VEVENT
BEGIN:VEVENT
DTSTART;TZID=America/Toronto:20250706T090000
DTEND;TZID=America/Toronto:20250706T100000
DTSTAMP:20260425T080033
CREATED:20250617T135242Z
LAST-MODIFIED:20250617T135242Z
UID:53285-1751792400-1751796000@bethtorah.ca
SUMMARY:No Morning Minyan
DESCRIPTION:
URL:https://bethtorah.ca/event/no-morning-minyan/
END:VEVENT
BEGIN:VEVENT
DTSTART;TZID=America/Toronto:20250907T090000
DTEND;TZID=America/Toronto:20250907T120000
DTSTAMP:20260425T080033
CREATED:20250828T132345Z
LAST-MODIFIED:20250828T132418Z
UID:53416-1757235600-1757246400@bethtorah.ca
SUMMARY:Sunday Minyan & Breakfast
DESCRIPTION:Join us every Sunday morning. Begin your week with prayer\, reflection\, and a sense of renewal\, then pull up a chair and enjoy a nourishing breakfast as a community.
URL:https://bethtorah.ca/event/sunday-minyan-breakfast/
CATEGORIES:Featured
ATTACH;FMTTYPE=image/jpeg:https://bethtorah.ca/wp-content/uploads/Sunday-Minyan-Breakfast-2.jpg
END:VEVENT
BEGIN:VEVENT
DTSTART;TZID=America/Toronto:20251202T180000
DTEND;TZID=America/Toronto:20251202T210000
DTSTAMP:20260425T080033
CREATED:20251020T163510Z
LAST-MODIFIED:20251022T141025Z
UID:53465-1764698400-1764709200@bethtorah.ca
SUMMARY:Holiday Vendor Show
DESCRIPTION:To secure your table (s)\, please register @ https://www.bethtorahto.ca/form/vendor
URL:https://bethtorah.ca/event/https-www-bethtorahto-ca-form-vendor/
CATEGORIES:Featured
ATTACH;FMTTYPE=image/jpeg:https://bethtorah.ca/wp-content/uploads/Looking-for-Vendors.jpg
END:VEVENT
BEGIN:VEVENT
DTSTART;TZID=America/Toronto:20250315T093000
DTEND;TZID=America/Toronto:20250315T113000
DTSTAMP:20260425T080033
CREATED:20250312T193613Z
LAST-MODIFIED:20250326T191506Z
UID:52917-1742031000-1742038200@bethtorah.ca
SUMMARY:Shabbat Services
DESCRIPTION:
URL:https://bethtorah.ca/event/shabbat-services/
END:VEVENT
BEGIN:VEVENT
DTSTART;TZID=America/Toronto:20250706T090000
DTEND;TZID=America/Toronto:20250706T100000
DTSTAMP:20260425T080033
CREATED:20250617T135242Z
LAST-MODIFIED:20250617T135242Z
UID:53285-1751792400-1751796000@bethtorah.ca
SUMMARY:No Morning Minyan
DESCRIPTION:
URL:https://bethtorah.ca/event/no-morning-minyan/
END:VEVENT
BEGIN:VEVENT
DTSTART;TZID=America/Toronto:20250907T090000
DTEND;TZID=America/Toronto:20250907T120000
DTSTAMP:20260425T080033
CREATED:20250828T132345Z
LAST-MODIFIED:20250828T132418Z
UID:53416-1757235600-1757246400@bethtorah.ca
SUMMARY:Sunday Minyan & Breakfast
DESCRIPTION:Join us every Sunday morning. Begin your week with prayer\, reflection\, and a sense of renewal\, then pull up a chair and enjoy a nourishing breakfast as a community.
URL:https://bethtorah.ca/event/sunday-minyan-breakfast/
CATEGORIES:Featured
ATTACH;FMTTYPE=image/jpeg:https://bethtorah.ca/wp-content/uploads/Sunday-Minyan-Breakfast-2.jpg
END:VEVENT
BEGIN:VEVENT
DTSTART;TZID=America/Toronto:20250315T093000
DTEND;TZID=America/Toronto:20250315T113000
DTSTAMP:20260425T080033
CREATED:20250312T193613Z
LAST-MODIFIED:20250326T191506Z
UID:52917-1742031000-1742038200@bethtorah.ca
SUMMARY:Shabbat Services
DESCRIPTION:
URL:https://bethtorah.ca/event/shabbat-services/
END:VEVENT
BEGIN:VEVENT
DTSTART;VALUE=DATE:20251214
DTEND;VALUE=DATE:20251215
DTSTAMP:20260425T080033
CREATED:20250327T175646Z
LAST-MODIFIED:20250327T175806Z
UID:53114-1765670400-1765756799@bethtorah.ca
SUMMARY:Hanukkah: Night 1
DESCRIPTION:
URL:https://bethtorah.ca/event/hanukkah-night-1/
END:VEVENT
BEGIN:VEVENT
DTSTART;TZID=America/Toronto:20250706T090000
DTEND;TZID=America/Toronto:20250706T100000
DTSTAMP:20260425T080033
CREATED:20250617T135242Z
LAST-MODIFIED:20250617T135242Z
UID:53285-1751792400-1751796000@bethtorah.ca
SUMMARY:No Morning Minyan
DESCRIPTION:
URL:https://bethtorah.ca/event/no-morning-minyan/
END:VEVENT
BEGIN:VEVENT
DTSTART;TZID=America/Toronto:20250907T090000
DTEND;TZID=America/Toronto:20250907T120000
DTSTAMP:20260425T080033
CREATED:20250828T132345Z
LAST-MODIFIED:20250828T132418Z
UID:53416-1757235600-1757246400@bethtorah.ca
SUMMARY:Sunday Minyan & Breakfast
DESCRIPTION:Join us every Sunday morning. Begin your week with prayer\, reflection\, and a sense of renewal\, then pull up a chair and enjoy a nourishing breakfast as a community.
URL:https://bethtorah.ca/event/sunday-minyan-breakfast/
CATEGORIES:Featured
ATTACH;FMTTYPE=image/jpeg:https://bethtorah.ca/wp-content/uploads/Sunday-Minyan-Breakfast-2.jpg
END:VEVENT
BEGIN:VEVENT
DTSTART;TZID=America/Toronto:20251214T150000
DTEND;TZID=America/Toronto:20251214T163000
DTSTAMP:20260425T080033
CREATED:20251022T141344Z
LAST-MODIFIED:20251110T185157Z
UID:53470-1765724400-1765729800@bethtorah.ca
SUMMARY:Hanukkah Skating Party
DESCRIPTION:Save the Date!\nCelebrate the first night of Hanukkah (in the afternoon!) with us at Baycrest Arena (160 Neptune Dr.\, North York) on Sunday\, December 14th\, from 3 to 4:30pm. \nEnjoy family skating from 3 to 4 PM\, followed by treats\, hot chocolate and a candle-lighting ceremony. \nThis free\, family-friendly event is open to all! Please email Kim at kim@bethtorah.ca for more information or to RSVP with the number of guests (including yourself). \nBring your skates\, your smiles\, and your holiday spirit and let’s kick off Hanukkah together with light\, laughter\, and family fun! \n  \n 
URL:https://bethtorah.ca/event/hanukkah-skating-party/
CATEGORIES:Featured
ATTACH;FMTTYPE=image/jpeg:https://bethtorah.ca/wp-content/uploads/Hanukkah-Skating-Party-9.jpg
END:VEVENT
BEGIN:VEVENT
DTSTART;TZID=America/Toronto:20251214T170000
DTEND;TZID=America/Toronto:20251222T170000
DTSTAMP:20260425T080033
CREATED:20251208T185940Z
LAST-MODIFIED:20251208T185949Z
UID:53566-1765731600-1766422800@bethtorah.ca
SUMMARY:Happy Hanukkah!!
DESCRIPTION:Hanukkah Starts at nightfall on Sunday\, December 14\, 2025 and ends with nightfall on Monday\, December 22\, 2025
URL:https://bethtorah.ca/event/happy-hanukkah/
CATEGORIES:Featured
ATTACH;FMTTYPE=image/jpeg:https://bethtorah.ca/wp-content/uploads/Happy-Hanukkah-1.jpg
END:VEVENT
BEGIN:VEVENT
DTSTART;VALUE=DATE:20251215
DTEND;VALUE=DATE:20251216
DTSTAMP:20260425T080033
CREATED:20250327T180053Z
LAST-MODIFIED:20250327T180053Z
UID:53120-1765756800-1765843199@bethtorah.ca
SUMMARY:Hanukkah: Night 2
DESCRIPTION:
URL:https://bethtorah.ca/event/hanukkah-night-2/
END:VEVENT
BEGIN:VEVENT
DTSTART;VALUE=DATE:20251216
DTEND;VALUE=DATE:20251217
DTSTAMP:20260425T080033
CREATED:20250327T180221Z
LAST-MODIFIED:20250327T180221Z
UID:53122-1765843200-1765929599@bethtorah.ca
SUMMARY:Hanukkah: Night 3
DESCRIPTION:
URL:https://bethtorah.ca/event/hanukkah-night-3/
END:VEVENT
BEGIN:VEVENT
DTSTART;VALUE=DATE:20251217
DTEND;VALUE=DATE:20251218
DTSTAMP:20260425T080033
CREATED:20250327T180252Z
LAST-MODIFIED:20250327T180307Z
UID:53125-1765929600-1766015999@bethtorah.ca
SUMMARY:Hanukkah: Night 4
DESCRIPTION:
URL:https://bethtorah.ca/event/hanukkah-night-4/
END:VEVENT
BEGIN:VEVENT
DTSTART;TZID=America/Toronto:20251217T160000
DTEND;TZID=America/Toronto:20251217T180000
DTSTAMP:20260425T080033
CREATED:20251208T180032Z
LAST-MODIFIED:20251208T180032Z
UID:53561-1765987200-1765994400@bethtorah.ca
SUMMARY:Bringing Hanukkah Light to Baycrest Community
DESCRIPTION:Join Cantor Steve and our Beth Torah Singers for a joyous and meaningful afternoon of candlelighting and sing-along with the residents of Baycrest. Pizza dinner to follow. Contact Cantor Steve @ cantor@bethtorah.ca for more information or to register. Everyone is welcome!! Wed Dec 17 from 4 to 6 p.m.
URL:https://bethtorah.ca/event/bringing-hanukkah-light-to-baycrest-community/
CATEGORIES:Featured
ATTACH;FMTTYPE=image/jpeg:https://bethtorah.ca/wp-content/uploads/Bringing-Chanukah-Light-to-the-Baycrest-Community-4.jpg
END:VEVENT
BEGIN:VEVENT
DTSTART;VALUE=DATE:20251218
DTEND;VALUE=DATE:20251219
DTSTAMP:20260425T080033
CREATED:20250327T180702Z
LAST-MODIFIED:20250327T180702Z
UID:53129-1766016000-1766102399@bethtorah.ca
SUMMARY:Hanukkah: Night 5
DESCRIPTION:
URL:https://bethtorah.ca/event/hanukkah-night-5/
END:VEVENT
BEGIN:VEVENT
DTSTART;VALUE=DATE:20251219
DTEND;VALUE=DATE:20251220
DTSTAMP:20260425T080033
CREATED:20250327T180724Z
LAST-MODIFIED:20250327T180724Z
UID:53131-1766102400-1766188799@bethtorah.ca
SUMMARY:Hanukkah: Night 6
DESCRIPTION:
URL:https://bethtorah.ca/event/hanukkah-night-6/
END:VEVENT
END:VCALENDAR