BEGIN:VCALENDAR
VERSION:2.0
PRODID:-//Beth Torah Congregation - ECPv6.15.20//NONSGML v1.0//EN
CALSCALE:GREGORIAN
METHOD:PUBLISH
X-WR-CALNAME:Beth Torah Congregation
X-ORIGINAL-URL:https://bethtorah.ca
X-WR-CALDESC:Events for Beth Torah Congregation
REFRESH-INTERVAL;VALUE=DURATION:PT1H
X-Robots-Tag:noindex
X-PUBLISHED-TTL:PT1H
BEGIN:VTIMEZONE
TZID:America/Toronto
BEGIN:DAYLIGHT
TZOFFSETFROM:-0500
TZOFFSETTO:-0400
TZNAME:EDT
DTSTART:20240310T070000
END:DAYLIGHT
BEGIN:STANDARD
TZOFFSETFROM:-0400
TZOFFSETTO:-0500
TZNAME:EST
DTSTART:20241103T060000
END:STANDARD
BEGIN:DAYLIGHT
TZOFFSETFROM:-0500
TZOFFSETTO:-0400
TZNAME:EDT
DTSTART:20250309T070000
END:DAYLIGHT
BEGIN:STANDARD
TZOFFSETFROM:-0400
TZOFFSETTO:-0500
TZNAME:EST
DTSTART:20251102T060000
END:STANDARD
BEGIN:DAYLIGHT
TZOFFSETFROM:-0500
TZOFFSETTO:-0400
TZNAME:EDT
DTSTART:20260308T070000
END:DAYLIGHT
BEGIN:STANDARD
TZOFFSETFROM:-0400
TZOFFSETTO:-0500
TZNAME:EST
DTSTART:20261101T060000
END:STANDARD
END:VTIMEZONE
BEGIN:VEVENT
DTSTART;VALUE=DATE:20251008
DTEND;VALUE=DATE:20251009
DTSTAMP:20260425T111054
CREATED:20250327T171857Z
LAST-MODIFIED:20250327T173758Z
UID:53094-1759881600-1759967999@bethtorah.ca
SUMMARY:Sukkot II
DESCRIPTION:
URL:https://bethtorah.ca/event/sukkot-ii/
END:VEVENT
BEGIN:VEVENT
DTSTART;VALUE=DATE:20251009
DTEND;VALUE=DATE:20251010
DTSTAMP:20260425T111054
CREATED:20250327T174019Z
LAST-MODIFIED:20250327T174324Z
UID:53096-1759968000-1760054399@bethtorah.ca
SUMMARY:Sukkot III (CH''M)
DESCRIPTION:
URL:https://bethtorah.ca/event/sukkot-iii-chm/
END:VEVENT
BEGIN:VEVENT
DTSTART;VALUE=DATE:20251010
DTEND;VALUE=DATE:20251011
DTSTAMP:20260425T111054
CREATED:20250327T174043Z
LAST-MODIFIED:20250327T174050Z
UID:53098-1760054400-1760140799@bethtorah.ca
SUMMARY:Sukkot IV (CH''M)
DESCRIPTION:
URL:https://bethtorah.ca/event/sukkot-iv-chm/
END:VEVENT
BEGIN:VEVENT
DTSTART;VALUE=DATE:20251011
DTEND;VALUE=DATE:20251012
DTSTAMP:20260425T111054
CREATED:20250327T174211Z
LAST-MODIFIED:20250327T174211Z
UID:53100-1760140800-1760227199@bethtorah.ca
SUMMARY:Sukkot V (CH''M)
DESCRIPTION:
URL:https://bethtorah.ca/event/sukkot-v-chm/
END:VEVENT
BEGIN:VEVENT
DTSTART;TZID=America/Toronto:20250315T093000
DTEND;TZID=America/Toronto:20250315T113000
DTSTAMP:20260425T111054
CREATED:20250312T193613Z
LAST-MODIFIED:20250326T191506Z
UID:52917-1742031000-1742038200@bethtorah.ca
SUMMARY:Shabbat Services
DESCRIPTION:
URL:https://bethtorah.ca/event/shabbat-services/
END:VEVENT
BEGIN:VEVENT
DTSTART;VALUE=DATE:20251012
DTEND;VALUE=DATE:20251013
DTSTAMP:20260425T111054
CREATED:20250327T174600Z
LAST-MODIFIED:20250327T174600Z
UID:53102-1760227200-1760313599@bethtorah.ca
SUMMARY:Sukkot VI (CH''M)
DESCRIPTION:
URL:https://bethtorah.ca/event/sukkot-vi-chm/
END:VEVENT
BEGIN:VEVENT
DTSTART;TZID=America/Toronto:20250706T090000
DTEND;TZID=America/Toronto:20250706T100000
DTSTAMP:20260425T111054
CREATED:20250617T135242Z
LAST-MODIFIED:20250617T135242Z
UID:53285-1751792400-1751796000@bethtorah.ca
SUMMARY:No Morning Minyan
DESCRIPTION:
URL:https://bethtorah.ca/event/no-morning-minyan/
END:VEVENT
BEGIN:VEVENT
DTSTART;TZID=America/Toronto:20250907T090000
DTEND;TZID=America/Toronto:20250907T120000
DTSTAMP:20260425T111054
CREATED:20250828T132345Z
LAST-MODIFIED:20250828T132418Z
UID:53416-1757235600-1757246400@bethtorah.ca
SUMMARY:Sunday Minyan & Breakfast
DESCRIPTION:Join us every Sunday morning. Begin your week with prayer\, reflection\, and a sense of renewal\, then pull up a chair and enjoy a nourishing breakfast as a community.
URL:https://bethtorah.ca/event/sunday-minyan-breakfast/
CATEGORIES:Featured
ATTACH;FMTTYPE=image/jpeg:https://bethtorah.ca/wp-content/uploads/Sunday-Minyan-Breakfast-2.jpg
END:VEVENT
BEGIN:VEVENT
DTSTART;VALUE=DATE:20251013
DTEND;VALUE=DATE:20251014
DTSTAMP:20260425T111054
CREATED:20250327T174641Z
LAST-MODIFIED:20250327T174641Z
UID:53104-1760313600-1760399999@bethtorah.ca
SUMMARY:Sukkot VII (Hoshana Raba)
DESCRIPTION:
URL:https://bethtorah.ca/event/sukkot-vii-hoshana-raba/
END:VEVENT
BEGIN:VEVENT
DTSTART;VALUE=DATE:20251014
DTEND;VALUE=DATE:20251015
DTSTAMP:20260425T111054
CREATED:20250327T174709Z
LAST-MODIFIED:20250327T174709Z
UID:53106-1760400000-1760486399@bethtorah.ca
SUMMARY:Shemini Atzeret
DESCRIPTION:
URL:https://bethtorah.ca/event/shemini-atzeret/
END:VEVENT
BEGIN:VEVENT
DTSTART;VALUE=DATE:20251015
DTEND;VALUE=DATE:20251016
DTSTAMP:20260425T111054
CREATED:20250327T174726Z
LAST-MODIFIED:20250327T174726Z
UID:53108-1760486400-1760572799@bethtorah.ca
SUMMARY:Simchat Torah
DESCRIPTION:
URL:https://bethtorah.ca/event/simchat-torah/
END:VEVENT
BEGIN:VEVENT
DTSTART;TZID=America/Toronto:20250315T093000
DTEND;TZID=America/Toronto:20250315T113000
DTSTAMP:20260425T111054
CREATED:20250312T193613Z
LAST-MODIFIED:20250326T191506Z
UID:52917-1742031000-1742038200@bethtorah.ca
SUMMARY:Shabbat Services
DESCRIPTION:
URL:https://bethtorah.ca/event/shabbat-services/
END:VEVENT
BEGIN:VEVENT
DTSTART;TZID=America/Toronto:20250706T090000
DTEND;TZID=America/Toronto:20250706T100000
DTSTAMP:20260425T111054
CREATED:20250617T135242Z
LAST-MODIFIED:20250617T135242Z
UID:53285-1751792400-1751796000@bethtorah.ca
SUMMARY:No Morning Minyan
DESCRIPTION:
URL:https://bethtorah.ca/event/no-morning-minyan/
END:VEVENT
BEGIN:VEVENT
DTSTART;TZID=America/Toronto:20250907T090000
DTEND;TZID=America/Toronto:20250907T120000
DTSTAMP:20260425T111054
CREATED:20250828T132345Z
LAST-MODIFIED:20250828T132418Z
UID:53416-1757235600-1757246400@bethtorah.ca
SUMMARY:Sunday Minyan & Breakfast
DESCRIPTION:Join us every Sunday morning. Begin your week with prayer\, reflection\, and a sense of renewal\, then pull up a chair and enjoy a nourishing breakfast as a community.
URL:https://bethtorah.ca/event/sunday-minyan-breakfast/
CATEGORIES:Featured
ATTACH;FMTTYPE=image/jpeg:https://bethtorah.ca/wp-content/uploads/Sunday-Minyan-Breakfast-2.jpg
END:VEVENT
BEGIN:VEVENT
DTSTART;VALUE=DATE:20251022
DTEND;VALUE=DATE:20251024
DTSTAMP:20260425T111054
CREATED:20250327T171719Z
LAST-MODIFIED:20250327T171719Z
UID:53090-1761091200-1761263999@bethtorah.ca
SUMMARY:Rosh Chodesh Cheshvan
DESCRIPTION:
URL:https://bethtorah.ca/event/rosh-chodesh-cheshvan/
END:VEVENT
BEGIN:VEVENT
DTSTART;TZID=America/Toronto:20250315T093000
DTEND;TZID=America/Toronto:20250315T113000
DTSTAMP:20260425T111054
CREATED:20250312T193613Z
LAST-MODIFIED:20250326T191506Z
UID:52917-1742031000-1742038200@bethtorah.ca
SUMMARY:Shabbat Services
DESCRIPTION:
URL:https://bethtorah.ca/event/shabbat-services/
END:VEVENT
BEGIN:VEVENT
DTSTART;TZID=America/Toronto:20250706T090000
DTEND;TZID=America/Toronto:20250706T100000
DTSTAMP:20260425T111054
CREATED:20250617T135242Z
LAST-MODIFIED:20250617T135242Z
UID:53285-1751792400-1751796000@bethtorah.ca
SUMMARY:No Morning Minyan
DESCRIPTION:
URL:https://bethtorah.ca/event/no-morning-minyan/
END:VEVENT
BEGIN:VEVENT
DTSTART;TZID=America/Toronto:20250907T090000
DTEND;TZID=America/Toronto:20250907T120000
DTSTAMP:20260425T111054
CREATED:20250828T132345Z
LAST-MODIFIED:20250828T132418Z
UID:53416-1757235600-1757246400@bethtorah.ca
SUMMARY:Sunday Minyan & Breakfast
DESCRIPTION:Join us every Sunday morning. Begin your week with prayer\, reflection\, and a sense of renewal\, then pull up a chair and enjoy a nourishing breakfast as a community.
URL:https://bethtorah.ca/event/sunday-minyan-breakfast/
CATEGORIES:Featured
ATTACH;FMTTYPE=image/jpeg:https://bethtorah.ca/wp-content/uploads/Sunday-Minyan-Breakfast-2.jpg
END:VEVENT
BEGIN:VEVENT
DTSTART;TZID=America/Toronto:20251101T090000
DTEND;TZID=America/Toronto:20251101T123000
DTSTAMP:20260425T111054
CREATED:20251027T175032Z
LAST-MODIFIED:20251027T175032Z
UID:53486-1761987600-1762000200@bethtorah.ca
SUMMARY:Intergenerational Shabbat
DESCRIPTION:Join us Saturday\, November 1st for a joyful and heartwarming Family Shabbat service as our entire community – from toddlers to great-grandparents – come together to celebrate Shabbat in song\, story\, and spirit.
URL:https://bethtorah.ca/event/intergenerational-shabbat-5/
CATEGORIES:Featured
ATTACH;FMTTYPE=image/jpeg:https://bethtorah.ca/wp-content/uploads/Join-us-tomorrow-for-6.jpg
END:VEVENT
BEGIN:VEVENT
DTSTART;TZID=America/Toronto:20250315T093000
DTEND;TZID=America/Toronto:20250315T113000
DTSTAMP:20260425T111054
CREATED:20250312T193613Z
LAST-MODIFIED:20250326T191506Z
UID:52917-1742031000-1742038200@bethtorah.ca
SUMMARY:Shabbat Services
DESCRIPTION:
URL:https://bethtorah.ca/event/shabbat-services/
END:VEVENT
BEGIN:VEVENT
DTSTART;TZID=America/Toronto:20250706T090000
DTEND;TZID=America/Toronto:20250706T100000
DTSTAMP:20260425T111054
CREATED:20250617T135242Z
LAST-MODIFIED:20250617T135242Z
UID:53285-1751792400-1751796000@bethtorah.ca
SUMMARY:No Morning Minyan
DESCRIPTION:
URL:https://bethtorah.ca/event/no-morning-minyan/
END:VEVENT
BEGIN:VEVENT
DTSTART;TZID=America/Toronto:20250907T090000
DTEND;TZID=America/Toronto:20250907T120000
DTSTAMP:20260425T111054
CREATED:20250828T132345Z
LAST-MODIFIED:20250828T132418Z
UID:53416-1757235600-1757246400@bethtorah.ca
SUMMARY:Sunday Minyan & Breakfast
DESCRIPTION:Join us every Sunday morning. Begin your week with prayer\, reflection\, and a sense of renewal\, then pull up a chair and enjoy a nourishing breakfast as a community.
URL:https://bethtorah.ca/event/sunday-minyan-breakfast/
CATEGORIES:Featured
ATTACH;FMTTYPE=image/jpeg:https://bethtorah.ca/wp-content/uploads/Sunday-Minyan-Breakfast-2.jpg
END:VEVENT
BEGIN:VEVENT
DTSTART;TZID=America/Toronto:20250315T093000
DTEND;TZID=America/Toronto:20250315T113000
DTSTAMP:20260425T111054
CREATED:20250312T193613Z
LAST-MODIFIED:20250326T191506Z
UID:52917-1742031000-1742038200@bethtorah.ca
SUMMARY:Shabbat Services
DESCRIPTION:
URL:https://bethtorah.ca/event/shabbat-services/
END:VEVENT
BEGIN:VEVENT
DTSTART;TZID=America/Toronto:20250706T090000
DTEND;TZID=America/Toronto:20250706T100000
DTSTAMP:20260425T111054
CREATED:20250617T135242Z
LAST-MODIFIED:20250617T135242Z
UID:53285-1751792400-1751796000@bethtorah.ca
SUMMARY:No Morning Minyan
DESCRIPTION:
URL:https://bethtorah.ca/event/no-morning-minyan/
END:VEVENT
BEGIN:VEVENT
DTSTART;TZID=America/Toronto:20250907T090000
DTEND;TZID=America/Toronto:20250907T120000
DTSTAMP:20260425T111054
CREATED:20250828T132345Z
LAST-MODIFIED:20250828T132418Z
UID:53416-1757235600-1757246400@bethtorah.ca
SUMMARY:Sunday Minyan & Breakfast
DESCRIPTION:Join us every Sunday morning. Begin your week with prayer\, reflection\, and a sense of renewal\, then pull up a chair and enjoy a nourishing breakfast as a community.
URL:https://bethtorah.ca/event/sunday-minyan-breakfast/
CATEGORIES:Featured
ATTACH;FMTTYPE=image/jpeg:https://bethtorah.ca/wp-content/uploads/Sunday-Minyan-Breakfast-2.jpg
END:VEVENT
BEGIN:VEVENT
DTSTART;TZID=America/Toronto:20251113T190000
DTEND;TZID=America/Toronto:20251113T220000
DTSTAMP:20260425T111054
CREATED:20251030T173038Z
LAST-MODIFIED:20251030T173038Z
UID:53503-1763060400-1763071200@bethtorah.ca
SUMMARY:Billiards & Beer
DESCRIPTION:Young Adults Social Night 🎱 \nWe’re teaming up with Adath Israel Congregation for a fun night out just for our 20 to 39 year old crowd! Join us on Thursday\, November 13\, from 7 – 10 PM at Safari Bar & Grill on Avenue Rd. \nCome hang out\, play some pool\, meet new people\, schmooze a bit\, and enjoy a drink (or two)!  *Your first 2 drinks\, pool tables and light snacks are on us!! \nWe can’t wait to see you there! \nTo register please click here! https://www.adathisrael.com/event/billiards-and-beers.html
URL:https://bethtorah.ca/event/billiards-beer/
CATEGORIES:Featured
ATTACH;FMTTYPE=image/jpeg:https://bethtorah.ca/wp-content/uploads/Billiards-and-Beers-8.5-x-11-in.jpg
END:VEVENT
BEGIN:VEVENT
DTSTART;TZID=America/Toronto:20250315T093000
DTEND;TZID=America/Toronto:20250315T113000
DTSTAMP:20260425T111054
CREATED:20250312T193613Z
LAST-MODIFIED:20250326T191506Z
UID:52917-1742031000-1742038200@bethtorah.ca
SUMMARY:Shabbat Services
DESCRIPTION:
URL:https://bethtorah.ca/event/shabbat-services/
END:VEVENT
BEGIN:VEVENT
DTSTART;TZID=America/Toronto:20250706T090000
DTEND;TZID=America/Toronto:20250706T100000
DTSTAMP:20260425T111054
CREATED:20250617T135242Z
LAST-MODIFIED:20250617T135242Z
UID:53285-1751792400-1751796000@bethtorah.ca
SUMMARY:No Morning Minyan
DESCRIPTION:
URL:https://bethtorah.ca/event/no-morning-minyan/
END:VEVENT
BEGIN:VEVENT
DTSTART;TZID=America/Toronto:20250907T090000
DTEND;TZID=America/Toronto:20250907T120000
DTSTAMP:20260425T111054
CREATED:20250828T132345Z
LAST-MODIFIED:20250828T132418Z
UID:53416-1757235600-1757246400@bethtorah.ca
SUMMARY:Sunday Minyan & Breakfast
DESCRIPTION:Join us every Sunday morning. Begin your week with prayer\, reflection\, and a sense of renewal\, then pull up a chair and enjoy a nourishing breakfast as a community.
URL:https://bethtorah.ca/event/sunday-minyan-breakfast/
CATEGORIES:Featured
ATTACH;FMTTYPE=image/jpeg:https://bethtorah.ca/wp-content/uploads/Sunday-Minyan-Breakfast-2.jpg
END:VEVENT
BEGIN:VEVENT
DTSTART;TZID=America/Toronto:20251119T190000
DTEND;TZID=America/Toronto:20251119T210000
DTSTAMP:20260425T111054
CREATED:20251030T154027Z
LAST-MODIFIED:20251030T154027Z
UID:53500-1763578800-1763586000@bethtorah.ca
SUMMARY:Town Hall Meeting
DESCRIPTION:Save The Date!\nBeth Torah will be holding a Congregational Town Hall Meeting on Wednesday\, November 19th at 7 p.m. \nAll members are encouraged to attend.
URL:https://bethtorah.ca/event/town-hall-meeting/
CATEGORIES:Featured
ATTACH;FMTTYPE=image/jpeg:https://bethtorah.ca/wp-content/uploads/Congregational-Town-Hall-Meeting-3.jpg
END:VEVENT
END:VCALENDAR