BEGIN:VCALENDAR
VERSION:2.0
PRODID:-//Beth Torah Congregation - ECPv6.15.20//NONSGML v1.0//EN
CALSCALE:GREGORIAN
METHOD:PUBLISH
X-WR-CALNAME:Beth Torah Congregation
X-ORIGINAL-URL:https://bethtorah.ca
X-WR-CALDESC:Events for Beth Torah Congregation
REFRESH-INTERVAL;VALUE=DURATION:PT1H
X-Robots-Tag:noindex
X-PUBLISHED-TTL:PT1H
BEGIN:VTIMEZONE
TZID:America/Toronto
BEGIN:DAYLIGHT
TZOFFSETFROM:-0500
TZOFFSETTO:-0400
TZNAME:EDT
DTSTART:20190310T070000
END:DAYLIGHT
BEGIN:STANDARD
TZOFFSETFROM:-0400
TZOFFSETTO:-0500
TZNAME:EST
DTSTART:20191103T060000
END:STANDARD
BEGIN:DAYLIGHT
TZOFFSETFROM:-0500
TZOFFSETTO:-0400
TZNAME:EDT
DTSTART:20200308T070000
END:DAYLIGHT
BEGIN:STANDARD
TZOFFSETFROM:-0400
TZOFFSETTO:-0500
TZNAME:EST
DTSTART:20201101T060000
END:STANDARD
BEGIN:DAYLIGHT
TZOFFSETFROM:-0500
TZOFFSETTO:-0400
TZNAME:EDT
DTSTART:20210314T070000
END:DAYLIGHT
BEGIN:STANDARD
TZOFFSETFROM:-0400
TZOFFSETTO:-0500
TZNAME:EST
DTSTART:20211107T060000
END:STANDARD
BEGIN:DAYLIGHT
TZOFFSETFROM:-0500
TZOFFSETTO:-0400
TZNAME:EDT
DTSTART:20220313T070000
END:DAYLIGHT
BEGIN:STANDARD
TZOFFSETFROM:-0400
TZOFFSETTO:-0500
TZNAME:EST
DTSTART:20221106T060000
END:STANDARD
END:VTIMEZONE
BEGIN:VEVENT
DTSTART;TZID=America/Toronto:20210221T193000
DTEND;TZID=America/Toronto:20210221T210000
DTSTAMP:20260425T123057
CREATED:20210118T183121Z
LAST-MODIFIED:20210122T005357Z
UID:1641-1613935800-1613941200@bethtorah.ca
SUMMARY:Leonard Cohen. Untold Stories: The Early Years
DESCRIPTION:Sunday\, 21 February\, 2021 | 7:30 PM – 9:00 pm \nThe extraordinary life of one of the world’s greatest music and literary icons\, in the words of those who knew him best. \nAn intimate discussion with author Michael Posner With Deborah Dundas\, Book Reporter and Books Editor for the Toronto Star. \nCo-sponsored by Beit Rayim\, Beth Tzedec\, Beth Radom\, Beth Emeth-Bais Yehuda\, Beth Sholom \nTo register click here.
URL:https://bethtorah.ca/event/leonard-cohen-untold-stories-the-early-years/
LOCATION:47 Glenbrook Avenue\, Toronto\, Ontario\, M6B 2L7\, Canada
ATTACH;FMTTYPE=image/jpeg:https://bethtorah.ca/wp-content/uploads/140731357_3699957276719336_8016979496319511570_o-copy.jpg
END:VEVENT
BEGIN:VEVENT
DTSTART;TZID=America/Toronto:20200928T140000
DTEND;TZID=America/Toronto:20200928T153000
DTSTAMP:20260425T123057
CREATED:20200903T173155Z
LAST-MODIFIED:20200914T161237Z
UID:713-1601301600-1601307000@bethtorah.ca
SUMMARY:The Rosh Is On
DESCRIPTION:The meaningful service you really want\nCelebrate the High Holidays with traditional prayer\, soul-stirring music\, and captivating speakers for the whole family. This year\, The Rosh is On is a one and a half-hour online program. \nSeptember 19\, 2020\, at 2:00 PM (Rosh Hashanah) \nand \nSeptember 28\, 2020 at 2:00 PM (Yom Kippur) \n  \nAs always\, The Rosh is On is free of charge.\nTo receive the log in information to join our live stream\, register here.
URL:https://bethtorah.ca/event/the-rosh-is-on-2020-09-28/
LOCATION:47 Glenbrook Avenue\, Toronto\, Ontario\, M6B 2L7\, Canada
CATEGORIES:High Holidays
ATTACH;FMTTYPE=image/png:https://bethtorah.ca/wp-content/uploads/HoneyBGRoshHour.png
END:VEVENT
BEGIN:VEVENT
DTSTART;TZID=America/Toronto:20200919T140000
DTEND;TZID=America/Toronto:20200919T153000
DTSTAMP:20260425T123057
CREATED:20200903T173155Z
LAST-MODIFIED:20200909T194728Z
UID:626-1600524000-1600529400@bethtorah.ca
SUMMARY:The Rosh Is On
DESCRIPTION:The meaningful service you really want\nCelebrate the High Holidays with traditional prayer\, soul-stirring music\, and captivating speakers for the whole family. This year\, The Rosh is On is a one and a half-hour online program. \nSeptember 19\, 2020\, at 2:00 PM (Rosh Hashanah) \nand \nSeptember 28\, 2020 at 2:00 PM (Yom Kippur) \n  \nAs always\, The Rosh is On is free of charge.\nTo receive the log in information to join our live stream\, register here.
URL:https://bethtorah.ca/event/the-rosh-is-on/
LOCATION:47 Glenbrook Avenue\, Toronto\, Ontario\, M6B 2L7\, Canada
CATEGORIES:High Holidays
ATTACH;FMTTYPE=image/jpeg:https://bethtorah.ca/wp-content/uploads/1c7c07c1ef27031290d01399ddecc94cfa7b9db8.jpg
END:VEVENT
END:VCALENDAR