BEGIN:VCALENDAR
VERSION:2.0
PRODID:-//Beth Torah Congregation - ECPv6.15.20//NONSGML v1.0//EN
CALSCALE:GREGORIAN
METHOD:PUBLISH
X-WR-CALNAME:Beth Torah Congregation
X-ORIGINAL-URL:https://bethtorah.ca
X-WR-CALDESC:Events for Beth Torah Congregation
REFRESH-INTERVAL;VALUE=DURATION:PT1H
X-Robots-Tag:noindex
X-PUBLISHED-TTL:PT1H
BEGIN:VTIMEZONE
TZID:America/Toronto
BEGIN:DAYLIGHT
TZOFFSETFROM:-0500
TZOFFSETTO:-0400
TZNAME:EDT
DTSTART:20240310T070000
END:DAYLIGHT
BEGIN:STANDARD
TZOFFSETFROM:-0400
TZOFFSETTO:-0500
TZNAME:EST
DTSTART:20241103T060000
END:STANDARD
BEGIN:DAYLIGHT
TZOFFSETFROM:-0500
TZOFFSETTO:-0400
TZNAME:EDT
DTSTART:20250309T070000
END:DAYLIGHT
BEGIN:STANDARD
TZOFFSETFROM:-0400
TZOFFSETTO:-0500
TZNAME:EST
DTSTART:20251102T060000
END:STANDARD
BEGIN:DAYLIGHT
TZOFFSETFROM:-0500
TZOFFSETTO:-0400
TZNAME:EDT
DTSTART:20260308T070000
END:DAYLIGHT
BEGIN:STANDARD
TZOFFSETFROM:-0400
TZOFFSETTO:-0500
TZNAME:EST
DTSTART:20261101T060000
END:STANDARD
BEGIN:DAYLIGHT
TZOFFSETFROM:-0500
TZOFFSETTO:-0400
TZNAME:EDT
DTSTART:20270314T070000
END:DAYLIGHT
BEGIN:STANDARD
TZOFFSETFROM:-0400
TZOFFSETTO:-0500
TZNAME:EST
DTSTART:20271107T060000
END:STANDARD
END:VTIMEZONE
BEGIN:VEVENT
DTSTART;TZID=America/Toronto:20260419T153000
DTEND;TZID=America/Toronto:20260419T170000
DTSTAMP:20260423T154143
CREATED:20260325T140641Z
LAST-MODIFIED:20260325T161007Z
UID:53805-1776612600-1776618000@bethtorah.ca
SUMMARY:Yom Ha'atzmaut & Kumzitz
DESCRIPTION:Please join us for a special Yom Ha’atzmaut & Kumzitz afternoon on Sunday\, April 19 @ 3:30 p.m. Through the timeless melodies of Naomi Shemer\, alongside contemporary voices such as Ishay Ribo\, we will journey through the musical landscape of Israel—past and present. Together\, we will celebrate the resilience of the Israeli people and offer prayers for peace\, safety\, and unity. This musical program will be led by Cantor Steve Zeidenberg and award-winning guitarist Aaron Lightstone (Jaffa Road)\, reprising their musical partnership from last year’s memorable Yom Ha’atzmaut program. \nLight refreshments will follow the program.\n$18 for members and $25 for non-members. \nPlease register here
URL:https://bethtorah.ca/event/https-www-bethtorahto-ca-form-kumzitz/
CATEGORIES:Featured
ATTACH;FMTTYPE=image/jpeg:https://bethtorah.ca/wp-content/uploads/Yom-Haatzmaut-Concert-1-1.jpg
END:VEVENT
BEGIN:VEVENT
DTSTART;TZID=America/Toronto:20250907T090000
DTEND;TZID=America/Toronto:20250907T120000
DTSTAMP:20260423T154143
CREATED:20250828T132345Z
LAST-MODIFIED:20250828T132418Z
UID:53416-1757235600-1757246400@bethtorah.ca
SUMMARY:Sunday Minyan & Breakfast
DESCRIPTION:Join us every Sunday morning. Begin your week with prayer\, reflection\, and a sense of renewal\, then pull up a chair and enjoy a nourishing breakfast as a community.
URL:https://bethtorah.ca/event/sunday-minyan-breakfast/
CATEGORIES:Featured
ATTACH;FMTTYPE=image/jpeg:https://bethtorah.ca/wp-content/uploads/Sunday-Minyan-Breakfast-2.jpg
END:VEVENT
BEGIN:VEVENT
DTSTART;TZID=America/Toronto:20250706T090000
DTEND;TZID=America/Toronto:20250706T100000
DTSTAMP:20260423T154143
CREATED:20250617T135242Z
LAST-MODIFIED:20250617T135242Z
UID:53285-1751792400-1751796000@bethtorah.ca
SUMMARY:No Morning Minyan
DESCRIPTION:
URL:https://bethtorah.ca/event/no-morning-minyan/
END:VEVENT
BEGIN:VEVENT
DTSTART;TZID=America/Toronto:20250315T093000
DTEND;TZID=America/Toronto:20250315T113000
DTSTAMP:20260423T154143
CREATED:20250312T193613Z
LAST-MODIFIED:20250326T191506Z
UID:52917-1742031000-1742038200@bethtorah.ca
SUMMARY:Shabbat Services
DESCRIPTION:
URL:https://bethtorah.ca/event/shabbat-services/
END:VEVENT
BEGIN:VEVENT
DTSTART;TZID=America/Toronto:20250907T090000
DTEND;TZID=America/Toronto:20250907T120000
DTSTAMP:20260423T154143
CREATED:20250828T132345Z
LAST-MODIFIED:20250828T132418Z
UID:53416-1757235600-1757246400@bethtorah.ca
SUMMARY:Sunday Minyan & Breakfast
DESCRIPTION:Join us every Sunday morning. Begin your week with prayer\, reflection\, and a sense of renewal\, then pull up a chair and enjoy a nourishing breakfast as a community.
URL:https://bethtorah.ca/event/sunday-minyan-breakfast/
CATEGORIES:Featured
ATTACH;FMTTYPE=image/jpeg:https://bethtorah.ca/wp-content/uploads/Sunday-Minyan-Breakfast-2.jpg
END:VEVENT
BEGIN:VEVENT
DTSTART;TZID=America/Toronto:20250706T090000
DTEND;TZID=America/Toronto:20250706T100000
DTSTAMP:20260423T154143
CREATED:20250617T135242Z
LAST-MODIFIED:20250617T135242Z
UID:53285-1751792400-1751796000@bethtorah.ca
SUMMARY:No Morning Minyan
DESCRIPTION:
URL:https://bethtorah.ca/event/no-morning-minyan/
END:VEVENT
BEGIN:VEVENT
DTSTART;TZID=America/Toronto:20250315T093000
DTEND;TZID=America/Toronto:20250315T113000
DTSTAMP:20260423T154143
CREATED:20250312T193613Z
LAST-MODIFIED:20250326T191506Z
UID:52917-1742031000-1742038200@bethtorah.ca
SUMMARY:Shabbat Services
DESCRIPTION:
URL:https://bethtorah.ca/event/shabbat-services/
END:VEVENT
BEGIN:VEVENT
DTSTART;TZID=America/Toronto:20260409T093000
DTEND;TZID=America/Toronto:20260409T103000
DTSTAMP:20260423T154143
CREATED:20260305T171212Z
LAST-MODIFIED:20260305T171212Z
UID:53761-1775727000-1775730600@bethtorah.ca
SUMMARY:Passover Service
DESCRIPTION:
URL:https://bethtorah.ca/event/passover-service-4/
END:VEVENT
BEGIN:VEVENT
DTSTART;TZID=America/Toronto:20260408T093000
DTEND;TZID=America/Toronto:20260408T103000
DTSTAMP:20260423T154143
CREATED:20260305T171127Z
LAST-MODIFIED:20260305T171138Z
UID:53759-1775640600-1775644200@bethtorah.ca
SUMMARY:Passover Service
DESCRIPTION:
URL:https://bethtorah.ca/event/passover-service-3/
END:VEVENT
BEGIN:VEVENT
DTSTART;TZID=America/Toronto:20250907T090000
DTEND;TZID=America/Toronto:20250907T120000
DTSTAMP:20260423T154143
CREATED:20250828T132345Z
LAST-MODIFIED:20250828T132418Z
UID:53416-1757235600-1757246400@bethtorah.ca
SUMMARY:Sunday Minyan & Breakfast
DESCRIPTION:Join us every Sunday morning. Begin your week with prayer\, reflection\, and a sense of renewal\, then pull up a chair and enjoy a nourishing breakfast as a community.
URL:https://bethtorah.ca/event/sunday-minyan-breakfast/
CATEGORIES:Featured
ATTACH;FMTTYPE=image/jpeg:https://bethtorah.ca/wp-content/uploads/Sunday-Minyan-Breakfast-2.jpg
END:VEVENT
BEGIN:VEVENT
DTSTART;TZID=America/Toronto:20250706T090000
DTEND;TZID=America/Toronto:20250706T100000
DTSTAMP:20260423T154143
CREATED:20250617T135242Z
LAST-MODIFIED:20250617T135242Z
UID:53285-1751792400-1751796000@bethtorah.ca
SUMMARY:No Morning Minyan
DESCRIPTION:
URL:https://bethtorah.ca/event/no-morning-minyan/
END:VEVENT
BEGIN:VEVENT
DTSTART;TZID=America/Toronto:20250315T093000
DTEND;TZID=America/Toronto:20250315T113000
DTSTAMP:20260423T154143
CREATED:20250312T193613Z
LAST-MODIFIED:20250326T191506Z
UID:52917-1742031000-1742038200@bethtorah.ca
SUMMARY:Shabbat Services
DESCRIPTION:
URL:https://bethtorah.ca/event/shabbat-services/
END:VEVENT
BEGIN:VEVENT
DTSTART;TZID=America/Toronto:20260403T093000
DTEND;TZID=America/Toronto:20260403T103000
DTSTAMP:20260423T154143
CREATED:20260305T171037Z
LAST-MODIFIED:20260305T171049Z
UID:53757-1775208600-1775212200@bethtorah.ca
SUMMARY:Passover Service
DESCRIPTION:
URL:https://bethtorah.ca/event/passover-service-2/
END:VEVENT
BEGIN:VEVENT
DTSTART;TZID=America/Toronto:20260402T093000
DTEND;TZID=America/Toronto:20260402T103000
DTSTAMP:20260423T154143
CREATED:20260305T170940Z
LAST-MODIFIED:20260305T170940Z
UID:53754-1775122200-1775125800@bethtorah.ca
SUMMARY:Passover Service
DESCRIPTION:
URL:https://bethtorah.ca/event/passover-service/
END:VEVENT
BEGIN:VEVENT
DTSTART;TZID=America/Toronto:20260401T073000
DTEND;TZID=America/Toronto:20260401T090000
DTSTAMP:20260423T154143
CREATED:20260305T170812Z
LAST-MODIFIED:20260305T170812Z
UID:53752-1775028600-1775034000@bethtorah.ca
SUMMARY:Shacharit Service & Siyyum for the Fast of the First Born
DESCRIPTION:7:30 AM \nBreakfast to follow.
URL:https://bethtorah.ca/event/shacharit-service-siyyum-for-the-fast-of-the-first-born/
END:VEVENT
BEGIN:VEVENT
DTSTART;TZID=America/Toronto:20260331T080000
DTEND;TZID=America/Toronto:20260331T170000
DTSTAMP:20260423T154143
CREATED:20260305T170454Z
LAST-MODIFIED:20260305T170710Z
UID:53749-1774944000-1774976400@bethtorah.ca
SUMMARY:Last Day to Sell Your Chametz
DESCRIPTION:Please fill out form here if you wish to sell your Chametz
URL:https://bethtorah.ca/event/last-day-to-sell-your-chametz/
END:VEVENT
BEGIN:VEVENT
DTSTART;TZID=America/Toronto:20250907T090000
DTEND;TZID=America/Toronto:20250907T120000
DTSTAMP:20260423T154143
CREATED:20250828T132345Z
LAST-MODIFIED:20250828T132418Z
UID:53416-1757235600-1757246400@bethtorah.ca
SUMMARY:Sunday Minyan & Breakfast
DESCRIPTION:Join us every Sunday morning. Begin your week with prayer\, reflection\, and a sense of renewal\, then pull up a chair and enjoy a nourishing breakfast as a community.
URL:https://bethtorah.ca/event/sunday-minyan-breakfast/
CATEGORIES:Featured
ATTACH;FMTTYPE=image/jpeg:https://bethtorah.ca/wp-content/uploads/Sunday-Minyan-Breakfast-2.jpg
END:VEVENT
BEGIN:VEVENT
DTSTART;TZID=America/Toronto:20250706T090000
DTEND;TZID=America/Toronto:20250706T100000
DTSTAMP:20260423T154143
CREATED:20250617T135242Z
LAST-MODIFIED:20250617T135242Z
UID:53285-1751792400-1751796000@bethtorah.ca
SUMMARY:No Morning Minyan
DESCRIPTION:
URL:https://bethtorah.ca/event/no-morning-minyan/
END:VEVENT
BEGIN:VEVENT
DTSTART;TZID=America/Toronto:20250315T093000
DTEND;TZID=America/Toronto:20250315T113000
DTSTAMP:20260423T154143
CREATED:20250312T193613Z
LAST-MODIFIED:20250326T191506Z
UID:52917-1742031000-1742038200@bethtorah.ca
SUMMARY:Shabbat Services
DESCRIPTION:
URL:https://bethtorah.ca/event/shabbat-services/
END:VEVENT
BEGIN:VEVENT
DTSTART;TZID=America/Toronto:20250907T090000
DTEND;TZID=America/Toronto:20250907T120000
DTSTAMP:20260423T154143
CREATED:20250828T132345Z
LAST-MODIFIED:20250828T132418Z
UID:53416-1757235600-1757246400@bethtorah.ca
SUMMARY:Sunday Minyan & Breakfast
DESCRIPTION:Join us every Sunday morning. Begin your week with prayer\, reflection\, and a sense of renewal\, then pull up a chair and enjoy a nourishing breakfast as a community.
URL:https://bethtorah.ca/event/sunday-minyan-breakfast/
CATEGORIES:Featured
ATTACH;FMTTYPE=image/jpeg:https://bethtorah.ca/wp-content/uploads/Sunday-Minyan-Breakfast-2.jpg
END:VEVENT
BEGIN:VEVENT
DTSTART;TZID=America/Toronto:20250706T090000
DTEND;TZID=America/Toronto:20250706T100000
DTSTAMP:20260423T154143
CREATED:20250617T135242Z
LAST-MODIFIED:20250617T135242Z
UID:53285-1751792400-1751796000@bethtorah.ca
SUMMARY:No Morning Minyan
DESCRIPTION:
URL:https://bethtorah.ca/event/no-morning-minyan/
END:VEVENT
BEGIN:VEVENT
DTSTART;TZID=America/Toronto:20250315T093000
DTEND;TZID=America/Toronto:20250315T113000
DTSTAMP:20260423T154143
CREATED:20250312T193613Z
LAST-MODIFIED:20250326T191506Z
UID:52917-1742031000-1742038200@bethtorah.ca
SUMMARY:Shabbat Services
DESCRIPTION:
URL:https://bethtorah.ca/event/shabbat-services/
END:VEVENT
BEGIN:VEVENT
DTSTART;TZID=America/Toronto:20260320T173000
DTEND;TZID=America/Toronto:20260320T223000
DTSTAMP:20260423T154143
CREATED:20260127T174409Z
LAST-MODIFIED:20260219T144112Z
UID:53659-1774027800-1774045800@bethtorah.ca
SUMMARY:Friends\, Food & Friday Night Lights
DESCRIPTION:Calling all young professionals in your 20’s and 30’s! Grab your friends and join us on Friday\, March 20 for a meaningful Kabbalat Shabbat service\, followed by a traditional Shabbat dinner. Come for the spirit\, stay for the community\, food\, and great conversation. \nTo register click here
URL:https://bethtorah.ca/event/https-www-bethtorahto-ca-form-ypdinner-html/
CATEGORIES:Featured
ATTACH;FMTTYPE=image/png:https://bethtorah.ca/wp-content/uploads/Kabbalat-Shabbat-Dinner-11.png
END:VEVENT
BEGIN:VEVENT
DTSTART;TZID=America/Toronto:20250907T090000
DTEND;TZID=America/Toronto:20250907T120000
DTSTAMP:20260423T154143
CREATED:20250828T132345Z
LAST-MODIFIED:20250828T132418Z
UID:53416-1757235600-1757246400@bethtorah.ca
SUMMARY:Sunday Minyan & Breakfast
DESCRIPTION:Join us every Sunday morning. Begin your week with prayer\, reflection\, and a sense of renewal\, then pull up a chair and enjoy a nourishing breakfast as a community.
URL:https://bethtorah.ca/event/sunday-minyan-breakfast/
CATEGORIES:Featured
ATTACH;FMTTYPE=image/jpeg:https://bethtorah.ca/wp-content/uploads/Sunday-Minyan-Breakfast-2.jpg
END:VEVENT
BEGIN:VEVENT
DTSTART;TZID=America/Toronto:20250706T090000
DTEND;TZID=America/Toronto:20250706T100000
DTSTAMP:20260423T154144
CREATED:20250617T135242Z
LAST-MODIFIED:20250617T135242Z
UID:53285-1751792400-1751796000@bethtorah.ca
SUMMARY:No Morning Minyan
DESCRIPTION:
URL:https://bethtorah.ca/event/no-morning-minyan/
END:VEVENT
BEGIN:VEVENT
DTSTART;TZID=America/Toronto:20250315T093000
DTEND;TZID=America/Toronto:20250315T113000
DTSTAMP:20260423T154144
CREATED:20250312T193613Z
LAST-MODIFIED:20250326T191506Z
UID:52917-1742031000-1742038200@bethtorah.ca
SUMMARY:Shabbat Services
DESCRIPTION:
URL:https://bethtorah.ca/event/shabbat-services/
END:VEVENT
BEGIN:VEVENT
DTSTART;TZID=America/Toronto:20250907T090000
DTEND;TZID=America/Toronto:20250907T120000
DTSTAMP:20260423T154144
CREATED:20250828T132345Z
LAST-MODIFIED:20250828T132418Z
UID:53416-1757235600-1757246400@bethtorah.ca
SUMMARY:Sunday Minyan & Breakfast
DESCRIPTION:Join us every Sunday morning. Begin your week with prayer\, reflection\, and a sense of renewal\, then pull up a chair and enjoy a nourishing breakfast as a community.
URL:https://bethtorah.ca/event/sunday-minyan-breakfast/
CATEGORIES:Featured
ATTACH;FMTTYPE=image/jpeg:https://bethtorah.ca/wp-content/uploads/Sunday-Minyan-Breakfast-2.jpg
END:VEVENT
BEGIN:VEVENT
DTSTART;TZID=America/Toronto:20250706T090000
DTEND;TZID=America/Toronto:20250706T100000
DTSTAMP:20260423T154144
CREATED:20250617T135242Z
LAST-MODIFIED:20250617T135242Z
UID:53285-1751792400-1751796000@bethtorah.ca
SUMMARY:No Morning Minyan
DESCRIPTION:
URL:https://bethtorah.ca/event/no-morning-minyan/
END:VEVENT
BEGIN:VEVENT
DTSTART;TZID=America/Toronto:20250315T093000
DTEND;TZID=America/Toronto:20250315T113000
DTSTAMP:20260423T154144
CREATED:20250312T193613Z
LAST-MODIFIED:20250326T191506Z
UID:52917-1742031000-1742038200@bethtorah.ca
SUMMARY:Shabbat Services
DESCRIPTION:
URL:https://bethtorah.ca/event/shabbat-services/
END:VEVENT
BEGIN:VEVENT
DTSTART;TZID=America/Toronto:20260302T173000
DTEND;TZID=America/Toronto:20260302T200000
DTSTAMP:20260423T154144
CREATED:20260128T205247Z
LAST-MODIFIED:20260128T205247Z
UID:53672-1772472600-1772481600@bethtorah.ca
SUMMARY:Get Ready to Defy Gravity this Purim
DESCRIPTION:Join us for a Wicked-themed Purim evening on Monday\, March 2  packed with music\, megillah magic [and munchies]! We’ll enjoy a Wicked-Themed Purim spiel led by our amazing Beth Torah Munchkins. Everyone gets to join in – boo the villains\, cheer the heroes\, and belt out familiar tunes with a Purim twist. \nCostumes strongly encouraged! Come dressed as your favourite Wicked character—or put a Wizard of Oz twist on a classic Purim costume. Glinda glam\, Elphaba green\, flying monkeys\, munchkins\, or creatively “wicked” originals are all welcome! \nHold on to your groggers\, and stay for the whole Megillah – a pizza dinner & Megillah reading. Expect laughs\, Purim treats\, booing and cheering on cue\, and plenty of magical fun for all ages. Because on Purim\, it’s good to be a little wicked. \nSpiel at 5:30 \nDinner followed by Megillah at 6:15
URL:https://bethtorah.ca/event/get-ready-to-defy-gravity-this-purim/
CATEGORIES:Featured
ATTACH;FMTTYPE=image/jpeg:https://bethtorah.ca/wp-content/uploads/Wicked-Purim-Spiel-11.jpg
END:VEVENT
END:VCALENDAR