BEGIN:VCALENDAR
VERSION:2.0
PRODID:-//Beth Torah Congregation - ECPv6.15.20//NONSGML v1.0//EN
CALSCALE:GREGORIAN
METHOD:PUBLISH
X-WR-CALNAME:Beth Torah Congregation
X-ORIGINAL-URL:https://bethtorah.ca
X-WR-CALDESC:Events for Beth Torah Congregation
REFRESH-INTERVAL;VALUE=DURATION:PT1H
X-Robots-Tag:noindex
X-PUBLISHED-TTL:PT1H
BEGIN:VTIMEZONE
TZID:America/Toronto
BEGIN:DAYLIGHT
TZOFFSETFROM:-0500
TZOFFSETTO:-0400
TZNAME:EDT
DTSTART:20240310T070000
END:DAYLIGHT
BEGIN:STANDARD
TZOFFSETFROM:-0400
TZOFFSETTO:-0500
TZNAME:EST
DTSTART:20241103T060000
END:STANDARD
BEGIN:DAYLIGHT
TZOFFSETFROM:-0500
TZOFFSETTO:-0400
TZNAME:EDT
DTSTART:20250309T070000
END:DAYLIGHT
BEGIN:STANDARD
TZOFFSETFROM:-0400
TZOFFSETTO:-0500
TZNAME:EST
DTSTART:20251102T060000
END:STANDARD
BEGIN:DAYLIGHT
TZOFFSETFROM:-0500
TZOFFSETTO:-0400
TZNAME:EDT
DTSTART:20260308T070000
END:DAYLIGHT
BEGIN:STANDARD
TZOFFSETFROM:-0400
TZOFFSETTO:-0500
TZNAME:EST
DTSTART:20261101T060000
END:STANDARD
BEGIN:DAYLIGHT
TZOFFSETFROM:-0500
TZOFFSETTO:-0400
TZNAME:EDT
DTSTART:20270314T070000
END:DAYLIGHT
BEGIN:STANDARD
TZOFFSETFROM:-0400
TZOFFSETTO:-0500
TZNAME:EST
DTSTART:20271107T060000
END:STANDARD
END:VTIMEZONE
BEGIN:VEVENT
DTSTART;TZID=America/Toronto:20250315T093000
DTEND;TZID=America/Toronto:20250315T113000
DTSTAMP:20260423T075745
CREATED:20250312T193613Z
LAST-MODIFIED:20250326T191506Z
UID:52917-1742031000-1742038200@bethtorah.ca
SUMMARY:Shabbat Services
DESCRIPTION:
URL:https://bethtorah.ca/event/shabbat-services/
END:VEVENT
BEGIN:VEVENT
DTSTART;TZID=America/Toronto:20250706T090000
DTEND;TZID=America/Toronto:20250706T100000
DTSTAMP:20260423T075745
CREATED:20250617T135242Z
LAST-MODIFIED:20250617T135242Z
UID:53285-1751792400-1751796000@bethtorah.ca
SUMMARY:No Morning Minyan
DESCRIPTION:
URL:https://bethtorah.ca/event/no-morning-minyan/
END:VEVENT
BEGIN:VEVENT
DTSTART;TZID=America/Toronto:20250907T090000
DTEND;TZID=America/Toronto:20250907T120000
DTSTAMP:20260423T075745
CREATED:20250828T132345Z
LAST-MODIFIED:20250828T132418Z
UID:53416-1757235600-1757246400@bethtorah.ca
SUMMARY:Sunday Minyan & Breakfast
DESCRIPTION:Join us every Sunday morning. Begin your week with prayer\, reflection\, and a sense of renewal\, then pull up a chair and enjoy a nourishing breakfast as a community.
URL:https://bethtorah.ca/event/sunday-minyan-breakfast/
CATEGORIES:Featured
ATTACH;FMTTYPE=image/jpeg:https://bethtorah.ca/wp-content/uploads/Sunday-Minyan-Breakfast-2.jpg
END:VEVENT
BEGIN:VEVENT
DTSTART;TZID=America/Toronto:20260427T190000
DTEND;TZID=America/Toronto:20260427T210000
DTSTAMP:20260423T075745
CREATED:20260414T164903Z
LAST-MODIFIED:20260416T134744Z
UID:53836-1777316400-1777323600@bethtorah.ca
SUMMARY:Jewish Community Security Briefing
DESCRIPTION:Join us on Monday\, April 27 @ 7:00 p.m. – Beth Torah will host a Jewish Community Security Briefing with representation from all levels of government and the Jewish Security Network. Space is limited\, and registration is required. Join us for an open discussion on the state of Jewish security in the GTA. We invite you to hear what’s happening behind the scenes and ask questions of our representatives. Questions should be submitted in advance. \nRegister here
URL:https://bethtorah.ca/event/https-www-bethtorahto-ca-form-jewish-community-security-briefing-html/
CATEGORIES:Featured
ATTACH;FMTTYPE=image/jpeg:https://bethtorah.ca/wp-content/uploads/Beth-Torah-Town-Hall-2.jpg
END:VEVENT
BEGIN:VEVENT
DTSTART;TZID=America/Toronto:20250315T093000
DTEND;TZID=America/Toronto:20250315T113000
DTSTAMP:20260423T075745
CREATED:20250312T193613Z
LAST-MODIFIED:20250326T191506Z
UID:52917-1742031000-1742038200@bethtorah.ca
SUMMARY:Shabbat Services
DESCRIPTION:
URL:https://bethtorah.ca/event/shabbat-services/
END:VEVENT
BEGIN:VEVENT
DTSTART;TZID=America/Toronto:20250706T090000
DTEND;TZID=America/Toronto:20250706T100000
DTSTAMP:20260423T075745
CREATED:20250617T135242Z
LAST-MODIFIED:20250617T135242Z
UID:53285-1751792400-1751796000@bethtorah.ca
SUMMARY:No Morning Minyan
DESCRIPTION:
URL:https://bethtorah.ca/event/no-morning-minyan/
END:VEVENT
BEGIN:VEVENT
DTSTART;TZID=America/Toronto:20250907T090000
DTEND;TZID=America/Toronto:20250907T120000
DTSTAMP:20260423T075745
CREATED:20250828T132345Z
LAST-MODIFIED:20250828T132418Z
UID:53416-1757235600-1757246400@bethtorah.ca
SUMMARY:Sunday Minyan & Breakfast
DESCRIPTION:Join us every Sunday morning. Begin your week with prayer\, reflection\, and a sense of renewal\, then pull up a chair and enjoy a nourishing breakfast as a community.
URL:https://bethtorah.ca/event/sunday-minyan-breakfast/
CATEGORIES:Featured
ATTACH;FMTTYPE=image/jpeg:https://bethtorah.ca/wp-content/uploads/Sunday-Minyan-Breakfast-2.jpg
END:VEVENT
BEGIN:VEVENT
DTSTART;TZID=America/Toronto:20260504T193000
DTEND;TZID=America/Toronto:20260504T213000
DTSTAMP:20260423T075745
CREATED:20260416T153541Z
LAST-MODIFIED:20260416T184630Z
UID:53843-1777923000-1777930200@bethtorah.ca
SUMMARY:Calling All Young Professionals
DESCRIPTION:Calling All Young Professionals in their 20’s and 30’s!  \nJoin Rav Jen for a warm and intimate Lag Ba’Omer gathering at her home on Monday\, May 4th. Come celebrate with good company around a cozy bonfire\, plus snacks and beverages to enjoy together.\nFeel free to bring along additional kosher snacks or soft drinks to share! \nWhat is Lag Ba’Omer?\nLag Ba’Omer marks the 33rd day of the Omer—the period of counting from the second night of Pesach to Shavuot. It commemorates the end of a devastating plague among Rabbi Akiva’s students and is celebrated as a joyful day\, often with bonfires\, music\, and outdoor gatherings. \nDetails:\n• Free event\n• Registration required\n• Address will be shared on the day of the event \nBring your friends and come unwind\, and celebrate together where community sparks connection! \nRegister here
URL:https://bethtorah.ca/event/https-www-bethtorahto-ca-form-lag-bomer-yopro-bonfire/
CATEGORIES:Featured
ATTACH;FMTTYPE=image/jpeg:https://bethtorah.ca/wp-content/uploads/Lag-BaOmer.jpg
END:VEVENT
BEGIN:VEVENT
DTSTART;TZID=America/Toronto:20260506T193000
DTEND;TZID=America/Toronto:20260506T210000
DTSTAMP:20260423T075745
CREATED:20260406T170650Z
LAST-MODIFIED:20260406T170650Z
UID:53824-1778095800-1778101200@bethtorah.ca
SUMMARY:Laughter is the Best Medicine
DESCRIPTION:Now more than ever\, we could all use some laughter which is why we are thrilled to welcome Comedian Neil Berger to our synagogue for an evening of humour\, connection\, and community. In challenging times\, laughter has a way of bringing light into the room.\n\nNeil is a stand-up comedian who has been performing for a variety of audiences for over 25 years.  He has performed at numerous retirement and nursing homes and senior citizen centres throughout the GTA.  Neil has performed at Yuk Yuk’s comedy club\, community events\, house parties\, corporate events and was the featured comedian at the stage production of “Broadway Babies” at The Oakville Centre For The Performing Arts.  Neil is a prolific comedy writer who wrote one-liners for Joan Rivers for many years.  Neil is the founder of “The Joker’s Club” in Oakville where he entertains audiences with other comics in the local community on a regular basis.  All his material is clean (no profanity) and is non-offensive.  His comedic style is observational humour\, making fun of life’s everyday moments.  Neil is a wonderful storyteller always leaving his audience filled with much laughter.\n\n \n\nWe hope you will join us for a night to lift our spirits and share in the joy.\nWednesday\, May 6\n7:30pm\nTickets are $36/person\n\n \n\nTo register\, please click here
URL:https://bethtorah.ca/event/https-www-bethtorahto-ca-form-comedy/
CATEGORIES:Featured
ATTACH;FMTTYPE=image/jpeg:https://bethtorah.ca/wp-content/uploads/A-Night-of-Laughter-1.jpg
END:VEVENT
BEGIN:VEVENT
DTSTART;TZID=America/Toronto:20250315T093000
DTEND;TZID=America/Toronto:20250315T113000
DTSTAMP:20260423T075745
CREATED:20250312T193613Z
LAST-MODIFIED:20250326T191506Z
UID:52917-1742031000-1742038200@bethtorah.ca
SUMMARY:Shabbat Services
DESCRIPTION:
URL:https://bethtorah.ca/event/shabbat-services/
END:VEVENT
BEGIN:VEVENT
DTSTART;TZID=America/Toronto:20250706T090000
DTEND;TZID=America/Toronto:20250706T100000
DTSTAMP:20260423T075745
CREATED:20250617T135242Z
LAST-MODIFIED:20250617T135242Z
UID:53285-1751792400-1751796000@bethtorah.ca
SUMMARY:No Morning Minyan
DESCRIPTION:
URL:https://bethtorah.ca/event/no-morning-minyan/
END:VEVENT
BEGIN:VEVENT
DTSTART;TZID=America/Toronto:20250907T090000
DTEND;TZID=America/Toronto:20250907T120000
DTSTAMP:20260423T075745
CREATED:20250828T132345Z
LAST-MODIFIED:20250828T132418Z
UID:53416-1757235600-1757246400@bethtorah.ca
SUMMARY:Sunday Minyan & Breakfast
DESCRIPTION:Join us every Sunday morning. Begin your week with prayer\, reflection\, and a sense of renewal\, then pull up a chair and enjoy a nourishing breakfast as a community.
URL:https://bethtorah.ca/event/sunday-minyan-breakfast/
CATEGORIES:Featured
ATTACH;FMTTYPE=image/jpeg:https://bethtorah.ca/wp-content/uploads/Sunday-Minyan-Breakfast-2.jpg
END:VEVENT
BEGIN:VEVENT
DTSTART;TZID=America/Toronto:20260515T173000
DTEND;TZID=America/Toronto:20260515T183000
DTSTAMP:20260423T075745
CREATED:20260421T135547Z
LAST-MODIFIED:20260421T135548Z
UID:53863-1778866200-1778869800@bethtorah.ca
SUMMARY:TOT SHABBAT
DESCRIPTION:Join Cantor Steve\, Rav Jen\, and special guest\, Emily Kogan – owner and Creative Director of Studio 28 Dance Corp. in Toronto\, for a joyful song-and-dance-filled welcome to Shabbat! \nDesigned for children ages 2–5 (and their siblings\, parents\, and grandparents\, too)\, this lively experience brings the spirit of Shabbat to life through movement\, music\, and connection. \nEmily’s studio is recreationally focused\, with a strong emphasis on body positivity and inclusivity at the heart of all their programming! Through fun\, engaging activities that build gross-motor skills\, their goal is to make every dancer feel like a superstar! \nThe evening will begin with a short\, Shabbat-themed pre-service dance session with Emily\, followed by a warm and engaging service filled with stories\, singing\, and movement. We’ll conclude with blessings over candles\, juice\, and challah — and\, of course\, pizza! \nPlease RSVP to Kim@bethtorah.ca with number of guests who wish to attend by Thursday\, May 14.
URL:https://bethtorah.ca/event/tot-shabbat/
CATEGORIES:Featured
ATTACH;FMTTYPE=image/jpeg:https://bethtorah.ca/wp-content/uploads/Tot-1.jpg
END:VEVENT
BEGIN:VEVENT
DTSTART;TZID=America/Toronto:20250315T093000
DTEND;TZID=America/Toronto:20250315T113000
DTSTAMP:20260423T075745
CREATED:20250312T193613Z
LAST-MODIFIED:20250326T191506Z
UID:52917-1742031000-1742038200@bethtorah.ca
SUMMARY:Shabbat Services
DESCRIPTION:
URL:https://bethtorah.ca/event/shabbat-services/
END:VEVENT
BEGIN:VEVENT
DTSTART;TZID=America/Toronto:20250706T090000
DTEND;TZID=America/Toronto:20250706T100000
DTSTAMP:20260423T075745
CREATED:20250617T135242Z
LAST-MODIFIED:20250617T135242Z
UID:53285-1751792400-1751796000@bethtorah.ca
SUMMARY:No Morning Minyan
DESCRIPTION:
URL:https://bethtorah.ca/event/no-morning-minyan/
END:VEVENT
BEGIN:VEVENT
DTSTART;TZID=America/Toronto:20250907T090000
DTEND;TZID=America/Toronto:20250907T120000
DTSTAMP:20260423T075745
CREATED:20250828T132345Z
LAST-MODIFIED:20250828T132418Z
UID:53416-1757235600-1757246400@bethtorah.ca
SUMMARY:Sunday Minyan & Breakfast
DESCRIPTION:Join us every Sunday morning. Begin your week with prayer\, reflection\, and a sense of renewal\, then pull up a chair and enjoy a nourishing breakfast as a community.
URL:https://bethtorah.ca/event/sunday-minyan-breakfast/
CATEGORIES:Featured
ATTACH;FMTTYPE=image/jpeg:https://bethtorah.ca/wp-content/uploads/Sunday-Minyan-Breakfast-2.jpg
END:VEVENT
BEGIN:VEVENT
DTSTART;TZID=America/Toronto:20250315T093000
DTEND;TZID=America/Toronto:20250315T113000
DTSTAMP:20260423T075745
CREATED:20250312T193613Z
LAST-MODIFIED:20250326T191506Z
UID:52917-1742031000-1742038200@bethtorah.ca
SUMMARY:Shabbat Services
DESCRIPTION:
URL:https://bethtorah.ca/event/shabbat-services/
END:VEVENT
BEGIN:VEVENT
DTSTART;TZID=America/Toronto:20250706T090000
DTEND;TZID=America/Toronto:20250706T100000
DTSTAMP:20260423T075745
CREATED:20250617T135242Z
LAST-MODIFIED:20250617T135242Z
UID:53285-1751792400-1751796000@bethtorah.ca
SUMMARY:No Morning Minyan
DESCRIPTION:
URL:https://bethtorah.ca/event/no-morning-minyan/
END:VEVENT
BEGIN:VEVENT
DTSTART;TZID=America/Toronto:20250907T090000
DTEND;TZID=America/Toronto:20250907T120000
DTSTAMP:20260423T075745
CREATED:20250828T132345Z
LAST-MODIFIED:20250828T132418Z
UID:53416-1757235600-1757246400@bethtorah.ca
SUMMARY:Sunday Minyan & Breakfast
DESCRIPTION:Join us every Sunday morning. Begin your week with prayer\, reflection\, and a sense of renewal\, then pull up a chair and enjoy a nourishing breakfast as a community.
URL:https://bethtorah.ca/event/sunday-minyan-breakfast/
CATEGORIES:Featured
ATTACH;FMTTYPE=image/jpeg:https://bethtorah.ca/wp-content/uploads/Sunday-Minyan-Breakfast-2.jpg
END:VEVENT
BEGIN:VEVENT
DTSTART;TZID=America/Toronto:20260525T090000
DTEND;TZID=America/Toronto:20260525T150000
DTSTAMP:20260423T075745
CREATED:20260113T170829Z
LAST-MODIFIED:20260415T171714Z
UID:53627-1779699600-1779721200@bethtorah.ca
SUMMARY:Second Annual Golf Tournament
DESCRIPTION:Great News: Early Bird Pricing Extended!! \nEarly bird pricing for our 2nd Annual Golf Tournament has been extended to Thursday\, April 30th\, so be sure not to miss out on this great opportunity to PAR-TEE together on the course and play a round of golf with the Beth Torah Community! \nWhether you’re a seasoned golfer or just in it for the fun and community spirit\, we promise it will be a wonderful day of connection\, laughter\, and friendly competition. \nBe sure to register now\, and secure your spot. \nFor further information on tournament packages\, pricing\, to register\, or if you would like to sponsor the event\, please click here or contact kim@bethtorah.ca or sarah@bethtorah.ca. All sponsors and donors will be recognized at the event. \nDate: Monday\, May 25\, 2026 \nLocation: Lebovic Golf Course\, Aurora \nTime: 9 A.M. \nLet’s make this a hole-in-one event for Beth Torah!  \n 
URL:https://bethtorah.ca/event/form-golf2026/
CATEGORIES:Featured
ATTACH;FMTTYPE=image/jpeg:https://bethtorah.ca/wp-content/uploads/hosted-by-5.jpg
END:VEVENT
BEGIN:VEVENT
DTSTART;TZID=America/Toronto:20250315T093000
DTEND;TZID=America/Toronto:20250315T113000
DTSTAMP:20260423T075745
CREATED:20250312T193613Z
LAST-MODIFIED:20250326T191506Z
UID:52917-1742031000-1742038200@bethtorah.ca
SUMMARY:Shabbat Services
DESCRIPTION:
URL:https://bethtorah.ca/event/shabbat-services/
END:VEVENT
BEGIN:VEVENT
DTSTART;TZID=America/Toronto:20250706T090000
DTEND;TZID=America/Toronto:20250706T100000
DTSTAMP:20260423T075745
CREATED:20250617T135242Z
LAST-MODIFIED:20250617T135242Z
UID:53285-1751792400-1751796000@bethtorah.ca
SUMMARY:No Morning Minyan
DESCRIPTION:
URL:https://bethtorah.ca/event/no-morning-minyan/
END:VEVENT
BEGIN:VEVENT
DTSTART;TZID=America/Toronto:20250907T090000
DTEND;TZID=America/Toronto:20250907T120000
DTSTAMP:20260423T075745
CREATED:20250828T132345Z
LAST-MODIFIED:20250828T132418Z
UID:53416-1757235600-1757246400@bethtorah.ca
SUMMARY:Sunday Minyan & Breakfast
DESCRIPTION:Join us every Sunday morning. Begin your week with prayer\, reflection\, and a sense of renewal\, then pull up a chair and enjoy a nourishing breakfast as a community.
URL:https://bethtorah.ca/event/sunday-minyan-breakfast/
CATEGORIES:Featured
ATTACH;FMTTYPE=image/jpeg:https://bethtorah.ca/wp-content/uploads/Sunday-Minyan-Breakfast-2.jpg
END:VEVENT
BEGIN:VEVENT
DTSTART;TZID=America/Toronto:20250315T093000
DTEND;TZID=America/Toronto:20250315T113000
DTSTAMP:20260423T075745
CREATED:20250312T193613Z
LAST-MODIFIED:20250326T191506Z
UID:52917-1742031000-1742038200@bethtorah.ca
SUMMARY:Shabbat Services
DESCRIPTION:
URL:https://bethtorah.ca/event/shabbat-services/
END:VEVENT
BEGIN:VEVENT
DTSTART;TZID=America/Toronto:20250706T090000
DTEND;TZID=America/Toronto:20250706T100000
DTSTAMP:20260423T075745
CREATED:20250617T135242Z
LAST-MODIFIED:20250617T135242Z
UID:53285-1751792400-1751796000@bethtorah.ca
SUMMARY:No Morning Minyan
DESCRIPTION:
URL:https://bethtorah.ca/event/no-morning-minyan/
END:VEVENT
BEGIN:VEVENT
DTSTART;TZID=America/Toronto:20250907T090000
DTEND;TZID=America/Toronto:20250907T120000
DTSTAMP:20260423T075745
CREATED:20250828T132345Z
LAST-MODIFIED:20250828T132418Z
UID:53416-1757235600-1757246400@bethtorah.ca
SUMMARY:Sunday Minyan & Breakfast
DESCRIPTION:Join us every Sunday morning. Begin your week with prayer\, reflection\, and a sense of renewal\, then pull up a chair and enjoy a nourishing breakfast as a community.
URL:https://bethtorah.ca/event/sunday-minyan-breakfast/
CATEGORIES:Featured
ATTACH;FMTTYPE=image/jpeg:https://bethtorah.ca/wp-content/uploads/Sunday-Minyan-Breakfast-2.jpg
END:VEVENT
BEGIN:VEVENT
DTSTART;TZID=America/Toronto:20250315T093000
DTEND;TZID=America/Toronto:20250315T113000
DTSTAMP:20260423T075745
CREATED:20250312T193613Z
LAST-MODIFIED:20250326T191506Z
UID:52917-1742031000-1742038200@bethtorah.ca
SUMMARY:Shabbat Services
DESCRIPTION:
URL:https://bethtorah.ca/event/shabbat-services/
END:VEVENT
BEGIN:VEVENT
DTSTART;TZID=America/Toronto:20250706T090000
DTEND;TZID=America/Toronto:20250706T100000
DTSTAMP:20260423T075745
CREATED:20250617T135242Z
LAST-MODIFIED:20250617T135242Z
UID:53285-1751792400-1751796000@bethtorah.ca
SUMMARY:No Morning Minyan
DESCRIPTION:
URL:https://bethtorah.ca/event/no-morning-minyan/
END:VEVENT
BEGIN:VEVENT
DTSTART;TZID=America/Toronto:20250907T090000
DTEND;TZID=America/Toronto:20250907T120000
DTSTAMP:20260423T075745
CREATED:20250828T132345Z
LAST-MODIFIED:20250828T132418Z
UID:53416-1757235600-1757246400@bethtorah.ca
SUMMARY:Sunday Minyan & Breakfast
DESCRIPTION:Join us every Sunday morning. Begin your week with prayer\, reflection\, and a sense of renewal\, then pull up a chair and enjoy a nourishing breakfast as a community.
URL:https://bethtorah.ca/event/sunday-minyan-breakfast/
CATEGORIES:Featured
ATTACH;FMTTYPE=image/jpeg:https://bethtorah.ca/wp-content/uploads/Sunday-Minyan-Breakfast-2.jpg
END:VEVENT
BEGIN:VEVENT
DTSTART;TZID=America/Toronto:20250315T093000
DTEND;TZID=America/Toronto:20250315T113000
DTSTAMP:20260423T075745
CREATED:20250312T193613Z
LAST-MODIFIED:20250326T191506Z
UID:52917-1742031000-1742038200@bethtorah.ca
SUMMARY:Shabbat Services
DESCRIPTION:
URL:https://bethtorah.ca/event/shabbat-services/
END:VEVENT
END:VCALENDAR