BEGIN:VCALENDAR
VERSION:2.0
PRODID:-//Beth Torah Congregation - ECPv6.15.20//NONSGML v1.0//EN
CALSCALE:GREGORIAN
METHOD:PUBLISH
X-WR-CALNAME:Beth Torah Congregation
X-ORIGINAL-URL:https://bethtorah.ca
X-WR-CALDESC:Events for Beth Torah Congregation
REFRESH-INTERVAL;VALUE=DURATION:PT1H
X-Robots-Tag:noindex
X-PUBLISHED-TTL:PT1H
BEGIN:VTIMEZONE
TZID:America/Toronto
BEGIN:DAYLIGHT
TZOFFSETFROM:-0500
TZOFFSETTO:-0400
TZNAME:EDT
DTSTART:20230312T070000
END:DAYLIGHT
BEGIN:STANDARD
TZOFFSETFROM:-0400
TZOFFSETTO:-0500
TZNAME:EST
DTSTART:20231105T060000
END:STANDARD
BEGIN:DAYLIGHT
TZOFFSETFROM:-0500
TZOFFSETTO:-0400
TZNAME:EDT
DTSTART:20240310T070000
END:DAYLIGHT
BEGIN:STANDARD
TZOFFSETFROM:-0400
TZOFFSETTO:-0500
TZNAME:EST
DTSTART:20241103T060000
END:STANDARD
BEGIN:DAYLIGHT
TZOFFSETFROM:-0500
TZOFFSETTO:-0400
TZNAME:EDT
DTSTART:20250309T070000
END:DAYLIGHT
BEGIN:STANDARD
TZOFFSETFROM:-0400
TZOFFSETTO:-0500
TZNAME:EST
DTSTART:20251102T060000
END:STANDARD
END:VTIMEZONE
BEGIN:VEVENT
DTSTART;TZID=America/Toronto:20241026T080000
DTEND;TZID=America/Toronto:20241117T170000
DTSTAMP:20260423T213108
CREATED:20241028T183809Z
LAST-MODIFIED:20241030T153050Z
UID:52623-1729929600-1731862800@bethtorah.ca
SUMMARY:Playing Shylock
DESCRIPTION:THE CANADIAN STAGE THEATRE INVITES THE JEWISH COMMUNITY TO THE WORLD PREMIERE OF ‘PLAYING SHYLOCK.’\nSaul Rubinek’s triumphant return to the stage!\nPlaying at the Berkeley Street Theatre from October 26th – November 17th\, 2024. \nA production of The Merchant of Venice is cancelled mid-performance after public outcries about the play. The actor playing Shylock\, Saul Rubinek\, delivers a candid and passionate appeal about identity\, public discourse\, and the theatre. \n“At a time when we are re-assessing our relationship to many classical texts\, this play offers a nuanced exploration of the role of art in society\,” says Canadian Stage Artistic Director Brendan Healy. \nCanadian Stage invites the Jewish community to use discount ticket code CHAI\, for $99 A+ tickets and $79 A tickets.\nHere is the direct link for the promo.
URL:https://bethtorah.ca/event/playing-shylock/
ATTACH;FMTTYPE=image/webp:https://bethtorah.ca/wp-content/uploads/Playing-Shylock.webp
END:VEVENT
BEGIN:VEVENT
DTSTART;TZID=America/Toronto:20241114T193000
DTEND;TZID=America/Toronto:20241114T210000
DTSTAMP:20260423T213108
CREATED:20241028T184313Z
LAST-MODIFIED:20241029T154903Z
UID:52626-1731612600-1731618000@bethtorah.ca
SUMMARY:Holocaust Education Speaker - Willie Handler
DESCRIPTION:Willie will share about his family history\, how his parents survived the Holocaust\, and how they reestablished their lives. He will discuss his experience growing up with holocaust survivor parents and will unpack his own trauma. As well he will discuss the rise of antisemitism and Holocaust denial in the wake of October 7th.
URL:https://bethtorah.ca/event/holocaust-education-speaker-willie-handler/
ATTACH;FMTTYPE=image/jpeg:https://bethtorah.ca/wp-content/uploads/91V-wxbEkdL._SY450_CR170450450_.jpg
END:VEVENT
END:VCALENDAR