BEGIN:VCALENDAR
VERSION:2.0
PRODID:-//Beth Torah Congregation - ECPv6.15.20//NONSGML v1.0//EN
CALSCALE:GREGORIAN
METHOD:PUBLISH
X-WR-CALNAME:Beth Torah Congregation
X-ORIGINAL-URL:https://bethtorah.ca
X-WR-CALDESC:Events for Beth Torah Congregation
REFRESH-INTERVAL;VALUE=DURATION:PT1H
X-Robots-Tag:noindex
X-PUBLISHED-TTL:PT1H
BEGIN:VTIMEZONE
TZID:America/Toronto
BEGIN:DAYLIGHT
TZOFFSETFROM:-0500
TZOFFSETTO:-0400
TZNAME:EDT
DTSTART:20230312T070000
END:DAYLIGHT
BEGIN:STANDARD
TZOFFSETFROM:-0400
TZOFFSETTO:-0500
TZNAME:EST
DTSTART:20231105T060000
END:STANDARD
BEGIN:DAYLIGHT
TZOFFSETFROM:-0500
TZOFFSETTO:-0400
TZNAME:EDT
DTSTART:20240310T070000
END:DAYLIGHT
BEGIN:STANDARD
TZOFFSETFROM:-0400
TZOFFSETTO:-0500
TZNAME:EST
DTSTART:20241103T060000
END:STANDARD
BEGIN:DAYLIGHT
TZOFFSETFROM:-0500
TZOFFSETTO:-0400
TZNAME:EDT
DTSTART:20250309T070000
END:DAYLIGHT
BEGIN:STANDARD
TZOFFSETFROM:-0400
TZOFFSETTO:-0500
TZNAME:EST
DTSTART:20251102T060000
END:STANDARD
END:VTIMEZONE
BEGIN:VEVENT
DTSTART;TZID=America/Toronto:20241002T183800
DTEND;TZID=America/Toronto:20241026T185900
DTSTAMP:20260423T230649
CREATED:20240829T161431Z
LAST-MODIFIED:20241011T165003Z
UID:52485-1727894280-1729969140@bethtorah.ca
SUMMARY:High Holy Day Schedule
DESCRIPTION:High Holy Day Children’s Programming Schedule  \nRosh Hashanah: Thursday\, October 3rd & Friday\, October 4th. \nYom Kippur: Saturday\, October 12th. \nTot room (0-4 years old) opens @ 9:00am (supervised by parents of tots). \nFamily Services @ 10:00 am.  \nChildren’s program (4-10 years old) @ 10:45 am (drop off anytime after 9:00am). \n  \nHigh Holy Days’ Schedule \nEREV ROSH HASHANAH: WEDNESDAY\, OCTOBER 2\, 2024 \n6:38 pm Candle lighting \nROSH HASHANAH DAY 1: THURSDAY\, OCTOBER 3\, 2024 \n8:00 am Pre-Shul Kiddush (Tent)  \n8:15 am Shacharit (Morning service – Sanctuary)  \n7:36 pm Candle lighting \nROSH HASHANAH DAY 2: FRIDAY OCTOBER 4\, 2024 \n8:00 am Pre-Shul Kiddush (Tent)  \n8:15 am Shacharit (Morning service – Sanctuary) \nEREV SHABBAT SHUVAH: FRIDAY\, OCTOBER 4\, 2024 \n6:34 pm Candle lighting \nSHABBAT SHUVAH: SATURDAY\, OCTOBER 5\, 2024 \n9:30 am Morning service  \n7:33 pm Havdalah \nFAST OF GEDALIAH: SUNDAY\, OCTOBER 6\, 2024 \n5:52 am Fast begins  \n7:18 pm Fast ends \nEREV YOM KIPPUR/KOL NIDRE: FRIDAY\, OCTOBER 11\, 2024 \n6:00 pm Cellist & Harpist Performance  \n6:30 pm Kol Nidre  \n6:22 pm Candle lighting \nYOM KIPPUR: SATURDAY\, OCTOBER 12\, 2024 \n8:15 am Morning service  \n11:00 am Yizkor  \n5:00 pm Mincha service  \n5:30 pm Ne’ila service  \n7:21 pm Havdalah & Fast ends \nEREV SUKKOT: WEDNESDAY\, OCTOBER 16\, 2024  \n6:13 pm Candle lighting \nSUKKOT DAY 1: THURSDAY\, OCTOBER 17\, 2024 \n9:15 am Pre-Shul Kiddush (Sukkah)  \n9:30 am Morning service  \n7:13 pm Candle lighting \nSUKKOT DAY 2: FRIDAY\, OCTOBER 18\, 2024 \n9:15 am Pre-Shul Kiddush (Sukkah)  \n9:30 am Morning service \nSUKKOT DAY 3: SATURDAY\, OCTOBER 19\, 2024 \n9:30 am Morning service  \n7:10 pm Havdalah \nEREV SHEMINI ATZERET: WEDNESDAY\, OCTOBER 23\, 2024 \n6:02 pm Candle lighting \nSHEMINI ATZERET: THURSDAY\, OCTOBER 24\, 2024  \n9:30 am Morning service including Yizkor \nEREV SIMCHAT TORAH: THURSDAY\, OCTOBER 24\, 2024 \n6:00 pm Simchat Torah Service and Celebration  \n7:02 pm Candle lighting \nSIMCHAT TORAH: FRIDAY\, OCTOBER 25\, 2024 \n9:30 am Morning Service  \n5:59 pm Candle lighting \nSHABBAT MEV ARCHIM CHODESH CHESHVAN: SUNDAY\, OCTOBER 26\, 2024 \n9:30 am Morning Service  \n6:59 pm Havdalah \n 
URL:https://bethtorah.ca/event/high-holy-day-schedules/
LOCATION:47 Glenbrook Avenue\, 47 Glenbrook Avenue\, Toronto\, Ontario\, M6B 2L7\, Canada
ATTACH;FMTTYPE=image/jpeg:https://bethtorah.ca/wp-content/uploads/HH-Programs-Banner.jpg
END:VEVENT
BEGIN:VEVENT
DTSTART;TZID=America/Toronto:20241011T180000
DTEND;TZID=America/Toronto:20241011T182000
DTSTAMP:20260423T230649
CREATED:20240919T161306Z
LAST-MODIFIED:20241008T194631Z
UID:52539-1728669600-1728670800@bethtorah.ca
SUMMARY:Kol Nidre Cellist
DESCRIPTION:For this year’s Kol Nidre service\, we are thrilled to announce that Roberta Jenzen\, an esteemed cellist with the Toronto Symphony Orchestra\, will be performing Kol Nidre. \nThis performance has been graciously sponsored by Ilena\, Mark\, Michael & Matthew Borinsky. \nFor more information about Roberta Jenzen click here. \n6:00 pm Cellist\n6:30 pm Kol Nidre Service begins
URL:https://bethtorah.ca/event/kol-nidre-cellist-announcement-2/
ATTACH;FMTTYPE=image/jpeg:https://bethtorah.ca/wp-content/uploads/download.jpg
END:VEVENT
BEGIN:VEVENT
DTSTART;TZID=America/Toronto:20241011T180000
DTEND;TZID=America/Toronto:20241011T182000
DTSTAMP:20260423T230649
CREATED:20240920T151016Z
LAST-MODIFIED:20241008T194716Z
UID:52545-1728669600-1728670800@bethtorah.ca
SUMMARY:Kol Nidre Harpist
DESCRIPTION:For this year’s Kol Nidre service\, we are thrilled to announce that Lori Gemmell\, a harpist with the Kitchener-Waterloo Symphony\, who plays regularly with the Toronto Symphony will be performing Kol Nidre. \nThis performance has been graciously sponsored by Ilena\, Mark\, Michael & Matthew Borinsky. \nFor more information about Lori Gemmel click here. \n6:00 pm Harpist\n6:30 pm Kol Nidre Service begins
URL:https://bethtorah.ca/event/kol-nidre-harpist-announcement/
ATTACH;FMTTYPE=image/jpeg:https://bethtorah.ca/wp-content/uploads/lori_gemmell_1-618x800-1.jpg
END:VEVENT
END:VCALENDAR