BEGIN:VCALENDAR
VERSION:2.0
PRODID:-//Beth Torah Congregation - ECPv6.15.20//NONSGML v1.0//EN
CALSCALE:GREGORIAN
METHOD:PUBLISH
X-ORIGINAL-URL:https://bethtorah.ca
X-WR-CALDESC:Events for Beth Torah Congregation
REFRESH-INTERVAL;VALUE=DURATION:PT1H
X-Robots-Tag:noindex
X-PUBLISHED-TTL:PT1H
BEGIN:VTIMEZONE
TZID:America/Toronto
BEGIN:DAYLIGHT
TZOFFSETFROM:-0500
TZOFFSETTO:-0400
TZNAME:EDT
DTSTART:20230312T070000
END:DAYLIGHT
BEGIN:STANDARD
TZOFFSETFROM:-0400
TZOFFSETTO:-0500
TZNAME:EST
DTSTART:20231105T060000
END:STANDARD
BEGIN:DAYLIGHT
TZOFFSETFROM:-0500
TZOFFSETTO:-0400
TZNAME:EDT
DTSTART:20240310T070000
END:DAYLIGHT
BEGIN:STANDARD
TZOFFSETFROM:-0400
TZOFFSETTO:-0500
TZNAME:EST
DTSTART:20241103T060000
END:STANDARD
BEGIN:DAYLIGHT
TZOFFSETFROM:-0500
TZOFFSETTO:-0400
TZNAME:EDT
DTSTART:20250309T070000
END:DAYLIGHT
BEGIN:STANDARD
TZOFFSETFROM:-0400
TZOFFSETTO:-0500
TZNAME:EST
DTSTART:20251102T060000
END:STANDARD
END:VTIMEZONE
BEGIN:VEVENT
DTSTART;TZID=America/Toronto:20240911T090000
DTEND;TZID=America/Toronto:20240916T200000
DTSTAMP:20260424T004248
CREATED:20240906T141743Z
LAST-MODIFIED:20240912T183859Z
UID:52505-1726045200-1726516800@bethtorah.ca
SUMMARY:High Holy Day Ticket Pickup
DESCRIPTION:High Holy Day tickets are ready for pick up!\nPlease feel free to drop by during office hours (Monday – Thursday 9am – 4pm) (Friday 9am – 1pm). Alternatively please see the extended hours above. \nAll tickets ordered after September 18th\, must be picked up from the office\, during office hours.
URL:https://bethtorah.ca/event/high-holy-day-ticket-pickup/
ATTACH;FMTTYPE=image/png:https://bethtorah.ca/wp-content/uploads/HH-Ticket-Pickup-Ad-2024-8.5-x-5.5-in.png
END:VEVENT
END:VCALENDAR