BEGIN:VCALENDAR
VERSION:2.0
PRODID:-//Beth Torah Congregation - ECPv6.15.20//NONSGML v1.0//EN
CALSCALE:GREGORIAN
METHOD:PUBLISH
X-ORIGINAL-URL:https://bethtorah.ca
X-WR-CALDESC:Events for Beth Torah Congregation
REFRESH-INTERVAL;VALUE=DURATION:PT1H
X-Robots-Tag:noindex
X-PUBLISHED-TTL:PT1H
BEGIN:VTIMEZONE
TZID:America/Toronto
BEGIN:DAYLIGHT
TZOFFSETFROM:-0500
TZOFFSETTO:-0400
TZNAME:EDT
DTSTART:20230312T070000
END:DAYLIGHT
BEGIN:STANDARD
TZOFFSETFROM:-0400
TZOFFSETTO:-0500
TZNAME:EST
DTSTART:20231105T060000
END:STANDARD
BEGIN:DAYLIGHT
TZOFFSETFROM:-0500
TZOFFSETTO:-0400
TZNAME:EDT
DTSTART:20240310T070000
END:DAYLIGHT
BEGIN:STANDARD
TZOFFSETFROM:-0400
TZOFFSETTO:-0500
TZNAME:EST
DTSTART:20241103T060000
END:STANDARD
BEGIN:DAYLIGHT
TZOFFSETFROM:-0500
TZOFFSETTO:-0400
TZNAME:EDT
DTSTART:20250309T070000
END:DAYLIGHT
BEGIN:STANDARD
TZOFFSETFROM:-0400
TZOFFSETTO:-0500
TZNAME:EST
DTSTART:20251102T060000
END:STANDARD
END:VTIMEZONE
BEGIN:VEVENT
DTSTART;TZID=America/Toronto:20240610T100000
DTEND;TZID=America/Toronto:20240610T120000
DTSTAMP:20260424T050013
CREATED:20240529T213802Z
LAST-MODIFIED:20240529T213802Z
UID:52238-1718013600-1718020800@bethtorah.ca
SUMMARY:The Survivor Torah Project
DESCRIPTION:Before escaping during the Holocaust\, a Rabbi in a small Polish village gave the community’s Torah to his neighbour\, a shepherd\, for safekeeping. The Torah was hidden for more than 75 years until it was discovered and restored by From the Depths. This Torah is now in Toronto\, where it is being rewritten with participation from Holocaust survivors. \nWe would like to extend a warm invitation to Holocaust Survivors and families from Beth Torah Congregation and the community to participate in The Survivor Torah Project\, a collaboration between Beth Torah Congregation and From the Depths Foundation. \nPlease feel free to share this invitation with any survivors you may know\, as it would be our honour to have them take part in this special project. To learn more and bring the Torah to your community please visit www.survivortorah.org \nTo RSVP for this event please contact Sharlene Wilder sharlenehwilder@gmail.com
URL:https://bethtorah.ca/event/the-survivor-torah-project/
LOCATION:47 Glenbrook Avenue\, 47 Glenbrook Avenue\, Toronto\, Ontario\, M6B 2L7\, Canada
ATTACH;FMTTYPE=image/jpeg:https://bethtorah.ca/wp-content/uploads/image0.jpeg
END:VEVENT
BEGIN:VEVENT
DTSTART;TZID=America/Toronto:20240610T193000
DTEND;TZID=America/Toronto:20240610T210000
DTSTAMP:20260424T050013
CREATED:20240530T195655Z
LAST-MODIFIED:20240530T195655Z
UID:52241-1718047800-1718053200@bethtorah.ca
SUMMARY:Jonny Daniels - Israel\, behind the scenes in Toronto!
DESCRIPTION:Jonny Daniels – Israel\, behind the scenes in Toronto!\nMonday\, June 10 | 7:30 p.m. \n\n\n\n\n\nJoin us for a special evening in Toronto\, where we will have a closer look at the war in Israel and the rise of antisemitism worldwide with former IDF Staff Sergeant\, Former Chief of Staff in the Knesset and Founder of From The Depths Foundation Jonny Daniels. \nDessert reception generously sponsored by Steve & Donna Goldenberg \n\n\n\n\nRegister
URL:https://bethtorah.ca/event/jonny-daniels-israel-behind-the-scenes-in-toronto/
ATTACH;FMTTYPE=image/jpeg:https://bethtorah.ca/wp-content/uploads/20770cbc-9a5b-843f-5d58-94a6ca8d7a2d.jpg
END:VEVENT
END:VCALENDAR