BEGIN:VCALENDAR
VERSION:2.0
PRODID:-//Beth Torah Congregation - ECPv6.15.20//NONSGML v1.0//EN
CALSCALE:GREGORIAN
METHOD:PUBLISH
X-WR-CALNAME:Beth Torah Congregation
X-ORIGINAL-URL:https://bethtorah.ca
X-WR-CALDESC:Events for Beth Torah Congregation
REFRESH-INTERVAL;VALUE=DURATION:PT1H
X-Robots-Tag:noindex
X-PUBLISHED-TTL:PT1H
BEGIN:VTIMEZONE
TZID:America/Toronto
BEGIN:DAYLIGHT
TZOFFSETFROM:-0500
TZOFFSETTO:-0400
TZNAME:EDT
DTSTART:20230312T070000
END:DAYLIGHT
BEGIN:STANDARD
TZOFFSETFROM:-0400
TZOFFSETTO:-0500
TZNAME:EST
DTSTART:20231105T060000
END:STANDARD
BEGIN:DAYLIGHT
TZOFFSETFROM:-0500
TZOFFSETTO:-0400
TZNAME:EDT
DTSTART:20240310T070000
END:DAYLIGHT
BEGIN:STANDARD
TZOFFSETFROM:-0400
TZOFFSETTO:-0500
TZNAME:EST
DTSTART:20241103T060000
END:STANDARD
BEGIN:DAYLIGHT
TZOFFSETFROM:-0500
TZOFFSETTO:-0400
TZNAME:EDT
DTSTART:20250309T070000
END:DAYLIGHT
BEGIN:STANDARD
TZOFFSETFROM:-0400
TZOFFSETTO:-0500
TZNAME:EST
DTSTART:20251102T060000
END:STANDARD
END:VTIMEZONE
BEGIN:VEVENT
DTSTART;TZID=America/Toronto:20240609T090000
DTEND;TZID=America/Toronto:20240609T143000
DTSTAMP:20260424T050015
CREATED:20240516T221900Z
LAST-MODIFIED:20240516T221900Z
UID:52204-1717923600-1717943400@bethtorah.ca
SUMMARY:UJA Walk with Israel 2024
DESCRIPTION:UJA Walk with Israel 2024\nSunday\, June 9 | 9:00 a.m. – Location TBA \nJoin thousands of Jews and allies and feel the strength of our entire united community as we walk in support Israel. Whether you walk every year or have never walked before\, you need to be there this year. \nWhen registering make sure to join the Beth Torah Congregation team. \n 
URL:https://bethtorah.ca/event/uja-walk-with-israel-2024/
ATTACH;FMTTYPE=image/jpeg:https://bethtorah.ca/wp-content/uploads/WALK24_JT-Homepage-Desktop.jpg
END:VEVENT
END:VCALENDAR