BEGIN:VCALENDAR
VERSION:2.0
PRODID:-//Beth Torah Congregation - ECPv6.15.20//NONSGML v1.0//EN
CALSCALE:GREGORIAN
METHOD:PUBLISH
X-WR-CALNAME:Beth Torah Congregation
X-ORIGINAL-URL:https://bethtorah.ca
X-WR-CALDESC:Events for Beth Torah Congregation
REFRESH-INTERVAL;VALUE=DURATION:PT1H
X-Robots-Tag:noindex
X-PUBLISHED-TTL:PT1H
BEGIN:VTIMEZONE
TZID:America/Toronto
BEGIN:DAYLIGHT
TZOFFSETFROM:-0500
TZOFFSETTO:-0400
TZNAME:EDT
DTSTART:20230312T070000
END:DAYLIGHT
BEGIN:STANDARD
TZOFFSETFROM:-0400
TZOFFSETTO:-0500
TZNAME:EST
DTSTART:20231105T060000
END:STANDARD
BEGIN:DAYLIGHT
TZOFFSETFROM:-0500
TZOFFSETTO:-0400
TZNAME:EDT
DTSTART:20240310T070000
END:DAYLIGHT
BEGIN:STANDARD
TZOFFSETFROM:-0400
TZOFFSETTO:-0500
TZNAME:EST
DTSTART:20241103T060000
END:STANDARD
BEGIN:DAYLIGHT
TZOFFSETFROM:-0500
TZOFFSETTO:-0400
TZNAME:EDT
DTSTART:20250309T070000
END:DAYLIGHT
BEGIN:STANDARD
TZOFFSETFROM:-0400
TZOFFSETTO:-0500
TZNAME:EST
DTSTART:20251102T060000
END:STANDARD
END:VTIMEZONE
BEGIN:VEVENT
DTSTART;TZID=America/Toronto:20240505T130000
DTEND;TZID=America/Toronto:20240505T143000
DTSTAMP:20260424T064107
CREATED:20240501T175328Z
LAST-MODIFIED:20240501T182039Z
UID:52186-1714914000-1714919400@bethtorah.ca
SUMMARY:Rally to Stand with Students
DESCRIPTION:On May 5\, Canadian Women Against Antisemitism (CWAA) will host a rally in support of students across Canada. No doubt\, looking around the world today\, you have noticed that university campuses are hotspots for flaring tensions around Israel and Gaza and eruptions of antisemitism. \nAs temperatures rise\, and campus occupations in support of Gaza\, it has become increasingly important for the Jewish community to support students who feel pressured\, attacked\, and targeted by their faculty and fellow students. \nIt is important to show up and support the next generation of our Jewish community\, especially those courageous young people who will put themselves at risk by telling us about their lived experiences on university campuses\, here in Canada\, today. \nOur allies at Hillel of Ontario are working with CWAA to make sure that this rally is safe\, productive\, and reflects the breadth of experiences across Canadian campuses. \nThe location of the rally will be announced closer to the date. \nRegistration is required to receive further information. \nRegister
URL:https://bethtorah.ca/event/rally-to-stand-with-students/
ATTACH;FMTTYPE=image/jpeg:https://bethtorah.ca/wp-content/uploads/438254495_122137360730205622_2823838028774529864_n-copy.jpg
END:VEVENT
END:VCALENDAR