BEGIN:VCALENDAR
VERSION:2.0
PRODID:-//Beth Torah Congregation - ECPv6.15.20//NONSGML v1.0//EN
CALSCALE:GREGORIAN
METHOD:PUBLISH
X-ORIGINAL-URL:https://bethtorah.ca
X-WR-CALDESC:Events for Beth Torah Congregation
REFRESH-INTERVAL;VALUE=DURATION:PT1H
X-Robots-Tag:noindex
X-PUBLISHED-TTL:PT1H
BEGIN:VTIMEZONE
TZID:America/Toronto
BEGIN:DAYLIGHT
TZOFFSETFROM:-0500
TZOFFSETTO:-0400
TZNAME:EDT
DTSTART:20230312T070000
END:DAYLIGHT
BEGIN:STANDARD
TZOFFSETFROM:-0400
TZOFFSETTO:-0500
TZNAME:EST
DTSTART:20231105T060000
END:STANDARD
BEGIN:DAYLIGHT
TZOFFSETFROM:-0500
TZOFFSETTO:-0400
TZNAME:EDT
DTSTART:20240310T070000
END:DAYLIGHT
BEGIN:STANDARD
TZOFFSETFROM:-0400
TZOFFSETTO:-0500
TZNAME:EST
DTSTART:20241103T060000
END:STANDARD
BEGIN:DAYLIGHT
TZOFFSETFROM:-0500
TZOFFSETTO:-0400
TZNAME:EDT
DTSTART:20250309T070000
END:DAYLIGHT
BEGIN:STANDARD
TZOFFSETFROM:-0400
TZOFFSETTO:-0500
TZNAME:EST
DTSTART:20251102T060000
END:STANDARD
END:VTIMEZONE
BEGIN:VEVENT
DTSTART;TZID=America/Toronto:20240228T183000
DTEND;TZID=America/Toronto:20240228T203000
DTSTAMP:20260424T094732
CREATED:20240131T194830Z
LAST-MODIFIED:20240131T194830Z
UID:52050-1709145000-1709152200@bethtorah.ca
SUMMARY:Intershul Film Series Presents: SHTTL
DESCRIPTION:Toronto Inter-Shul Film Festival Presents: SHTTL (2023) at Beth Torah\nWednesday\, February 28th @ 6:30 p.m. \nThe communities of Beth David\, Beth Tikvah\, Adath Israel\, and Beth Torah are proud to present the 2024 Inter-Shul Film Series. \nFor members of any of our four partner communities\, tickets will be only $5.00 per individual and $10.00 for non-member individuals. These tickets will include access to the film plus hot / soft drinks. Popcorn will be avaiable for additional purchase. \nPlease reach out to Garrett at program@bethtorah.ca with any questions regarding the series! \nABOUT SHTTL: \nA filmmaker returns from Kyiv to his rural village to marry the love of his life. He is expected to marry the Rabbi’s daughter\, which disrupts the balance of the whole town. In one unflinching shot\, this film presents a day in the life of a Jewish village before it disappears. SHTTL is the story of the inhabitants of a Yiddish Ukrainian village at the border of Poland\, 24 hours before the Nazi invasion\, known as Operation Barbarossa. Today\, there are no such villages in existence; the production fully reconstructed a traditional ‘Shtetl’ outside of Kyiv\, which is planned to be turned into a museum. \nIMPORTANT NOTE: This film is in Yiddish with English Subtitles \nGet Your Tickets Here
URL:https://bethtorah.ca/event/intershul-film-series-presents-shttl/
LOCATION:47 Glenbrook Avenue\, 47 Glenbrook Avenue\, Toronto\, Ontario\, M6B 2L7\, Canada
ATTACH;FMTTYPE=image/jpeg:https://bethtorah.ca/wp-content/uploads/Intershul-Film-Series-16-x-9-in-1.jpg
END:VEVENT
END:VCALENDAR