BEGIN:VCALENDAR
VERSION:2.0
PRODID:-//Beth Torah Congregation - ECPv6.15.20//NONSGML v1.0//EN
CALSCALE:GREGORIAN
METHOD:PUBLISH
X-ORIGINAL-URL:https://bethtorah.ca
X-WR-CALDESC:Events for Beth Torah Congregation
REFRESH-INTERVAL;VALUE=DURATION:PT1H
X-Robots-Tag:noindex
X-PUBLISHED-TTL:PT1H
BEGIN:VTIMEZONE
TZID:America/Toronto
BEGIN:DAYLIGHT
TZOFFSETFROM:-0500
TZOFFSETTO:-0400
TZNAME:EDT
DTSTART:20230312T070000
END:DAYLIGHT
BEGIN:STANDARD
TZOFFSETFROM:-0400
TZOFFSETTO:-0500
TZNAME:EST
DTSTART:20231105T060000
END:STANDARD
BEGIN:DAYLIGHT
TZOFFSETFROM:-0500
TZOFFSETTO:-0400
TZNAME:EDT
DTSTART:20240310T070000
END:DAYLIGHT
BEGIN:STANDARD
TZOFFSETFROM:-0400
TZOFFSETTO:-0500
TZNAME:EST
DTSTART:20241103T060000
END:STANDARD
BEGIN:DAYLIGHT
TZOFFSETFROM:-0500
TZOFFSETTO:-0400
TZNAME:EDT
DTSTART:20250309T070000
END:DAYLIGHT
BEGIN:STANDARD
TZOFFSETFROM:-0400
TZOFFSETTO:-0500
TZNAME:EST
DTSTART:20251102T060000
END:STANDARD
END:VTIMEZONE
BEGIN:VEVENT
DTSTART;TZID=America/Toronto:20240130T193000
DTEND;TZID=America/Toronto:20240130T210000
DTSTAMP:20260424T112157
CREATED:20231228T202049Z
LAST-MODIFIED:20231228T202049Z
UID:52006-1706643000-1706648400@bethtorah.ca
SUMMARY:Young Adult's Trivia Pub Night @ The Maddy
DESCRIPTION:We’re back at the Madison Avenue Pub at 14 Madison Ave! January 30th at 7:30 pm. \nCome on down to the pub with Beth Torah\, grab yourself a pint\, and get ready for some fun Jewish trivia with lots of prizes! \nRegister Here
URL:https://bethtorah.ca/event/young-adults-trivia-pub-night-the-maddy/
LOCATION:Madison Avenue Pub\, 14 Madison Ave\, Toronto\, Ontario\, Canada
ATTACH;FMTTYPE=image/jpeg:https://bethtorah.ca/wp-content/uploads/Jewish-Trivia-Pub-Night-November-14th-8.5-x-11-in-Presentation.jpg
END:VEVENT
END:VCALENDAR