BEGIN:VCALENDAR
VERSION:2.0
PRODID:-//Beth Torah Congregation - ECPv6.15.20//NONSGML v1.0//EN
CALSCALE:GREGORIAN
METHOD:PUBLISH
X-ORIGINAL-URL:https://bethtorah.ca
X-WR-CALDESC:Events for Beth Torah Congregation
REFRESH-INTERVAL;VALUE=DURATION:PT1H
X-Robots-Tag:noindex
X-PUBLISHED-TTL:PT1H
BEGIN:VTIMEZONE
TZID:America/Toronto
BEGIN:DAYLIGHT
TZOFFSETFROM:-0500
TZOFFSETTO:-0400
TZNAME:EDT
DTSTART:20230312T070000
END:DAYLIGHT
BEGIN:STANDARD
TZOFFSETFROM:-0400
TZOFFSETTO:-0500
TZNAME:EST
DTSTART:20231105T060000
END:STANDARD
BEGIN:DAYLIGHT
TZOFFSETFROM:-0500
TZOFFSETTO:-0400
TZNAME:EDT
DTSTART:20240310T070000
END:DAYLIGHT
BEGIN:STANDARD
TZOFFSETFROM:-0400
TZOFFSETTO:-0500
TZNAME:EST
DTSTART:20241103T060000
END:STANDARD
BEGIN:DAYLIGHT
TZOFFSETFROM:-0500
TZOFFSETTO:-0400
TZNAME:EDT
DTSTART:20250309T070000
END:DAYLIGHT
BEGIN:STANDARD
TZOFFSETFROM:-0400
TZOFFSETTO:-0500
TZNAME:EST
DTSTART:20251102T060000
END:STANDARD
END:VTIMEZONE
BEGIN:VEVENT
DTSTART;TZID=America/Toronto:20240113T180000
DTEND;TZID=America/Toronto:20240113T200000
DTSTAMP:20260424T130230
CREATED:20231206T182409Z
LAST-MODIFIED:20231206T182409Z
UID:51969-1705168800-1705176000@bethtorah.ca
SUMMARY:Family Havdalah and Ice Skating
DESCRIPTION:Family Havdalah and Ice Skating \nSaturday\, January 13th @ 6:00 p.m.  \nThat’s right\, winter is fast approaching… but no need to worry\, it’s skating season! Join Beth Torah at Cedarvale Park on January 13th for a fun family Havdalah and ice skating night with hot chocolate and other snacks! \nRegistration is totally free and we hope to see you there! \nRegister Here
URL:https://bethtorah.ca/event/family-havdalah-and-ice-skating/
LOCATION:Cedarvale Park
ATTACH;FMTTYPE=image/jpeg:https://bethtorah.ca/wp-content/uploads/Havdalah-Ice-Skating-16-x-9-in.jpg
END:VEVENT
END:VCALENDAR