BEGIN:VCALENDAR
VERSION:2.0
PRODID:-//Beth Torah Congregation - ECPv6.15.20//NONSGML v1.0//EN
CALSCALE:GREGORIAN
METHOD:PUBLISH
X-WR-CALNAME:Beth Torah Congregation
X-ORIGINAL-URL:https://bethtorah.ca
X-WR-CALDESC:Events for Beth Torah Congregation
REFRESH-INTERVAL;VALUE=DURATION:PT1H
X-Robots-Tag:noindex
X-PUBLISHED-TTL:PT1H
BEGIN:VTIMEZONE
TZID:America/Toronto
BEGIN:DAYLIGHT
TZOFFSETFROM:-0500
TZOFFSETTO:-0400
TZNAME:EDT
DTSTART:20220313T070000
END:DAYLIGHT
BEGIN:STANDARD
TZOFFSETFROM:-0400
TZOFFSETTO:-0500
TZNAME:EST
DTSTART:20221106T060000
END:STANDARD
BEGIN:DAYLIGHT
TZOFFSETFROM:-0500
TZOFFSETTO:-0400
TZNAME:EDT
DTSTART:20230312T070000
END:DAYLIGHT
BEGIN:STANDARD
TZOFFSETFROM:-0400
TZOFFSETTO:-0500
TZNAME:EST
DTSTART:20231105T060000
END:STANDARD
BEGIN:DAYLIGHT
TZOFFSETFROM:-0500
TZOFFSETTO:-0400
TZNAME:EDT
DTSTART:20240310T070000
END:DAYLIGHT
BEGIN:STANDARD
TZOFFSETFROM:-0400
TZOFFSETTO:-0500
TZNAME:EST
DTSTART:20241103T060000
END:STANDARD
END:VTIMEZONE
BEGIN:VEVENT
DTSTART;TZID=America/Toronto:20231210T100000
DTEND;TZID=America/Toronto:20231210T120000
DTSTAMP:20260424T154720
CREATED:20231124T201912Z
LAST-MODIFIED:20231206T172028Z
UID:51950-1702202400-1702209600@bethtorah.ca
SUMMARY:Pickleball at Beth Torah
DESCRIPTION:Pickleball has arrived. We have dates before 2024 that requires: \n1) Committed sign-up: meaning non refundable fee of $20. In the event you can not come you may substitute a player of an equal playing level for the purpose of maintaining an adequate number of players per court. Non members are welcome at 25$ for the 2 hours. \n2) Bring your energy and enthusiasm \, and a paddle if you are intermediate or advanced. Beginners will be supplied with a learning paddle during games and instruction. Balls will be supplied for all levels \nDates: \n\n\nSunday\, December 10th\, 10:30 a.m. to 12:30 p.m. (Hannukah Lunch After Pickleball.) \n\n\nMonday\, December 11th\, 10:00 a.m. to 12:00 p.m. \n\n\nEvening dates will become available in the new year with a different location that is pending approval. \nAs per previous e-mail…players will be grouped according to level and assigned a court with 15 minute rotations for 2 hours. Beginners will receive instructions on the game and practice. \nWaivers need to be signed before playing\, they will be sent to your email following this form being filled out. \nThank you and looking forward to many pickling days!\nPlace: Address:  LaLiga Sports Complex 1107 Finch Ave W\, North York\, ON M3J 2P7 \nRegister Here
URL:https://bethtorah.ca/event/pickleball-at-beth-torah/
ATTACH;FMTTYPE=image/jpeg:https://bethtorah.ca/wp-content/uploads/Pickleball-at-Beth-Torah-16-x-9-in-1.jpg
END:VEVENT
END:VCALENDAR