BEGIN:VCALENDAR
VERSION:2.0
PRODID:-//Beth Torah Congregation - ECPv6.15.20//NONSGML v1.0//EN
CALSCALE:GREGORIAN
METHOD:PUBLISH
X-ORIGINAL-URL:https://bethtorah.ca
X-WR-CALDESC:Events for Beth Torah Congregation
REFRESH-INTERVAL;VALUE=DURATION:PT1H
X-Robots-Tag:noindex
X-PUBLISHED-TTL:PT1H
BEGIN:VTIMEZONE
TZID:America/Toronto
BEGIN:DAYLIGHT
TZOFFSETFROM:-0500
TZOFFSETTO:-0400
TZNAME:EDT
DTSTART:20220313T070000
END:DAYLIGHT
BEGIN:STANDARD
TZOFFSETFROM:-0400
TZOFFSETTO:-0500
TZNAME:EST
DTSTART:20221106T060000
END:STANDARD
BEGIN:DAYLIGHT
TZOFFSETFROM:-0500
TZOFFSETTO:-0400
TZNAME:EDT
DTSTART:20230312T070000
END:DAYLIGHT
BEGIN:STANDARD
TZOFFSETFROM:-0400
TZOFFSETTO:-0500
TZNAME:EST
DTSTART:20231105T060000
END:STANDARD
BEGIN:DAYLIGHT
TZOFFSETFROM:-0500
TZOFFSETTO:-0400
TZNAME:EDT
DTSTART:20240310T070000
END:DAYLIGHT
BEGIN:STANDARD
TZOFFSETFROM:-0400
TZOFFSETTO:-0500
TZNAME:EST
DTSTART:20241103T060000
END:STANDARD
END:VTIMEZONE
BEGIN:VEVENT
DTSTART;TZID=America/Toronto:20231202T171500
DTEND;TZID=America/Toronto:20231202T213000
DTSTAMP:20260424T142336
CREATED:20231117T172257Z
LAST-MODIFIED:20231117T172643Z
UID:51932-1701537300-1701552600@bethtorah.ca
SUMMARY:Beth Torah's Night of Light Hanukkah Festival
DESCRIPTION:Beth Torah’s Night of Light Hanukkah Festival \nSaturday\, December 2nd – Doors Open at 5:15 p.m. \nJoin Beth Torah on December 2nd for a fun-filled Hanukkah celebration\, starting with a BYO (Bring Your Own) Community Menorah Lighting and Havdalah\, and featuring live entertainment\, games and inflatables\, tots entertainment\, tons of delicious food\, and MORE! \nBeth Torah’s 2023 Hanukkah celebration is about bringing us together for a light filled evening after two months of darkness. It’s a time to allow ourselves a joyful experience while keeping the entirety of our people close to our hearts. We hope to see you all there. \nRegister Here
URL:https://bethtorah.ca/event/beth-torahs-night-of-light-hanukkah-festiva/
LOCATION:47 Glenbrook Avenue\, 47 Glenbrook Avenue\, Toronto\, Ontario\, M6B 2L7\, Canada
ATTACH;FMTTYPE=image/jpeg:https://bethtorah.ca/wp-content/uploads/Hanukkah-Flyer-2023-16-x-9-in-7.jpg
END:VEVENT
END:VCALENDAR