BEGIN:VCALENDAR
VERSION:2.0
PRODID:-//Beth Torah Congregation - ECPv6.15.20//NONSGML v1.0//EN
CALSCALE:GREGORIAN
METHOD:PUBLISH
X-ORIGINAL-URL:https://bethtorah.ca
X-WR-CALDESC:Events for Beth Torah Congregation
REFRESH-INTERVAL;VALUE=DURATION:PT1H
X-Robots-Tag:noindex
X-PUBLISHED-TTL:PT1H
BEGIN:VTIMEZONE
TZID:America/Toronto
BEGIN:DAYLIGHT
TZOFFSETFROM:-0500
TZOFFSETTO:-0400
TZNAME:EDT
DTSTART:20220313T070000
END:DAYLIGHT
BEGIN:STANDARD
TZOFFSETFROM:-0400
TZOFFSETTO:-0500
TZNAME:EST
DTSTART:20221106T060000
END:STANDARD
BEGIN:DAYLIGHT
TZOFFSETFROM:-0500
TZOFFSETTO:-0400
TZNAME:EDT
DTSTART:20230312T070000
END:DAYLIGHT
BEGIN:STANDARD
TZOFFSETFROM:-0400
TZOFFSETTO:-0500
TZNAME:EST
DTSTART:20231105T060000
END:STANDARD
BEGIN:DAYLIGHT
TZOFFSETFROM:-0500
TZOFFSETTO:-0400
TZNAME:EDT
DTSTART:20240310T070000
END:DAYLIGHT
BEGIN:STANDARD
TZOFFSETFROM:-0400
TZOFFSETTO:-0500
TZNAME:EST
DTSTART:20241103T060000
END:STANDARD
END:VTIMEZONE
BEGIN:VEVENT
DTSTART;TZID=America/Toronto:20231014T200000
DTEND;TZID=America/Toronto:20231014T220000
DTSTAMP:20260424T170453
CREATED:20231012T163940Z
LAST-MODIFIED:20231012T163940Z
UID:51877-1697313600-1697320800@bethtorah.ca
SUMMARY:Havdalah for Israel
DESCRIPTION:Havdalah for Israel \nSaturday\, October 14th at 8:00 p.m. @ Adath Israel \nCome together in solidarity for Havdalah\, songs\, and prayers of comfort. \nThis program is free and donations towards UJA’s Emergency Appeal for Israel are encouraged. No Registration Required. \nEveryone is invited and encouraged to come. \nIf you are unable to attend\, click here for the livestream link. 
URL:https://bethtorah.ca/event/havdalah-for-israel/
ATTACH;FMTTYPE=image/jpeg:https://bethtorah.ca/wp-content/uploads/Havdalah-for-Israel-Flyer-16-x-9-in.jpg
END:VEVENT
END:VCALENDAR