BEGIN:VCALENDAR
VERSION:2.0
PRODID:-//Beth Torah Congregation - ECPv6.15.20//NONSGML v1.0//EN
CALSCALE:GREGORIAN
METHOD:PUBLISH
X-WR-CALNAME:Beth Torah Congregation
X-ORIGINAL-URL:https://bethtorah.ca
X-WR-CALDESC:Events for Beth Torah Congregation
REFRESH-INTERVAL;VALUE=DURATION:PT1H
X-Robots-Tag:noindex
X-PUBLISHED-TTL:PT1H
BEGIN:VTIMEZONE
TZID:America/Toronto
BEGIN:DAYLIGHT
TZOFFSETFROM:-0500
TZOFFSETTO:-0400
TZNAME:EDT
DTSTART:20220313T070000
END:DAYLIGHT
BEGIN:STANDARD
TZOFFSETFROM:-0400
TZOFFSETTO:-0500
TZNAME:EST
DTSTART:20221106T060000
END:STANDARD
BEGIN:DAYLIGHT
TZOFFSETFROM:-0500
TZOFFSETTO:-0400
TZNAME:EDT
DTSTART:20230312T070000
END:DAYLIGHT
BEGIN:STANDARD
TZOFFSETFROM:-0400
TZOFFSETTO:-0500
TZNAME:EST
DTSTART:20231105T060000
END:STANDARD
BEGIN:DAYLIGHT
TZOFFSETFROM:-0500
TZOFFSETTO:-0400
TZNAME:EDT
DTSTART:20240310T070000
END:DAYLIGHT
BEGIN:STANDARD
TZOFFSETFROM:-0400
TZOFFSETTO:-0500
TZNAME:EST
DTSTART:20241103T060000
END:STANDARD
END:VTIMEZONE
BEGIN:VEVENT
DTSTART;TZID=America/Toronto:20231007T173000
DTEND;TZID=America/Toronto:20231007T200000
DTSTAMP:20260424T170350
CREATED:20230928T192058Z
LAST-MODIFIED:20230928T192058Z
UID:51852-1696699800-1696708800@bethtorah.ca
SUMMARY:Tots Torah Celebration
DESCRIPTION:Tots Torah Celebration\nSaturday\, October 7th\, 5:30 p.m. \nJoin Rabbi Sachs for a special Tots Torah celebration with songs\, stories\, and snacks! \nPlease register in advance! \nRegister Here
URL:https://bethtorah.ca/event/tots-torah-celebration/
LOCATION:47 Glenbrook Avenue\, 47 Glenbrook Avenue\, Toronto\, Ontario\, M6B 2L7\, Canada
ATTACH;FMTTYPE=image/jpeg:https://bethtorah.ca/wp-content/uploads/2-1.jpg
END:VEVENT
BEGIN:VEVENT
DTSTART;TZID=America/Toronto:20231007T180000
DTEND;TZID=America/Toronto:20231007T210000
DTSTAMP:20260424T170350
CREATED:20231003T192355Z
LAST-MODIFIED:20231003T192404Z
UID:51859-1696701600-1696712400@bethtorah.ca
SUMMARY:Simchat Torah Celebration 2023
DESCRIPTION:Saturday\, October 7th\, 6:00 p.m. \nSimchat Torah Celebration \nThe entire Beth Torah Community is invited for a super fun night of a service\, dancing\, and a pizza party in celebration of Simchat Torah! \nNo registration required! Everyone is welcome!
URL:https://bethtorah.ca/event/simchat-torah-2023/
LOCATION:47 Glenbrook Avenue\, 47 Glenbrook Avenue\, Toronto\, Ontario\, M6B 2L7\, Canada
ATTACH;FMTTYPE=image/jpeg:https://bethtorah.ca/wp-content/uploads/1-3.jpg
END:VEVENT
END:VCALENDAR