BEGIN:VCALENDAR
VERSION:2.0
PRODID:-//Beth Torah Congregation - ECPv6.15.20//NONSGML v1.0//EN
CALSCALE:GREGORIAN
METHOD:PUBLISH
X-ORIGINAL-URL:https://bethtorah.ca
X-WR-CALDESC:Events for Beth Torah Congregation
REFRESH-INTERVAL;VALUE=DURATION:PT1H
X-Robots-Tag:noindex
X-PUBLISHED-TTL:PT1H
BEGIN:VTIMEZONE
TZID:America/Toronto
BEGIN:DAYLIGHT
TZOFFSETFROM:-0500
TZOFFSETTO:-0400
TZNAME:EDT
DTSTART:20220313T070000
END:DAYLIGHT
BEGIN:STANDARD
TZOFFSETFROM:-0400
TZOFFSETTO:-0500
TZNAME:EST
DTSTART:20221106T060000
END:STANDARD
BEGIN:DAYLIGHT
TZOFFSETFROM:-0500
TZOFFSETTO:-0400
TZNAME:EDT
DTSTART:20230312T070000
END:DAYLIGHT
BEGIN:STANDARD
TZOFFSETFROM:-0400
TZOFFSETTO:-0500
TZNAME:EST
DTSTART:20231105T060000
END:STANDARD
BEGIN:DAYLIGHT
TZOFFSETFROM:-0500
TZOFFSETTO:-0400
TZNAME:EDT
DTSTART:20240310T070000
END:DAYLIGHT
BEGIN:STANDARD
TZOFFSETFROM:-0400
TZOFFSETTO:-0500
TZNAME:EST
DTSTART:20241103T060000
END:STANDARD
END:VTIMEZONE
BEGIN:VEVENT
DTSTART;TZID=America/Toronto:20231001T180000
DTEND;TZID=America/Toronto:20231001T210000
DTSTAMP:20260424T170437
CREATED:20230905T160103Z
LAST-MODIFIED:20230907T175709Z
UID:51811-1696183200-1696194000@bethtorah.ca
SUMMARY:Sushi in the Sukkah
DESCRIPTION:Sushi in the Sukkah\nSunday October 1st @ 6:00 pm \nThank you for your interest in Sushi in the Sukkah! This program is intended for Young Adults in their 20s and 30s. \nWe will have alcoholic and non-alcoholic drinks\, as well as a Sushi making (and eating!) session led by a professional Sushi Chef. \nTickets are $15.00 for members and $20.00 for non-members\, and include one drink ticket. \nRegister Here
URL:https://bethtorah.ca/event/sushi-in-the-sukkah/
LOCATION:47 Glenbrook Avenue\, 47 Glenbrook Avenue\, Toronto\, Ontario\, M6B 2L7\, Canada
ATTACH;FMTTYPE=image/jpeg:https://bethtorah.ca/wp-content/uploads/Sushi-in-the-Sukkah-16-×-9-in-1.jpg
END:VEVENT
END:VCALENDAR