BEGIN:VCALENDAR
VERSION:2.0
PRODID:-//Beth Torah Congregation - ECPv6.15.20//NONSGML v1.0//EN
CALSCALE:GREGORIAN
METHOD:PUBLISH
X-ORIGINAL-URL:https://bethtorah.ca
X-WR-CALDESC:Events for Beth Torah Congregation
REFRESH-INTERVAL;VALUE=DURATION:PT1H
X-Robots-Tag:noindex
X-PUBLISHED-TTL:PT1H
BEGIN:VTIMEZONE
TZID:America/Toronto
BEGIN:DAYLIGHT
TZOFFSETFROM:-0500
TZOFFSETTO:-0400
TZNAME:EDT
DTSTART:20220313T070000
END:DAYLIGHT
BEGIN:STANDARD
TZOFFSETFROM:-0400
TZOFFSETTO:-0500
TZNAME:EST
DTSTART:20221106T060000
END:STANDARD
BEGIN:DAYLIGHT
TZOFFSETFROM:-0500
TZOFFSETTO:-0400
TZNAME:EDT
DTSTART:20230312T070000
END:DAYLIGHT
BEGIN:STANDARD
TZOFFSETFROM:-0400
TZOFFSETTO:-0500
TZNAME:EST
DTSTART:20231105T060000
END:STANDARD
BEGIN:DAYLIGHT
TZOFFSETFROM:-0500
TZOFFSETTO:-0400
TZNAME:EDT
DTSTART:20240310T070000
END:DAYLIGHT
BEGIN:STANDARD
TZOFFSETFROM:-0400
TZOFFSETTO:-0500
TZNAME:EST
DTSTART:20241103T060000
END:STANDARD
END:VTIMEZONE
BEGIN:VEVENT
DTSTART;TZID=America/Toronto:20230909T223000
DTEND;TZID=America/Toronto:20230909T233000
DTSTAMP:20260424T181637
CREATED:20230825T153617Z
LAST-MODIFIED:20230906T233642Z
UID:51777-1694298600-1694302200@bethtorah.ca
SUMMARY:Seliẖot Evening Service  IN-PERSON and Livestreamed
DESCRIPTION:Join Beth Tzedec for an inspiring musical Seliẖot service focusing on the theme of Va’ani T’filati. Featuring Cantor Sidney Ezer\, Cantor David Edwards\, and Cantor Jeremy Burko\, accompanied on piano by Asher Farber\, with insightful readings and kavanot by Rabbi Steven Wernick and Rabbi Louis Sachs. A dessert reception follows. Then at midnight\, the Gates open! \nThis program will be offered for both in-person and online participation. There is no charge but pre-registration is required. \nRegister Here
URL:https://bethtorah.ca/event/seli%e1%ba%96ot-evening-service-in-person-and-livetreamed/
LOCATION:Beth Tzedec Congregation\, 1700 Bathurst St\, Toronto\, Ontario\, M5P 3K3
ATTACH;FMTTYPE=image/jpeg:https://bethtorah.ca/wp-content/uploads/VAni-Tefilati.jpg
END:VEVENT
END:VCALENDAR