BEGIN:VCALENDAR
VERSION:2.0
PRODID:-//Beth Torah Congregation - ECPv6.15.20//NONSGML v1.0//EN
CALSCALE:GREGORIAN
METHOD:PUBLISH
X-WR-CALNAME:Beth Torah Congregation
X-ORIGINAL-URL:https://bethtorah.ca
X-WR-CALDESC:Events for Beth Torah Congregation
REFRESH-INTERVAL;VALUE=DURATION:PT1H
X-Robots-Tag:noindex
X-PUBLISHED-TTL:PT1H
BEGIN:VTIMEZONE
TZID:America/Toronto
BEGIN:DAYLIGHT
TZOFFSETFROM:-0500
TZOFFSETTO:-0400
TZNAME:EDT
DTSTART:20220313T070000
END:DAYLIGHT
BEGIN:STANDARD
TZOFFSETFROM:-0400
TZOFFSETTO:-0500
TZNAME:EST
DTSTART:20221106T060000
END:STANDARD
BEGIN:DAYLIGHT
TZOFFSETFROM:-0500
TZOFFSETTO:-0400
TZNAME:EDT
DTSTART:20230312T070000
END:DAYLIGHT
BEGIN:STANDARD
TZOFFSETFROM:-0400
TZOFFSETTO:-0500
TZNAME:EST
DTSTART:20231105T060000
END:STANDARD
BEGIN:DAYLIGHT
TZOFFSETFROM:-0500
TZOFFSETTO:-0400
TZNAME:EDT
DTSTART:20240310T070000
END:DAYLIGHT
BEGIN:STANDARD
TZOFFSETFROM:-0400
TZOFFSETTO:-0500
TZNAME:EST
DTSTART:20241103T060000
END:STANDARD
END:VTIMEZONE
BEGIN:VEVENT
DTSTART;TZID=America/Toronto:20230822T190000
DTEND;TZID=America/Toronto:20230822T220000
DTSTAMP:20260424T194634
CREATED:20230726T174336Z
LAST-MODIFIED:20230726T174336Z
UID:51694-1692730800-1692741600@bethtorah.ca
SUMMARY:IVOW Dinner 2023
DESCRIPTION:Tuesday\, August 22nd\, 7:00 p.m.\n\nThe 2023 IVOW Dinner \nBeth Torah is so excited to announce that we will once again be hosting the wonderful IVOW Organization for an end-of-the-summer dinner. Last year’s event was a fantastic time for everyone involved\, and we cannot wait to do it again! \nThis year’s dinner will be catered by Levy’s and feature Magen Boys as entertainment. \nIVOW Association was founded in 1984 to support Bar and Bat Mitzvah age children of families in Israel who have been affected by war\, military service or terrorism. \nPlease let Raquel know (director@bethtorah.ca) if you have any Bnei Mitzvah Swag as prizes to donate. \nPlease fill out the form below to confirm your attendance. Dinner is free but we are encouraging donations to help subsidize the costs. There are limited tickets. \nPlease reach out to Raquel at director@bethtorah.ca if you are interested in volunteering for the evening.\n\nRegister Here
URL:https://bethtorah.ca/event/ivow-dinner-2023/
LOCATION:47 Glenbrook Avenue\, 47 Glenbrook Avenue\, Toronto\, Ontario\, M6B 2L7\, Canada
ATTACH;FMTTYPE=image/jpeg:https://bethtorah.ca/wp-content/uploads/IVOW-Dinner-Flyer-16-×-9-in-2.jpg
END:VEVENT
END:VCALENDAR