BEGIN:VCALENDAR
VERSION:2.0
PRODID:-//Beth Torah Congregation - ECPv6.15.20//NONSGML v1.0//EN
CALSCALE:GREGORIAN
METHOD:PUBLISH
X-ORIGINAL-URL:https://bethtorah.ca
X-WR-CALDESC:Events for Beth Torah Congregation
REFRESH-INTERVAL;VALUE=DURATION:PT1H
X-Robots-Tag:noindex
X-PUBLISHED-TTL:PT1H
BEGIN:VTIMEZONE
TZID:America/Toronto
BEGIN:DAYLIGHT
TZOFFSETFROM:-0500
TZOFFSETTO:-0400
TZNAME:EDT
DTSTART:20220313T070000
END:DAYLIGHT
BEGIN:STANDARD
TZOFFSETFROM:-0400
TZOFFSETTO:-0500
TZNAME:EST
DTSTART:20221106T060000
END:STANDARD
BEGIN:DAYLIGHT
TZOFFSETFROM:-0500
TZOFFSETTO:-0400
TZNAME:EDT
DTSTART:20230312T070000
END:DAYLIGHT
BEGIN:STANDARD
TZOFFSETFROM:-0400
TZOFFSETTO:-0500
TZNAME:EST
DTSTART:20231105T060000
END:STANDARD
BEGIN:DAYLIGHT
TZOFFSETFROM:-0500
TZOFFSETTO:-0400
TZNAME:EDT
DTSTART:20240310T070000
END:DAYLIGHT
BEGIN:STANDARD
TZOFFSETFROM:-0400
TZOFFSETTO:-0500
TZNAME:EST
DTSTART:20241103T060000
END:STANDARD
END:VTIMEZONE
BEGIN:VEVENT
DTSTART;TZID=America/Toronto:20230517T193000
DTEND;TZID=America/Toronto:20230517T210000
DTSTAMP:20260424T235022
CREATED:20230515T140435Z
LAST-MODIFIED:20230515T140520Z
UID:51519-1684351800-1684357200@bethtorah.ca
SUMMARY:2023 Inter-Shul Film Series Presents - Radiant Girl
DESCRIPTION:The communities of Beth Torah\, David\, Beth Tikvah\, and Adath Israel are proud to present the 2023 Inter-Shul Film Series! Starting in May\, each Shul will be hosting a screening of a series of exciting newly released Jewish films.  From documentaries to dramas to comedies\, there will be something for everyone to experience and enjoy! \nFor members of any of our four partner communities\, tickets will be only $5.00 per individual and $10.00 for non-member individuals. These tickets will include access to the film plus refreshments! (Popcorn\, Pop\, Coffee & Tea\, and more!) \nKicking off the series\, Beth David will be hosting a screening of A Radiant Girl at 7:30 pm. on May 17th \nTickets / More Info
URL:https://bethtorah.ca/event/2023-inter-shul-film-series-presents-radiant-girl/
LOCATION:Beth David\, 55 Yeomans Rd\, North York\,\, Ontario\, M3H 3J7North York\,\, Canada
ATTACH;FMTTYPE=image/jpeg:https://bethtorah.ca/wp-content/uploads/A-Radiant-Girl-2021-1.jpg
END:VEVENT
END:VCALENDAR