BEGIN:VCALENDAR
VERSION:2.0
PRODID:-//Beth Torah Congregation - ECPv6.15.20//NONSGML v1.0//EN
CALSCALE:GREGORIAN
METHOD:PUBLISH
X-ORIGINAL-URL:https://bethtorah.ca
X-WR-CALDESC:Events for Beth Torah Congregation
REFRESH-INTERVAL;VALUE=DURATION:PT1H
X-Robots-Tag:noindex
X-PUBLISHED-TTL:PT1H
BEGIN:VTIMEZONE
TZID:America/Toronto
BEGIN:DAYLIGHT
TZOFFSETFROM:-0500
TZOFFSETTO:-0400
TZNAME:EDT
DTSTART:20220313T070000
END:DAYLIGHT
BEGIN:STANDARD
TZOFFSETFROM:-0400
TZOFFSETTO:-0500
TZNAME:EST
DTSTART:20221106T060000
END:STANDARD
BEGIN:DAYLIGHT
TZOFFSETFROM:-0500
TZOFFSETTO:-0400
TZNAME:EDT
DTSTART:20230312T070000
END:DAYLIGHT
BEGIN:STANDARD
TZOFFSETFROM:-0400
TZOFFSETTO:-0500
TZNAME:EST
DTSTART:20231105T060000
END:STANDARD
BEGIN:DAYLIGHT
TZOFFSETFROM:-0500
TZOFFSETTO:-0400
TZNAME:EDT
DTSTART:20240310T070000
END:DAYLIGHT
BEGIN:STANDARD
TZOFFSETFROM:-0400
TZOFFSETTO:-0500
TZNAME:EST
DTSTART:20241103T060000
END:STANDARD
END:VTIMEZONE
BEGIN:VEVENT
DTSTART;TZID=America/Toronto:20230506T100000
DTEND;TZID=America/Toronto:20230506T120000
DTSTAMP:20260424T235548
CREATED:20230425T145552Z
LAST-MODIFIED:20230425T145552Z
UID:51440-1683367200-1683374400@bethtorah.ca
SUMMARY:Beth Torah's Camp Shabbat
DESCRIPTION:Calling all Beth Torah / Community kids! 🎉 Are you ready for some Shabbat fun? \nOn May 6th from 10:00 to 12:00\, Beth Torah will be running more fun Shabbat morning programming! \nKids ages 5-10 are welcome to join us for a morning of tefillah\, learning\, and tons of exciting activities! \nThis will be a drop off program. Parents are welcome to bring their children and enjoy their Shabbat morning however they choose to do so! \nParents\, please fill out the form below if you are planning to drop off your child to the program. \nNon-members are more than welcome! \nRegister for Drop-Off
URL:https://bethtorah.ca/event/beth-torahs-camp-shabbat/
LOCATION:47 Glenbrook Avenue\, Toronto\, Ontario\, M6B 2L7\, Canada
ATTACH;FMTTYPE=image/jpeg:https://bethtorah.ca/wp-content/uploads/Camp-Shabbat-May-6th-Flyer-16-×-9-in-8.5-×-5.5-in.jpg
END:VEVENT
END:VCALENDAR