BEGIN:VCALENDAR
VERSION:2.0
PRODID:-//Beth Torah Congregation - ECPv6.15.20//NONSGML v1.0//EN
CALSCALE:GREGORIAN
METHOD:PUBLISH
X-ORIGINAL-URL:https://bethtorah.ca
X-WR-CALDESC:Events for Beth Torah Congregation
REFRESH-INTERVAL;VALUE=DURATION:PT1H
X-Robots-Tag:noindex
X-PUBLISHED-TTL:PT1H
BEGIN:VTIMEZONE
TZID:America/Toronto
BEGIN:DAYLIGHT
TZOFFSETFROM:-0500
TZOFFSETTO:-0400
TZNAME:EDT
DTSTART:20220313T070000
END:DAYLIGHT
BEGIN:STANDARD
TZOFFSETFROM:-0400
TZOFFSETTO:-0500
TZNAME:EST
DTSTART:20221106T060000
END:STANDARD
BEGIN:DAYLIGHT
TZOFFSETFROM:-0500
TZOFFSETTO:-0400
TZNAME:EDT
DTSTART:20230312T070000
END:DAYLIGHT
BEGIN:STANDARD
TZOFFSETFROM:-0400
TZOFFSETTO:-0500
TZNAME:EST
DTSTART:20231105T060000
END:STANDARD
BEGIN:DAYLIGHT
TZOFFSETFROM:-0500
TZOFFSETTO:-0400
TZNAME:EDT
DTSTART:20240310T070000
END:DAYLIGHT
BEGIN:STANDARD
TZOFFSETFROM:-0400
TZOFFSETTO:-0500
TZNAME:EST
DTSTART:20241103T060000
END:STANDARD
END:VTIMEZONE
BEGIN:VEVENT
DTSTART;TZID=America/Toronto:20230504T190000
DTEND;TZID=America/Toronto:20230504T200000
DTSTAMP:20260424T235549
CREATED:20230414T152355Z
LAST-MODIFIED:20230414T152420Z
UID:51410-1683226800-1683230400@bethtorah.ca
SUMMARY:Aging with Grace: A Three Part Series
DESCRIPTION:Aging with Grace – A Three Part Series \nApr 27\, 2023 @ 7pm Community services and outreach with HCCSS (formerly LHIN) and Chartwell Retirement Home \nMay 4\, 2023 @ 7pm Wellness including nutrition & movement with Shana Daniel (Wellnessity) and Angela Sajeba (RMT) \nMay 11\, 2023 @ 7pm Making Difficult Choices A Little Less Painful: A Jewish Approach to Advance Care Planning\, MAID\, and Other End of Life Decisions with Rabbi Louis J. Sachs \nIn person at Beth Torah \nIf you have any questions\, please email Raquel at director@bethtorah.ca or Joanne at admin@bethtorah.ca
URL:https://bethtorah.ca/event/aging-with-grace/
LOCATION:47 Glenbrook Avenue\, 47 Glenbrook Avenue\, Toronto\, Ontario\, M6B 2L7\, Canada
ATTACH;FMTTYPE=image/jpeg:https://bethtorah.ca/wp-content/uploads/Aging-with-Grace-Series-1.jpg
END:VEVENT
END:VCALENDAR