BEGIN:VCALENDAR
VERSION:2.0
PRODID:-//Beth Torah Congregation - ECPv6.15.20//NONSGML v1.0//EN
CALSCALE:GREGORIAN
METHOD:PUBLISH
X-ORIGINAL-URL:https://bethtorah.ca
X-WR-CALDESC:Events for Beth Torah Congregation
REFRESH-INTERVAL;VALUE=DURATION:PT1H
X-Robots-Tag:noindex
X-PUBLISHED-TTL:PT1H
BEGIN:VTIMEZONE
TZID:America/Toronto
BEGIN:DAYLIGHT
TZOFFSETFROM:-0500
TZOFFSETTO:-0400
TZNAME:EDT
DTSTART:20210314T070000
END:DAYLIGHT
BEGIN:STANDARD
TZOFFSETFROM:-0400
TZOFFSETTO:-0500
TZNAME:EST
DTSTART:20211107T060000
END:STANDARD
BEGIN:DAYLIGHT
TZOFFSETFROM:-0500
TZOFFSETTO:-0400
TZNAME:EDT
DTSTART:20220313T070000
END:DAYLIGHT
BEGIN:STANDARD
TZOFFSETFROM:-0400
TZOFFSETTO:-0500
TZNAME:EST
DTSTART:20221106T060000
END:STANDARD
BEGIN:DAYLIGHT
TZOFFSETFROM:-0500
TZOFFSETTO:-0400
TZNAME:EDT
DTSTART:20230312T070000
END:DAYLIGHT
BEGIN:STANDARD
TZOFFSETFROM:-0400
TZOFFSETTO:-0500
TZNAME:EST
DTSTART:20231105T060000
END:STANDARD
END:VTIMEZONE
BEGIN:VEVENT
DTSTART;TZID=America/Toronto:20221217T180000
DTEND;TZID=America/Toronto:20221217T180000
DTSTAMP:20260425T062922
CREATED:20221026T194335Z
LAST-MODIFIED:20221206T160406Z
UID:50957-1671300000-1671300000@bethtorah.ca
SUMMARY:Shine Bright: Hanukkah Celebration
DESCRIPTION:Shine Bright: Hanukkah Celebration\nThis Hanukkah Season\, get ready to Shine Bright at Beth Torah! \nBeth Torah is so excited to welcome YOU for our Hanukkah festival You can look forward to: \n\nHavdalah\nMenorah Lighting\nHanukkah Bazaar\nInflatable for All Ages\nArcade Style Games\nLatkes\, Doughnuts\, Cookies\, Pop\, and More!\nLive Entertainment!\nYoung Kid’s Play Zone\nYoung Adult LLBO Area\n\nTickets Prices:Members Over 12: $10.00Members Under 12: FREENon-Members Over 12: $18.00Non-Members Under 12: $10.00  \n \n			\n				Register\n			\n				\n				\n				\n				\n				We are still building our list of vendors for our Hanukkah Bazaar. We have some exciting businesses signed up already\, but if you are anyone you know may be interested in participating\, reach out to Garrett at program@bethtorah.ca. \nIf any teens are looking for volunteer hours and are interested in helping out during the event\, you can also reach out to Garrett at program@bethtorah.ca. \n 
URL:https://bethtorah.ca/event/save-the-date-hannukah/
LOCATION:47 Glenbrook Avenue\, 47 Glenbrook Avenue\, Toronto\, Ontario\, M6B 2L7\, Canada
ATTACH;FMTTYPE=image/jpeg:https://bethtorah.ca/wp-content/uploads/aed0a890-e9e7-106d-1d7b-77b8d1e31c4d.jpg
END:VEVENT
END:VCALENDAR