BEGIN:VCALENDAR
VERSION:2.0
PRODID:-//Beth Torah Congregation - ECPv6.15.20//NONSGML v1.0//EN
CALSCALE:GREGORIAN
METHOD:PUBLISH
X-WR-CALNAME:Beth Torah Congregation
X-ORIGINAL-URL:https://bethtorah.ca
X-WR-CALDESC:Events for Beth Torah Congregation
REFRESH-INTERVAL;VALUE=DURATION:PT1H
X-Robots-Tag:noindex
X-PUBLISHED-TTL:PT1H
BEGIN:VTIMEZONE
TZID:America/Toronto
BEGIN:DAYLIGHT
TZOFFSETFROM:-0500
TZOFFSETTO:-0400
TZNAME:EDT
DTSTART:20210314T070000
END:DAYLIGHT
BEGIN:STANDARD
TZOFFSETFROM:-0400
TZOFFSETTO:-0500
TZNAME:EST
DTSTART:20211107T060000
END:STANDARD
BEGIN:DAYLIGHT
TZOFFSETFROM:-0500
TZOFFSETTO:-0400
TZNAME:EDT
DTSTART:20220313T070000
END:DAYLIGHT
BEGIN:STANDARD
TZOFFSETFROM:-0400
TZOFFSETTO:-0500
TZNAME:EST
DTSTART:20221106T060000
END:STANDARD
BEGIN:DAYLIGHT
TZOFFSETFROM:-0500
TZOFFSETTO:-0400
TZNAME:EDT
DTSTART:20230312T070000
END:DAYLIGHT
BEGIN:STANDARD
TZOFFSETFROM:-0400
TZOFFSETTO:-0500
TZNAME:EST
DTSTART:20231105T060000
END:STANDARD
END:VTIMEZONE
BEGIN:VEVENT
DTSTART;TZID=America/Toronto:20221120T110000
DTEND;TZID=America/Toronto:20221120T123000
DTSTAMP:20260425T074843
CREATED:20221027T160054Z
LAST-MODIFIED:20221027T160346Z
UID:51003-1668942000-1668947400@bethtorah.ca
SUMMARY:B'Mitzvah Program: Shoresh
DESCRIPTION:B’Mitzvah Program: Shoresh\nSpend the day outside as we partner with Shoresh to learn about our Jewish responsibility to nature. We will be meeting at Earl Bales Park from 11 a.m.-12:30 p.m. \nBeth Torah’s 2022-2023 B’Mitzvah Program\nAre you celebrating a Bar / Bat Mitzvah in 2022/2023? \nJoin Beth Torah in partnership with Beth David and Beth Tikvah for an amazing experience with teens from throughout the Toronto Jewish community! \nThis is the program for you if… \n\nYou’re celebrating a B-Mitzvah this upcoming year… or this past year!\nYou enjoy making new friends (and seeing old ones)…\nYou’re tired of being told what being Jewish should mean to you\, and want to explore for yourself.\n\nOur team is looking forward to joining you on this journey to Jewish adulthood! Together we will learn about Judaism\, undertake Mitzvah projects\, play games\, go on exciting trips\, and much more. \nRegister for the B’Mitzvah program. For more information\, please contact Program@bethtorah.ca or call the Beth Torah office at (416) 782-4495. \n 
URL:https://bethtorah.ca/event/beth-torahs-2022-2023-bmitzvah-program-3/
LOCATION:Earl Bales Park\, 4169 Bathurst St\, North York\, Ontario\, M3H 3P7\, Canada
ATTACH;FMTTYPE=image/jpeg:https://bethtorah.ca/wp-content/uploads/48c3731d-9c7c-1561-f7c5-42791e0b101a.jpg
END:VEVENT
END:VCALENDAR