BEGIN:VCALENDAR
VERSION:2.0
PRODID:-//Beth Torah Congregation - ECPv6.15.20//NONSGML v1.0//EN
CALSCALE:GREGORIAN
METHOD:PUBLISH
X-ORIGINAL-URL:https://bethtorah.ca
X-WR-CALDESC:Events for Beth Torah Congregation
REFRESH-INTERVAL;VALUE=DURATION:PT1H
X-Robots-Tag:noindex
X-PUBLISHED-TTL:PT1H
BEGIN:VTIMEZONE
TZID:America/Toronto
BEGIN:DAYLIGHT
TZOFFSETFROM:-0500
TZOFFSETTO:-0400
TZNAME:EDT
DTSTART:20210314T070000
END:DAYLIGHT
BEGIN:STANDARD
TZOFFSETFROM:-0400
TZOFFSETTO:-0500
TZNAME:EST
DTSTART:20211107T060000
END:STANDARD
BEGIN:DAYLIGHT
TZOFFSETFROM:-0500
TZOFFSETTO:-0400
TZNAME:EDT
DTSTART:20220313T070000
END:DAYLIGHT
BEGIN:STANDARD
TZOFFSETFROM:-0400
TZOFFSETTO:-0500
TZNAME:EST
DTSTART:20221106T060000
END:STANDARD
BEGIN:DAYLIGHT
TZOFFSETFROM:-0500
TZOFFSETTO:-0400
TZNAME:EDT
DTSTART:20230312T070000
END:DAYLIGHT
BEGIN:STANDARD
TZOFFSETFROM:-0400
TZOFFSETTO:-0500
TZNAME:EST
DTSTART:20231105T060000
END:STANDARD
END:VTIMEZONE
BEGIN:VEVENT
DTSTART;TZID=America/Toronto:20220917T213000
DTEND;TZID=America/Toronto:20220918T000000
DTSTAMP:20260425T103913
CREATED:20220907T190237Z
LAST-MODIFIED:20220907T191130Z
UID:49779-1663450200-1663459200@bethtorah.ca
SUMMARY:Return Again: A Community Selihot Service of Shuvah
DESCRIPTION:Return Again: A Community Selihot Service of Shuvah\nSaturday\, September 17 | 9:30 p.m. at Beth Tzedec Congregation \nJoin us for an inspiring musical Selihot Service focusing on the theme of returning. Featuring Cantor Sidney Ezer\, Cantor David Edwards and Cantor Jeremy Burko\, accompanied on piano by Asher Farber\, with insightful readings and kavanot by Rabbi Steven Wernick and Rabbi Louis Sachs. \nWe begin the evening with a community Havdalah followed by the screening and discussion of the film “Forgiveness” by Rabbi Joseph Telushkin. We will conclude the night with our Selihot Service at 10:30 p.m. followed by a dessert reception. Then at midnight\, the Gates open! \nThere is no charge but registration is recommended. \n \n			\n				Register
URL:https://bethtorah.ca/event/return-again-a-community-selihot-service-of-shuvah/
LOCATION:Beth Tzedec Congregation\, 1700 Bathurst St\, Toronto\, Ontario\, M5P 3K3
ATTACH;FMTTYPE=image/jpeg:https://bethtorah.ca/wp-content/uploads/thumbnail_ReturnAgain_SelihotConcertFacebook2.jpg
END:VEVENT
END:VCALENDAR