BEGIN:VCALENDAR
VERSION:2.0
PRODID:-//Beth Torah Congregation - ECPv6.15.20//NONSGML v1.0//EN
CALSCALE:GREGORIAN
METHOD:PUBLISH
X-WR-CALNAME:Beth Torah Congregation
X-ORIGINAL-URL:https://bethtorah.ca
X-WR-CALDESC:Events for Beth Torah Congregation
REFRESH-INTERVAL;VALUE=DURATION:PT1H
X-Robots-Tag:noindex
X-PUBLISHED-TTL:PT1H
BEGIN:VTIMEZONE
TZID:America/Toronto
BEGIN:DAYLIGHT
TZOFFSETFROM:-0500
TZOFFSETTO:-0400
TZNAME:EDT
DTSTART:20210314T070000
END:DAYLIGHT
BEGIN:STANDARD
TZOFFSETFROM:-0400
TZOFFSETTO:-0500
TZNAME:EST
DTSTART:20211107T060000
END:STANDARD
BEGIN:DAYLIGHT
TZOFFSETFROM:-0500
TZOFFSETTO:-0400
TZNAME:EDT
DTSTART:20220313T070000
END:DAYLIGHT
BEGIN:STANDARD
TZOFFSETFROM:-0400
TZOFFSETTO:-0500
TZNAME:EST
DTSTART:20221106T060000
END:STANDARD
BEGIN:DAYLIGHT
TZOFFSETFROM:-0500
TZOFFSETTO:-0400
TZNAME:EDT
DTSTART:20230312T070000
END:DAYLIGHT
BEGIN:STANDARD
TZOFFSETFROM:-0400
TZOFFSETTO:-0500
TZNAME:EST
DTSTART:20231105T060000
END:STANDARD
END:VTIMEZONE
BEGIN:VEVENT
DTSTART;TZID=America/Toronto:20220617T060000
DTEND;TZID=America/Toronto:20220617T220000
DTSTAMP:20260425T150105
CREATED:20220526T231210Z
LAST-MODIFIED:20220610T170343Z
UID:27343-1655445600-1655503200@bethtorah.ca
SUMMARY:Toronto Pride Shabbat
DESCRIPTION:Toronto Pride Shabbat\nFriday\, June 17\, 2022 | 6:00 p.m.\nWychwood Barns Park \nThe month of Pride is a time for recognition and celebration. We do this through marching and dancing and by taking time to lift up 2SLGBTQ+ people in all cultures. Our annual Pride Shabbat dinner is an opportunity to gather as a diverse Jewish community and celebrate Pride together. \nWe look forward to gathering together again in person for the first time since 2019 at Wychwood Barns! This year’s event will include an inclusive\, welcome-to-all Kabbalat Shabbat service\, blessings\, a picnic-style dinner\, and lots of opportunities to connect with old friends and meet new ones. This event is 2SLGBTQ+ centred\, allies are welcome to attend. \nDinner will be ‘Bring Your Own’ picnic-style. Groups will be offered grape juice\, candles and mini challahs. We encourage you to bring your whole family! Children’s activities will be offered by Machane Lev camp for kids 7 to 16 years old. \nCost: $5 per adult\, Free for students/underemployed/children.\n			\n				Register
URL:https://bethtorah.ca/event/toronto-pride-shabbat/
LOCATION:Wychwood Barns Park\, 76 Wychwood Ave\, Toronto\, Ontario\, M6G 2X7\, Canada
ATTACH;FMTTYPE=image/jpeg:https://bethtorah.ca/wp-content/uploads/284204466_4903104709818749_2246093656612703457_n.jpg
END:VEVENT
END:VCALENDAR