BEGIN:VCALENDAR
VERSION:2.0
PRODID:-//Beth Torah Congregation - ECPv6.15.20//NONSGML v1.0//EN
CALSCALE:GREGORIAN
METHOD:PUBLISH
X-WR-CALNAME:Beth Torah Congregation
X-ORIGINAL-URL:https://bethtorah.ca
X-WR-CALDESC:Events for Beth Torah Congregation
REFRESH-INTERVAL;VALUE=DURATION:PT1H
X-Robots-Tag:noindex
X-PUBLISHED-TTL:PT1H
BEGIN:VTIMEZONE
TZID:America/Toronto
BEGIN:DAYLIGHT
TZOFFSETFROM:-0500
TZOFFSETTO:-0400
TZNAME:EDT
DTSTART:20210314T070000
END:DAYLIGHT
BEGIN:STANDARD
TZOFFSETFROM:-0400
TZOFFSETTO:-0500
TZNAME:EST
DTSTART:20211107T060000
END:STANDARD
BEGIN:DAYLIGHT
TZOFFSETFROM:-0500
TZOFFSETTO:-0400
TZNAME:EDT
DTSTART:20220313T070000
END:DAYLIGHT
BEGIN:STANDARD
TZOFFSETFROM:-0400
TZOFFSETTO:-0500
TZNAME:EST
DTSTART:20221106T060000
END:STANDARD
BEGIN:DAYLIGHT
TZOFFSETFROM:-0500
TZOFFSETTO:-0400
TZNAME:EDT
DTSTART:20230312T070000
END:DAYLIGHT
BEGIN:STANDARD
TZOFFSETFROM:-0400
TZOFFSETTO:-0500
TZNAME:EST
DTSTART:20231105T060000
END:STANDARD
END:VTIMEZONE
BEGIN:VEVENT
DTSTART;TZID=America/Toronto:20220518T190000
DTEND;TZID=America/Toronto:20220518T203000
DTSTAMP:20260425T161819
CREATED:20220414T221627Z
LAST-MODIFIED:20220415T152856Z
UID:19191-1652900400-1652905800@bethtorah.ca
SUMMARY:Jewish Patronage of the Silversmith Robert Hendery (1814 - 1897)
DESCRIPTION:Jewish Patronage of the Silversmith Robert Hendery (1814 – 1897)\nWith Special Focus on an Elijah Cup\nWednesday\, May 18\, 2022 | 7 p.m.Beth Torah Congregation \nJoin Beth Torah Member\, Dr. Ross Fox\, in a fascinating discussion about Silversmith Robert Hendery of Montreal. \n  \nMr Hendery ranks as Canada’s foremost silversmith of the late 19th century. Members of Montreal’s Jewish community numbered among his patrons\, both for secular and ceremonial pieces. An Elijah Cup\, the fifth cup for a Passover Seder\, stands prominently as a masterwork of early Canadian Judaica. \nRoss Fox is a Research Associate\, Royal Ontario Museum (formerly curator for Canadian Decorative Arts\, retired); and Assistant Professor (Sessional Instructor)\, Department of Art History\, University of Toronto. Fox has a PhD in Art History & Archaeology (University of Missouri) and MA in Museology (Wayne State University\, Detroit). \n			\n				Register
URL:https://bethtorah.ca/event/jewish-patronage-of-the-silversmith-robert-hendery-1814-1897/
LOCATION:47 Glenbrook Avenue\, 47 Glenbrook Avenue\, Toronto\, Ontario\, M6B 2L7\, Canada
ATTACH;FMTTYPE=image/jpeg:https://bethtorah.ca/wp-content/uploads/Robert_Hendery_140422-01-2-e1650036459691.jpg
END:VEVENT
END:VCALENDAR