BEGIN:VCALENDAR
VERSION:2.0
PRODID:-//Beth Torah Congregation - ECPv6.15.20//NONSGML v1.0//EN
CALSCALE:GREGORIAN
METHOD:PUBLISH
X-WR-CALNAME:Beth Torah Congregation
X-ORIGINAL-URL:https://bethtorah.ca
X-WR-CALDESC:Events for Beth Torah Congregation
REFRESH-INTERVAL;VALUE=DURATION:PT1H
X-Robots-Tag:noindex
X-PUBLISHED-TTL:PT1H
BEGIN:VTIMEZONE
TZID:America/Toronto
BEGIN:DAYLIGHT
TZOFFSETFROM:-0500
TZOFFSETTO:-0400
TZNAME:EDT
DTSTART:20210314T070000
END:DAYLIGHT
BEGIN:STANDARD
TZOFFSETFROM:-0400
TZOFFSETTO:-0500
TZNAME:EST
DTSTART:20211107T060000
END:STANDARD
BEGIN:DAYLIGHT
TZOFFSETFROM:-0500
TZOFFSETTO:-0400
TZNAME:EDT
DTSTART:20220313T070000
END:DAYLIGHT
BEGIN:STANDARD
TZOFFSETFROM:-0400
TZOFFSETTO:-0500
TZNAME:EST
DTSTART:20221106T060000
END:STANDARD
BEGIN:DAYLIGHT
TZOFFSETFROM:-0500
TZOFFSETTO:-0400
TZNAME:EDT
DTSTART:20230312T070000
END:DAYLIGHT
BEGIN:STANDARD
TZOFFSETFROM:-0400
TZOFFSETTO:-0500
TZNAME:EST
DTSTART:20231105T060000
END:STANDARD
END:VTIMEZONE
BEGIN:VEVENT
DTSTART;TZID=America/Toronto:20220515T160000
DTEND;TZID=America/Toronto:20220515T180000
DTSTAMP:20260425T161818
CREATED:20220429T201634Z
LAST-MODIFIED:20220512T183234Z
UID:20458-1652630400-1652637600@bethtorah.ca
SUMMARY:Meet Rabbi Sachs: Family Meet
DESCRIPTION:Meet Rabbi Sachs\nWe are very excited to welcome Rabbi Louis Sachs to Our Beth Torah community! \nThis Sunday we will be a family meet and greet event. Join us for ice cream and treats and get to know Rabbi Sachs. \nTo help plan for numbers we ask that you RSVP by filling out this form. \n 
URL:https://bethtorah.ca/event/meet-rabbi-sachs/
LOCATION:47 Glenbrook Avenue\, 47 Glenbrook Avenue\, Toronto\, Ontario\, M6B 2L7\, Canada
ATTACH;FMTTYPE=image/png:https://bethtorah.ca/wp-content/uploads/Rabbi_IceCream_120522-01.png
END:VEVENT
END:VCALENDAR