BEGIN:VCALENDAR
VERSION:2.0
PRODID:-//Beth Torah Congregation - ECPv6.15.20//NONSGML v1.0//EN
CALSCALE:GREGORIAN
METHOD:PUBLISH
X-ORIGINAL-URL:https://bethtorah.ca
X-WR-CALDESC:Events for Beth Torah Congregation
REFRESH-INTERVAL;VALUE=DURATION:PT1H
X-Robots-Tag:noindex
X-PUBLISHED-TTL:PT1H
BEGIN:VTIMEZONE
TZID:America/Toronto
BEGIN:DAYLIGHT
TZOFFSETFROM:-0500
TZOFFSETTO:-0400
TZNAME:EDT
DTSTART:20210314T070000
END:DAYLIGHT
BEGIN:STANDARD
TZOFFSETFROM:-0400
TZOFFSETTO:-0500
TZNAME:EST
DTSTART:20211107T060000
END:STANDARD
BEGIN:DAYLIGHT
TZOFFSETFROM:-0500
TZOFFSETTO:-0400
TZNAME:EDT
DTSTART:20220313T070000
END:DAYLIGHT
BEGIN:STANDARD
TZOFFSETFROM:-0400
TZOFFSETTO:-0500
TZNAME:EST
DTSTART:20221106T060000
END:STANDARD
BEGIN:DAYLIGHT
TZOFFSETFROM:-0500
TZOFFSETTO:-0400
TZNAME:EDT
DTSTART:20230312T070000
END:DAYLIGHT
BEGIN:STANDARD
TZOFFSETFROM:-0400
TZOFFSETTO:-0500
TZNAME:EST
DTSTART:20231105T060000
END:STANDARD
END:VTIMEZONE
BEGIN:VEVENT
DTSTART;TZID=America/Toronto:20220309T190000
DTEND;TZID=America/Toronto:20220309T200000
DTSTAMP:20260425T201852
CREATED:20220211T033114Z
LAST-MODIFIED:20220211T033622Z
UID:13750-1646852400-1646856000@bethtorah.ca
SUMMARY:Evenings with Steve: Diplomacy and Israel's Political Future
DESCRIPTION:Evenings with Steve: Diplomacy and Israel’s Political Future\n\nWednesday\, March 9 at 7:00 p.m. \nJoin Steve Skurka LLB\, for his winter series\, as he continues to interview those who have made a mark on our community. \nIn this session\, the topic of Diplomacy and Israel’s Political Future will be discussed with Dennis Ross. \nDennis Ross is a former U.S. Middle East peace envoy and an author. \n\n\n\n			\n				Register
URL:https://bethtorah.ca/event/evenings-with-steve-diplomacy-and-israels-political-future/
LOCATION:47 Glenbrook Avenue\, Toronto\, Ontario\, M6B 2L7\, Canada
ATTACH;FMTTYPE=image/jpeg:https://bethtorah.ca/wp-content/uploads/EveningWithSteve_Diplomacy_011022-01.jpg
END:VEVENT
END:VCALENDAR