BEGIN:VCALENDAR
VERSION:2.0
PRODID:-//Beth Torah Congregation - ECPv6.15.20//NONSGML v1.0//EN
CALSCALE:GREGORIAN
METHOD:PUBLISH
X-WR-CALNAME:Beth Torah Congregation
X-ORIGINAL-URL:https://bethtorah.ca
X-WR-CALDESC:Events for Beth Torah Congregation
REFRESH-INTERVAL;VALUE=DURATION:PT1H
X-Robots-Tag:noindex
X-PUBLISHED-TTL:PT1H
BEGIN:VTIMEZONE
TZID:America/Toronto
BEGIN:DAYLIGHT
TZOFFSETFROM:-0500
TZOFFSETTO:-0400
TZNAME:EDT
DTSTART:20210314T070000
END:DAYLIGHT
BEGIN:STANDARD
TZOFFSETFROM:-0400
TZOFFSETTO:-0500
TZNAME:EST
DTSTART:20211107T060000
END:STANDARD
BEGIN:DAYLIGHT
TZOFFSETFROM:-0500
TZOFFSETTO:-0400
TZNAME:EDT
DTSTART:20220313T070000
END:DAYLIGHT
BEGIN:STANDARD
TZOFFSETFROM:-0400
TZOFFSETTO:-0500
TZNAME:EST
DTSTART:20221106T060000
END:STANDARD
BEGIN:DAYLIGHT
TZOFFSETFROM:-0500
TZOFFSETTO:-0400
TZNAME:EDT
DTSTART:20230312T070000
END:DAYLIGHT
BEGIN:STANDARD
TZOFFSETFROM:-0400
TZOFFSETTO:-0500
TZNAME:EST
DTSTART:20231105T060000
END:STANDARD
END:VTIMEZONE
BEGIN:VEVENT
DTSTART;TZID=America/Toronto:20220223T190000
DTEND;TZID=America/Toronto:20220223T200000
DTSTAMP:20260425T213735
CREATED:20220211T025435Z
LAST-MODIFIED:20220211T025739Z
UID:13727-1645642800-1645646400@bethtorah.ca
SUMMARY:Evenings with Steve: Racism in Sports
DESCRIPTION:Evenings with Steve: Racism in Sports\nWednesday\, February 23 at 7:00 p.m. \nJoin Steve Skurka LLB\, for his winter series\, as he continues to interview those who have made a mark on our community. \nIn this session\, we will explore Racism in Sports with Patricia Holmes and Rick Westhead. \nPatricia Holmes is the Managing Partner of the U.S. national law firm Riley Safer Holmes & Cancila. \nRick Westhead is a TSN Senior Correspondent and award-winning investigative journalist. \n			\n				Register
URL:https://bethtorah.ca/event/evenings-with-steve-racism-in-sports/
LOCATION:47 Glenbrook Avenue\, Toronto\, Ontario\, M6B 2L7\, Canada
ATTACH;FMTTYPE=image/jpeg:https://bethtorah.ca/wp-content/uploads/Evenings-with-Steve-Feb-23-01.jpg
END:VEVENT
END:VCALENDAR