BEGIN:VCALENDAR
VERSION:2.0
PRODID:-//Beth Torah Congregation - ECPv6.15.20//NONSGML v1.0//EN
CALSCALE:GREGORIAN
METHOD:PUBLISH
X-ORIGINAL-URL:https://bethtorah.ca
X-WR-CALDESC:Events for Beth Torah Congregation
REFRESH-INTERVAL;VALUE=DURATION:PT1H
X-Robots-Tag:noindex
X-PUBLISHED-TTL:PT1H
BEGIN:VTIMEZONE
TZID:America/Toronto
BEGIN:DAYLIGHT
TZOFFSETFROM:-0500
TZOFFSETTO:-0400
TZNAME:EDT
DTSTART:20210314T070000
END:DAYLIGHT
BEGIN:STANDARD
TZOFFSETFROM:-0400
TZOFFSETTO:-0500
TZNAME:EST
DTSTART:20211107T060000
END:STANDARD
BEGIN:DAYLIGHT
TZOFFSETFROM:-0500
TZOFFSETTO:-0400
TZNAME:EDT
DTSTART:20220313T070000
END:DAYLIGHT
BEGIN:STANDARD
TZOFFSETFROM:-0400
TZOFFSETTO:-0500
TZNAME:EST
DTSTART:20221106T060000
END:STANDARD
BEGIN:DAYLIGHT
TZOFFSETFROM:-0500
TZOFFSETTO:-0400
TZNAME:EDT
DTSTART:20230312T070000
END:DAYLIGHT
BEGIN:STANDARD
TZOFFSETFROM:-0400
TZOFFSETTO:-0500
TZNAME:EST
DTSTART:20231105T060000
END:STANDARD
END:VTIMEZONE
BEGIN:VEVENT
DTSTART;TZID=America/Toronto:20220130T130000
DTEND;TZID=America/Toronto:20220130T143000
DTSTAMP:20260425T213734
CREATED:20211229T195918Z
LAST-MODIFIED:20220106T223324Z
UID:8637-1643547600-1643553000@bethtorah.ca
SUMMARY:Essential Jewish Food: An Online Culinary Series
DESCRIPTION:Essential Jewish Food: An Online Culinary SeriesWorkshop #2: Montreal Bagels\,Sunday\, January 30\, 1:00 p.m. via Zoom \nQuit buying your Jewish essentials from the store and learn how to make them in your very own kitchen. Each workshop in our series will feature traditional Jewish food and provide detailed guidance on making each one at home. \nLearn to make authentic Montreal bagels with Kat Romanow of The Wandering Chew\, so you can get the full Montreal experience no matter how far you live from a woodburning bagel oven. We all know that St-Viateur and Fairmount make the best bagels in the city\, but did you know that you can easily make them too?! With some minimal pantry ingredients\, Kat will be teaching you how to roll\, boil\, and bake a classic Montreal bagel. It’s easier than you think to get the real deal right in your own kitchen.  \nWorkshops are free to join and will be virtual. Registration is mandatory to receive grocery lists and login information. \nAbout Kat and The Wandering Chew: \nKat is a Jewish food historian\, mother\, and recipe developer in Montreal. Her background includes an MA in Judaic studies and food studies\, a position as the Director of Food programming at the Museum of Jewish Montreal where she created the walking tour Beyond the Bagel\, and founded Fletchers Espace Culinaire\, a restaurant that served modern Jewish food. She is passionate about using food as a medium to teach people about Jewish culture and history\, and hopes to create a more inclusive Jewish community through her work. Her favourite Jewish foods are Montreal bagels\, sabich and chopped liver.  \nThe Wandering Chew is a women-led not-for-profit whose mission is to share the diversity of Jewish stories through food. \n			\n				Register Here
URL:https://bethtorah.ca/event/essential-jewish-food-an-online-culinary-series-2/
LOCATION:47 Glenbrook Avenue\, Toronto\, Ontario\, M6B 2L7\, Canada
ATTACH;FMTTYPE=image/jpeg:https://bethtorah.ca/wp-content/uploads/15jewish1-superJumbo.jpg
END:VEVENT
END:VCALENDAR