BEGIN:VCALENDAR
VERSION:2.0
PRODID:-//Beth Torah Congregation - ECPv6.15.20//NONSGML v1.0//EN
CALSCALE:GREGORIAN
METHOD:PUBLISH
X-ORIGINAL-URL:https://bethtorah.ca
X-WR-CALDESC:Events for Beth Torah Congregation
REFRESH-INTERVAL;VALUE=DURATION:PT1H
X-Robots-Tag:noindex
X-PUBLISHED-TTL:PT1H
BEGIN:VTIMEZONE
TZID:America/Toronto
BEGIN:DAYLIGHT
TZOFFSETFROM:-0500
TZOFFSETTO:-0400
TZNAME:EDT
DTSTART:20210314T070000
END:DAYLIGHT
BEGIN:STANDARD
TZOFFSETFROM:-0400
TZOFFSETTO:-0500
TZNAME:EST
DTSTART:20211107T060000
END:STANDARD
BEGIN:DAYLIGHT
TZOFFSETFROM:-0500
TZOFFSETTO:-0400
TZNAME:EDT
DTSTART:20220313T070000
END:DAYLIGHT
BEGIN:STANDARD
TZOFFSETFROM:-0400
TZOFFSETTO:-0500
TZNAME:EST
DTSTART:20221106T060000
END:STANDARD
BEGIN:DAYLIGHT
TZOFFSETFROM:-0500
TZOFFSETTO:-0400
TZNAME:EDT
DTSTART:20230312T070000
END:DAYLIGHT
BEGIN:STANDARD
TZOFFSETFROM:-0400
TZOFFSETTO:-0500
TZNAME:EST
DTSTART:20231105T060000
END:STANDARD
END:VTIMEZONE
BEGIN:VEVENT
DTSTART;TZID=America/Toronto:20220126T190000
DTEND;TZID=America/Toronto:20220126T203000
DTSTAMP:20260425T224555
CREATED:20220113T214913Z
LAST-MODIFIED:20220113T215335Z
UID:10714-1643223600-1643229000@bethtorah.ca
SUMMARY:Evenings with Steve: Hate on Trial
DESCRIPTION:Evenings with Steve Returns\nWednesday\, January 26 at 7:00 p.m. \nJoin Steve Skurka LLB\, for his winter series\, as he continues to interview those who have made a mark on our community. \nHis next session is titled\, “Hate on Trial: Prosecuting Hate Crime in Canada.” And will feature two distinguished criminal lawyers: Annamaria Enenajor & Mark Sandler. \nThe event is presented in partnership with Beth Sholom.  Registration is required. \n			\n				Register
URL:https://bethtorah.ca/event/evenings-with-steve-hate-on-trial/
LOCATION:47 Glenbrook Avenue\, Toronto\, Ontario\, M6B 2L7\, Canada
ATTACH;FMTTYPE=image/jpeg:https://bethtorah.ca/wp-content/uploads/EveningWithSteve_website_011122-01.jpg
END:VEVENT
END:VCALENDAR