BEGIN:VCALENDAR
VERSION:2.0
PRODID:-//Beth Torah Congregation - ECPv6.15.20//NONSGML v1.0//EN
CALSCALE:GREGORIAN
METHOD:PUBLISH
X-WR-CALNAME:Beth Torah Congregation
X-ORIGINAL-URL:https://bethtorah.ca
X-WR-CALDESC:Events for Beth Torah Congregation
REFRESH-INTERVAL;VALUE=DURATION:PT1H
X-Robots-Tag:noindex
X-PUBLISHED-TTL:PT1H
BEGIN:VTIMEZONE
TZID:America/Toronto
BEGIN:DAYLIGHT
TZOFFSETFROM:-0500
TZOFFSETTO:-0400
TZNAME:EDT
DTSTART:20200308T070000
END:DAYLIGHT
BEGIN:STANDARD
TZOFFSETFROM:-0400
TZOFFSETTO:-0500
TZNAME:EST
DTSTART:20201101T060000
END:STANDARD
BEGIN:DAYLIGHT
TZOFFSETFROM:-0500
TZOFFSETTO:-0400
TZNAME:EDT
DTSTART:20210314T070000
END:DAYLIGHT
BEGIN:STANDARD
TZOFFSETFROM:-0400
TZOFFSETTO:-0500
TZNAME:EST
DTSTART:20211107T060000
END:STANDARD
BEGIN:DAYLIGHT
TZOFFSETFROM:-0500
TZOFFSETTO:-0400
TZNAME:EDT
DTSTART:20220313T070000
END:DAYLIGHT
BEGIN:STANDARD
TZOFFSETFROM:-0400
TZOFFSETTO:-0500
TZNAME:EST
DTSTART:20221106T060000
END:STANDARD
END:VTIMEZONE
BEGIN:VEVENT
DTSTART;TZID=America/Toronto:20211205T140000
DTEND;TZID=America/Toronto:20211205T160000
DTSTAMP:20260426T000659
CREATED:20211105T165519Z
LAST-MODIFIED:20211105T165755Z
UID:6608-1638712800-1638720000@bethtorah.ca
SUMMARY:Family Chanukah
DESCRIPTION:Family ChanukahSunday\, December 5\, 2:00 – 4:00 pm \nJoin us for a delightful afternoon of light\, latkes and lively activities. Including obstacle course\, crafts\, photobooth\, games\, delicious chanukah snacks and much more. \nAll ages are welcome. Event is free of charge. \nChildren must be accompanied by a fully-vaccinated adult. COVID protocols will be in place to assure a safe and happy afternoon for all. \n			\n				Register Here
URL:https://bethtorah.ca/event/family-chanukah/
LOCATION:47 Glenbrook Avenue\, Toronto\, Ontario\, M6B 2L7\, Canada
ATTACH;FMTTYPE=image/png:https://bethtorah.ca/wp-content/uploads/ef0d0a19226c377aa1389c42ae353faf9412bb00.png
END:VEVENT
END:VCALENDAR